BEGIN:VCALENDAR
VERSION:2.0
PRODID:-//Teosofisk Forening København - ECPv6.15.20//NONSGML v1.0//EN
CALSCALE:GREGORIAN
METHOD:PUBLISH
X-ORIGINAL-URL:https://teosofiskforening.dk
X-WR-CALDESC:Begivenheder for Teosofisk Forening København
REFRESH-INTERVAL;VALUE=DURATION:PT1H
X-Robots-Tag:noindex
X-PUBLISHED-TTL:PT1H
BEGIN:VTIMEZONE
TZID:Europe/Copenhagen
BEGIN:DAYLIGHT
TZOFFSETFROM:+0100
TZOFFSETTO:+0200
TZNAME:CEST
DTSTART:20250330T010000
END:DAYLIGHT
BEGIN:STANDARD
TZOFFSETFROM:+0200
TZOFFSETTO:+0100
TZNAME:CET
DTSTART:20251026T010000
END:STANDARD
BEGIN:DAYLIGHT
TZOFFSETFROM:+0100
TZOFFSETTO:+0200
TZNAME:CEST
DTSTART:20260329T010000
END:DAYLIGHT
BEGIN:STANDARD
TZOFFSETFROM:+0200
TZOFFSETTO:+0100
TZNAME:CET
DTSTART:20261025T010000
END:STANDARD
BEGIN:DAYLIGHT
TZOFFSETFROM:+0100
TZOFFSETTO:+0200
TZNAME:CEST
DTSTART:20270328T010000
END:DAYLIGHT
BEGIN:STANDARD
TZOFFSETFROM:+0200
TZOFFSETTO:+0100
TZNAME:CET
DTSTART:20271031T010000
END:STANDARD
END:VTIMEZONE
BEGIN:VEVENT
DTSTART;TZID=Europe/Copenhagen:20260622T180000
DTEND;TZID=Europe/Copenhagen:20260622T203000
DTSTAMP:20260421T062835
CREATED:20260118T223600Z
LAST-MODIFIED:20260118T223600Z
UID:10002425-1782151200-1782160200@teosofiskforening.dk
SUMMARY:SPIRITUEL SOMMERSOLHVERV ved Den Indre Sol
DESCRIPTION:BEMÆRK\, DER ER 2 ARRANGEMENTER og TIDSPUNKTER:\nSommersolhvervsceremoni\nMeditativ Cirkeldans\, Fri dans\, Sommersang og Kanaliseringsmeditation \n Tidspunkt: kl. 18-18.45 – Entré: 25 kr. \nSommersolhvervsmeditation\nÅndedrætsmeditation\, Meditativ Cirkeldans\, Fri dans\, Forårssang og Jordhealingsmeditation \n Tidspunkt: kl. 19-20.30 – Entré: 25 kr. \n  \n  \nDen Åndelige Begivenhed ved Sommersolhverv \nKom og vær med til at fejre sommerens komme! \nKom og vær med til at lave lysarbejde i Sommerens Kærlighedsstrøm \n  \nVed jævndøgn og solhverv er der nogle særligt stærke kosmiske indstrømninger på Jorden\, som gør det særligt gavnligt for Lysarbejdere at meditere på disse tidspunkter. \n  \nVed Sommersolhverv Lader Gyldne Kristus\, Den Gyldne Kristus Flamme\, strømme særligt aktivt ind i Jorden\, for at rense og forvandle Jorden\, for at åbne Jorden endnu dybere for at modtage den guddommelige kærlighedsstrøm og Helligåndens belivende kærlighedskraft herigennem.\nDette får naturens mange gaver til at fortsætte med at vokse og folde sig ud.\nHelligåndens rene kærlighedslys får det karmiske lag af kollektivt mørke og negativitet til at komme op til overfladen\, klar til at blive forvandlet i det kommende efterår. \nUd over dette lader Sommerens Solengel sin kærlighed strømme ind i Jorden\, hvilket virker hele sommeren igennem indtil efterårsjævndøgn. \n  \n \nZiadria og Michael \nFor nærmere oplysning kontakt:\nHjertehealingshuset Den Indre Sol\nCentret for Ny Tids Lysarbejde v/Ziadria og Michael \nSkovvej 17 A\, 4291 Ruds Vedby – Tlf: 61 33 05 08 – Mail: denindresol@gmail.com\nwww.facebook.com/denindresol \n  \nSted: Teosofisk Forening\, Sankt Knuds Vej 27 A\, 1903 Frederiksberg \nVi glæder os til at fejre Sommersolhverv sammen med dig/jer! \n Ingen tilmelding – bare kom – alle er velkomne! \n  \nID: 260622DISffnTFK \n 
URL:https://teosofiskforening.dk/begivenhed/spirituel-sommersolhverv-ved-den-indre-sol/
LOCATION:Teosofisk Forening København\, Sankt Knuds Vej 27A\, Frederiksberg C\, København\, 1903\, Danmark
CATEGORIES:Lukket gruppe,Meditation
ATTACH;FMTTYPE=image/jpeg:https://teosofiskforening.dk/wp-content/uploads/2025/02/2025.06.22-Sommerjaevndoegn-illustration-320x214-1.jpg
GEO:55.677929;12.549129
X-APPLE-STRUCTURED-LOCATION;VALUE=URI;X-ADDRESS=Teosofisk Forening København Sankt Knuds Vej 27A Frederiksberg C København 1903 Danmark;X-APPLE-RADIUS=500;X-TITLE=Sankt Knuds Vej 27A:geo:12.549129,55.677929
END:VEVENT
BEGIN:VEVENT
DTSTART;TZID=Europe/Copenhagen:20260624T173000
DTEND;TZID=Europe/Copenhagen:20260624T190000
DTSTAMP:20260421T062835
CREATED:20250110T172313Z
LAST-MODIFIED:20250110T172502Z
UID:10001974-1782322200-1782327600@teosofiskforening.dk
SUMMARY:Hearts and Hands Healing
DESCRIPTION:Gratis healing Er du syg\, i krise eller søgende\, er du velkommen til at møde op i Teosofisk Forenings lokaler\, hvor Hearts and Hands terapeuterne er klar til at tage imod hver onsdag fra kl. 18.00 – 19.00 Der er ingen forudbestilling. Healingen er ikke en erstatning for lægehjælp\, men et supplement til denne.  \n\n\n\n\n\nOm Hearts & Hands \n\n\n\nHearts & Hands er en organisation af frivillige\, der tilbyder gratis healing. Alle er velkomne. \n\n\n\n\nVores formål er at tilbyde gratis healing og derigennem hjælp til selvhjælp\n\n\n\nVi er ikke tilknyttet en bestemt religion\, spirituel eller religiøs retning\n\n\n\nVi består af frivillige healere\, der stiller tid og evner til rådighed\n\n\n\nHealerne i Hearts & Hands har tavshedspligt\, arbejder anonymt og i stilhed\n\n\n\nNår du modtager healing i Hearts and Hands\, får du ingen råd\, vejledning\, diagnose eller clairvoyante beskeder. Du modtager blot healing i stilhed\n\n\n\nAlle i Hearts & Hands arbejder ud fra et fælles Code of Conduct og etiske retningslinjer\n\n\n\nHearts & Hands eksisterer på baggrund af donationer\n\n\n\nHearts & Hands blev stiftet i 2003 på initiativ af Lars Muhl\n\n \n\n\n\n\n\n\n  \n\n\n\nFor yderligere oplysninger: Hearts and Hands 
URL:https://teosofiskforening.dk/begivenhed/hearts-and-hands-healing/2026-06-24/
LOCATION:Teosofisk Forening København\, Sankt Knuds Vej 27A\, Frederiksberg C\, København\, 1903\, Danmark
CATEGORIES:Studiegruppe
GEO:55.677929;12.549129
X-APPLE-STRUCTURED-LOCATION;VALUE=URI;X-ADDRESS=Teosofisk Forening København Sankt Knuds Vej 27A Frederiksberg C København 1903 Danmark;X-APPLE-RADIUS=500;X-TITLE=Sankt Knuds Vej 27A:geo:12.549129,55.677929
END:VEVENT
END:VCALENDAR