BEGIN:VCALENDAR
VERSION:2.0
PRODID:-//Teosofisk Forening København - ECPv6.15.20//NONSGML v1.0//EN
CALSCALE:GREGORIAN
METHOD:PUBLISH
X-ORIGINAL-URL:https://teosofiskforening.dk
X-WR-CALDESC:Begivenheder for Teosofisk Forening København
REFRESH-INTERVAL;VALUE=DURATION:PT1H
X-Robots-Tag:noindex
X-PUBLISHED-TTL:PT1H
BEGIN:VTIMEZONE
TZID:Europe/Copenhagen
BEGIN:DAYLIGHT
TZOFFSETFROM:+0100
TZOFFSETTO:+0200
TZNAME:CEST
DTSTART:20250330T010000
END:DAYLIGHT
BEGIN:STANDARD
TZOFFSETFROM:+0200
TZOFFSETTO:+0100
TZNAME:CET
DTSTART:20251026T010000
END:STANDARD
BEGIN:DAYLIGHT
TZOFFSETFROM:+0100
TZOFFSETTO:+0200
TZNAME:CEST
DTSTART:20260329T010000
END:DAYLIGHT
BEGIN:STANDARD
TZOFFSETFROM:+0200
TZOFFSETTO:+0100
TZNAME:CET
DTSTART:20261025T010000
END:STANDARD
BEGIN:DAYLIGHT
TZOFFSETFROM:+0100
TZOFFSETTO:+0200
TZNAME:CEST
DTSTART:20270328T010000
END:DAYLIGHT
BEGIN:STANDARD
TZOFFSETFROM:+0200
TZOFFSETTO:+0100
TZNAME:CET
DTSTART:20271031T010000
END:STANDARD
END:VTIMEZONE
BEGIN:VEVENT
DTSTART;TZID=Europe/Copenhagen:20260414T190000
DTEND;TZID=Europe/Copenhagen:20260414T213000
DTSTAMP:20260422T214552
CREATED:20260110T223728Z
LAST-MODIFIED:20260113T143020Z
UID:10002415-1776193200-1776202200@teosofiskforening.dk
SUMMARY:AT BYGGE EN BRO AF FORBUNDETHED TIL NATUREN\, foredrag ved Rikke Agersted
DESCRIPTION:Menneske og natur hører sammen\, selvom vi tilsyneladende i Vesten har glemt denne grundlæggende sandhed. De shamanistiske veje fører os tilbage til en gensidig udveksling med naturen og åndeverdenen\, og alle kan lære\, hvordan man forbinder sig i kærlig udveksling med Moder Natur og alle de andre naturånder\, som vi lever side om side med i dagligdagen. \n  \nHvorfor skal man forbinde sig til naturen\, spørger nogle måske? Af samme grund som vi trækker vejret. Den menneskelige eksistens hænger uløseligt sammen med den verden\, vi lever i. Uden Moder Jord ville vi ikke have mad\, medicin\, tøj på kroppen\, huse\, varme osv. Men et eller andet sted i den menneskelige udviklingsproces har vi glemt respekten og ydmygheden. Vi har glemt at give igen og være taknemmelig for de gaver\, naturen giver os. \nRikke Agersted fra Den Shamanistiske Vej fortæller\, hvordan vi mennesker igen kan bygge en stærk bro til naturen og den visdom\, den rummer. Vi kan alle være med til at styrke den navlestreng\, vi er så godt i gang med at klippe over. Det kræver bevidsthed i dagligdagen\, dedikation og viljen til at visualisere en smuk fremtid\, hvor mennesker\, dyr\, planter og åndeverden balancerer i gensidig respekt\, omsorg og udveksling. Kom og bliv inspireret til at være medskaber af en bedre fremtid. \nForedraget bliver ikke streamet\, så mød op personligt og mærk energien\, når vi mødes omkring den fælles kærlighed til naturen og den vidunderlige verden\, vi er en del af. \n  \nPris: 100/140 kr. for medlemmer/gæster.\nBetaling: Beløbet betales ved indgangen. \n  \n \n  \n  \n  \nRikke Agersted er kvinden bag firmaet Den Shamanistiske Vej\, som ligger i Haslev.\nRikke har i 23 år arbejdet med shamanistiske traditioner fra Syd- og Nordamerika\, men det er Inkatraditionen fra Peru\, som er blevet den røde tråd i hendes virke. \nwww.denshamanistiskevej.dk \n  \n  \n  \n  \n  \n#shamanisme \nID: 260414RAGffnTFK \n 
URL:https://teosofiskforening.dk/begivenhed/at-bygge-en-bro-af-forbundethed-til-naturen-foredrag-ved-rikke-agersted/
LOCATION:Teosofisk Forening København\, Sankt Knuds Vej 27A\, Frederiksberg C\, København\, 1903\, Danmark
CATEGORIES:Tirsdagsforedrag
ATTACH;FMTTYPE=image/jpeg:https://teosofiskforening.dk/wp-content/uploads/2026/01/2026.04.14-Rikke-Agersted-illustration-320x214-1.jpg
GEO:55.677929;12.549129
X-APPLE-STRUCTURED-LOCATION;VALUE=URI;X-ADDRESS=Teosofisk Forening København Sankt Knuds Vej 27A Frederiksberg C København 1903 Danmark;X-APPLE-RADIUS=500;X-TITLE=Sankt Knuds Vej 27A:geo:12.549129,55.677929
END:VEVENT
BEGIN:VEVENT
DTSTART;TZID=Europe/Copenhagen:20260415T173000
DTEND;TZID=Europe/Copenhagen:20260415T190000
DTSTAMP:20260422T214552
CREATED:20250110T172313Z
LAST-MODIFIED:20250110T172502Z
UID:10001964-1776274200-1776279600@teosofiskforening.dk
SUMMARY:Hearts and Hands Healing
DESCRIPTION:Gratis healing Er du syg\, i krise eller søgende\, er du velkommen til at møde op i Teosofisk Forenings lokaler\, hvor Hearts and Hands terapeuterne er klar til at tage imod hver onsdag fra kl. 18.00 – 19.00 Der er ingen forudbestilling. Healingen er ikke en erstatning for lægehjælp\, men et supplement til denne.  \n\n\n\n\n\nOm Hearts & Hands \n\n\n\nHearts & Hands er en organisation af frivillige\, der tilbyder gratis healing. Alle er velkomne. \n\n\n\n\nVores formål er at tilbyde gratis healing og derigennem hjælp til selvhjælp\n\n\n\nVi er ikke tilknyttet en bestemt religion\, spirituel eller religiøs retning\n\n\n\nVi består af frivillige healere\, der stiller tid og evner til rådighed\n\n\n\nHealerne i Hearts & Hands har tavshedspligt\, arbejder anonymt og i stilhed\n\n\n\nNår du modtager healing i Hearts and Hands\, får du ingen råd\, vejledning\, diagnose eller clairvoyante beskeder. Du modtager blot healing i stilhed\n\n\n\nAlle i Hearts & Hands arbejder ud fra et fælles Code of Conduct og etiske retningslinjer\n\n\n\nHearts & Hands eksisterer på baggrund af donationer\n\n\n\nHearts & Hands blev stiftet i 2003 på initiativ af Lars Muhl\n\n \n\n\n\n\n\n\n  \n\n\n\nFor yderligere oplysninger: Hearts and Hands 
URL:https://teosofiskforening.dk/begivenhed/hearts-and-hands-healing/2026-04-15/
LOCATION:Teosofisk Forening København\, Sankt Knuds Vej 27A\, Frederiksberg C\, København\, 1903\, Danmark
CATEGORIES:Studiegruppe
GEO:55.677929;12.549129
X-APPLE-STRUCTURED-LOCATION;VALUE=URI;X-ADDRESS=Teosofisk Forening København Sankt Knuds Vej 27A Frederiksberg C København 1903 Danmark;X-APPLE-RADIUS=500;X-TITLE=Sankt Knuds Vej 27A:geo:12.549129,55.677929
END:VEVENT
BEGIN:VEVENT
DTSTART;TZID=Europe/Copenhagen:20260417T160000
DTEND;TZID=Europe/Copenhagen:20260417T180000
DTSTAMP:20260422T214552
CREATED:20260306T230933Z
LAST-MODIFIED:20260326T230901Z
UID:10002426-1776441600-1776448800@teosofiskforening.dk
SUMMARY:Indkaldelse til generalforsamling i Teosofisk Forening
DESCRIPTION:Der afholdes ordinær generalforsamling i Teosofisk Forening København \n  \nFredag d. 17. april 2026 kl. 16.00\nSankt Knuds Vej 27A\, 1903 Frederiksberg C. \n  \n  \n\n\n\n‍Kære Medlemmer \nVi glæder os til at se jer til årets generalforsamling! \nVi vil i år begynde generalforsamlingen med lidt festlig stemning med\ndejlige sange og musikalsk akkompagnement ved Cathrine Nordseth. \n\nUndervejs byder vi på kaffe\, te og friskbagte boller. \nUd over den sædvanlige dagsorden har vi i år tilføjet et ekstra punkt (punkt 11)\, hvor vi glæder os til en inspirerende snak om\, hvordan vi kan engagere en ny generation i foreningen – og gøre den endnu mere attraktiv for os alle. \nMange hilsner \nBestyrelsen \n\n  \nDAGSORDEN1. Valg af dirigent \n2. Valg af referent og stemmetæller \n3. Konstatering af stemmetal og fuldmagter \n4. Beretning fra formanden \n5. Fremlæggelse af det reviderede regnskab og budget til godkendelse \n6. Behandling af indkomne forslag\na: Ingen indkomne forslag\nb. Forslag til vedtægtsændringer fra bestyrelsen\, se nederst \n7. Valg af bestyrelse og suppleanter\na. der vælges 2 bestyrelsesmedlemmer for 2 år\nb. der vælges 2 Suppleanter for 1 år \n8. Valg af kasserer \n9. Valg af revisor og revisorsuppleant \n10. Eventuelt \n11. Dine forslag til en endnu bedre Teosofisk Forening \n  \n  \n\nForslag til vedtægtsændring\nAf Lone Samuelsson\, kasserer\, Roskilde 7/3 2026\nJeg foreslår §7 stk 1 og 4 i vores vedtægter\, der vedrører valg af bestyrelse mm ændret.\nBegrundelse.\nBåde Merkur Bank og MasterCard (den nuværende ejer af BetalingsService) forstår vores\nvedtægter således\, at der skal være 6 medlemmer af bestyrelsen\, hvis kassereren er\nbestyrelsesmedlem. De forstår stk. 1 som\, at der vælges formand\, kasserer og 4\nbestyrelsesmedlemmer – altså i alt 6 personer.\nDe forstår så stk. 4 således\, at ud af de 6 personer\, behøver kun de 5 være medlem af\nbestyrelsen\, men der skal være 6 forskellige personer.\nSom det er nu\, er jeg både kasserer og medlem af bestyrelsen og de mener så\, at bestyrelsen\nburde bestå af 6 personer. Før var Inger kasserer og ikke medlem af bestyrelsen\, og\nbestyrelsen skulle så kun bestå af 5 personer. Det har både Andreas og jeg brugt en del tid på\nsidste forår.\nDe nuværende paragraffer lyder:\nStk. 1 Generalforsamlingen vælger formand\, kasserer og 4 bestyrelsesmedlemmer samt 2\nsuppleanter. Posterne næstformand og sekretær konstitueres efterfølgende af den samlede\nbestyrelse.\nStk. 2 Formanden vælges for en periode på to år og kan genvælges. Kandidater til\nformandsposten skal have været medlem af Teosofisk Forening København i mindst to år.\nStk. 3 Kandidater til den øvrige bestyrelse skal være medlem af Teosofisk Forening\nKøbenhavn. To kandidater og Formanden er i ulige årstal på valg for en periode af 2 år. De\nto andre kandidater vælges i lige årstal\, også for 2 år. Suppleanter vælges hvert år. Genvalg\nkan finde sted.\nStk. 4 Kassereren vælges på generalforsamlingen i lige årstal for en periode på to år og kan\ngenvælges. Kassereren behøver ikke at være medlem af bestyrelsen. Hvis der ikke kan findes\nen kandidat blandt foreningens medlemmer\, kan bestyrelsen foreslå et privat firma til posten\nsom kasserer. \nJeg foreslår stk 1 og 4 ændret \nStk. 1 Generalforsamlingen vælger formand\, og 4 bestyrelsesmedlemmer samt 2 suppleanter.\nPosterne næstformand og sekretær konstitueres efterfølgende af den samlede bestyrelse.\nStk. 4 Kassereren vælges på generalforsamlingen i lige årstal for en periode på to år og kan\ngenvælges. Kassereren kan\, men behøver ikke at vælges mellem de 4 bestyrelsesmedlemmer.\nHvis der ikke kan findes en kandidat blandt foreningens medlemmer\, kan bestyrelsen foreslå\net privat firma til posten som kasserer. \n  \n  \nID: 260417GEN
URL:https://teosofiskforening.dk/begivenhed/indkaldelse-til-generalforsamling-i-teosofisk-forening/
LOCATION:Teosofisk Forening København\, Sankt Knuds Vej 27A\, Frederiksberg C\, København\, 1903\, Danmark
CATEGORIES:Tirsdagsforedrag
ATTACH;FMTTYPE=image/jpeg:https://teosofiskforening.dk/wp-content/uploads/2021/03/wild-garlic-on-the-way_600_300.jpg
GEO:55.677929;12.549129
X-APPLE-STRUCTURED-LOCATION;VALUE=URI;X-ADDRESS=Teosofisk Forening København Sankt Knuds Vej 27A Frederiksberg C København 1903 Danmark;X-APPLE-RADIUS=500;X-TITLE=Sankt Knuds Vej 27A:geo:12.549129,55.677929
END:VEVENT
BEGIN:VEVENT
DTSTART;TZID=Europe/Copenhagen:20260418T100000
DTEND;TZID=Europe/Copenhagen:20260419T170000
DTSTAMP:20260422T214552
CREATED:20251229T213554Z
LAST-MODIFIED:20260322T213547Z
UID:10002360-1776506400-1776618000@teosofiskforening.dk
SUMMARY:ESOTERISK ASTROLOGI FOR EN NY TID #1 ved Kim Pedersen
DESCRIPTION:  \n\nFra sjælens dyb til stjernernes visdom\nEn rejse mellem himmel og sjæl – gennem seks spirituelle weekender\nTeosofiens astrologi \n\n  \nLørdag d.18. april kl. 10-17 og søndag d.19. April kl. 10-16.30  \nDette er den første weekend ud af 6 med temaet:\n\nDe 12 tegn i relation til indre legemer og De Syv Stråler\n– Vi undersøger\, hvordan stjernetegnene spejler og samarbejder med de indre legemer (fysisk\, emotionelt\, mentalt\, intuitivt) og hvordan De Syv Stråler farver deres udtryk og evolutionære formål. \n\n\nPris pr weekend: Medlemmer 1300 kr.\, Gæster 1500 kr.\nI prisen indgår kaffe\, the og lette traktementer. Frokosten sørger man selv for.\nBEMÆRK: Max 17 deltagere. \nSted: Teosofisk forening København Skt. Knudsvej 27 A\, 1903 Frederiksberg C \n  \nTilmelding og betaling til første weekend – se nederst på siden \n\nLink til indholdet i de 6 weekender\n\n\n\n\nDette forløb henvender sig til dig\, der har kendskab til astrologi og ønsker at udforske de dybere\,\nesoteriske dimensioner af astrologien. Her arbejder vi med astrologien som en levende nøgle til\nsjælens udvikling\, indre energistrømme og forbindelsen til de kosmiske hierarkier. \n\nFokus på Esoterisk Astrologi\nDenne undervisning centrerer sig om esoterisk astrologi\, som placerer sig mellem eksoterisk\nastrologi (der fokuserer på personligheden) og hierarkisk astrologi (der omhandler åndelige hierarkier)\nVi betragter horoskopet som et sjælskort og benytter både fødsels og Human Design-\nhoroskopet som værktøjer til selvindsigt og udvikling. Vi udforsker forbindelsen til Kosmos. \nForløbets Formål\nAt give dig redskaber til at arbejde med astrologien som et spirituelt sprog og en vej til sjælelig\nerkendelse. Du vil styrke din evne til: \n\nAt se horoskopet som energi struktur\, ikke kun som analyseværktøj\nAt arbejde i feltet mellem astrologi\, energiarbejde og kosmiske forbindelser\nAt forstå din og andres rejse i et højere perspektiv\n\nForløbet bygger på teosofisk visdom\, de syv stråler\, chakra-systemet\, Livets Træ i Kabbalah og\nforbindelser til mestre\, engle og højere bevidstheder. \n\n\nMetoder og Redskaber\n\nFødselshoroskopet – som fundament for personlig og sjælelig læsning.\nHuman Design-horoskopet – som vejviser for energimæssig beslutningstagning og design.\nMeditation og refleksion – for at integrere undervisningen kropsligt og sjæleligt.\nSymbolarbejde\, chakraforbindelser\, Livets Træ og visualisering.\nSamtaler og gruppearbejde – for at åbne for indre erkendelse og fælles læring.\n\n  \n\n  \n \n  \nOm foredragsholderen:\nKim Pedersen er en blændende foredragsholder og har arbejdet som medie i 25 år. Han har beskæftiget sig med en bred vifte af åndsvidenskabelige områder\, oprettet astrologiskolen Attitude Astrologi og Kabbalah skolen Qibel samt Meditation for Esoterisk Norden.\nSe nærmere på hjemmesiden: www.bkimpedersen.dk \n  \n  \nID:260418BKPkfyTFK \n#astrologi \n 
URL:https://teosofiskforening.dk/begivenhed/esoterisk-astrologi-for-en-ny-tid-2-ved-kim-pedersen/
LOCATION:Teosofisk Forening København\, Sankt Knuds Vej 27A\, Frederiksberg C\, København\, 1903\, Danmark
CATEGORIES:Kursus
ATTACH;FMTTYPE=image/jpeg:https://teosofiskforening.dk/wp-content/uploads/2025/12/2026.02.10-Kim-Pedersen-Illustration-320x214-1.jpg
GEO:55.677929;12.549129
X-APPLE-STRUCTURED-LOCATION;VALUE=URI;X-ADDRESS=Teosofisk Forening København Sankt Knuds Vej 27A Frederiksberg C København 1903 Danmark;X-APPLE-RADIUS=500;X-TITLE=Sankt Knuds Vej 27A:geo:12.549129,55.677929
END:VEVENT
END:VCALENDAR