BEGIN:VCALENDAR
VERSION:2.0
PRODID:-//Teosofisk Forening København - ECPv6.15.20//NONSGML v1.0//EN
CALSCALE:GREGORIAN
METHOD:PUBLISH
X-ORIGINAL-URL:https://teosofiskforening.dk
X-WR-CALDESC:Begivenheder for Teosofisk Forening København
REFRESH-INTERVAL;VALUE=DURATION:PT1H
X-Robots-Tag:noindex
X-PUBLISHED-TTL:PT1H
BEGIN:VTIMEZONE
TZID:Europe/Copenhagen
BEGIN:DAYLIGHT
TZOFFSETFROM:+0100
TZOFFSETTO:+0200
TZNAME:CEST
DTSTART:20250330T010000
END:DAYLIGHT
BEGIN:STANDARD
TZOFFSETFROM:+0200
TZOFFSETTO:+0100
TZNAME:CET
DTSTART:20251026T010000
END:STANDARD
BEGIN:DAYLIGHT
TZOFFSETFROM:+0100
TZOFFSETTO:+0200
TZNAME:CEST
DTSTART:20260329T010000
END:DAYLIGHT
BEGIN:STANDARD
TZOFFSETFROM:+0200
TZOFFSETTO:+0100
TZNAME:CET
DTSTART:20261025T010000
END:STANDARD
BEGIN:DAYLIGHT
TZOFFSETFROM:+0100
TZOFFSETTO:+0200
TZNAME:CEST
DTSTART:20270328T010000
END:DAYLIGHT
BEGIN:STANDARD
TZOFFSETFROM:+0200
TZOFFSETTO:+0100
TZNAME:CET
DTSTART:20271031T010000
END:STANDARD
END:VTIMEZONE
BEGIN:VEVENT
DTSTART;TZID=Europe/Copenhagen:20260407T190000
DTEND;TZID=Europe/Copenhagen:20260407T213000
DTSTAMP:20260421T111637
CREATED:20251228T104059Z
LAST-MODIFIED:20260106T162149Z
UID:10002358-1775588400-1775597400@teosofiskforening.dk
SUMMARY:Kend Englehierarkierne - Online foredrag v/Lene Pape
DESCRIPTION:Aftens foredrag vil \n\nSe på\, hvordan englene og hierarkierne siden Skabelsen har haft fokus på jorden og mennesket på jorden\, og hvorfor vi her i dette broderskab af samarbejde kan tillade os at sige\, at jorden er centrum for engle-universet.\nSkabe et større overblik og større forståelse for den evolution der ligger bag os. Skabe større forståelse for det store samarbejde ur-verdenens ånder og det universelle liv allerede har udført ved at skabe en jordklode\, hvor bevidstheden kan få mulighed for at opleve JEG- bevidsthed\, kærlighed og frihed.\nSøge at øge forståelsen af og samarbejdet med de 9 store engleordener og åndelige hierarkier i den tid\, vi lever i.\n\nEngleordener og åndelige hierarkiers genspejling i den fysiske verden \nHvordan samarbejder vi? \n  \n  \nPris: 100/140 kr. for medlemmer/gæster. \nBestil billet i god tid inden foredraget! – Se nederst.\nLinket findes på ordrebekræftelsen i mailen man modtager\, når bestillingen er gennemført.\n \n  \nOm foredragsholderen: \nForedragsholder og har gennem mange år arbejdet og interesseret sig for den indre side af livet. Studeret mange forskellige traditioner\, der beskriver den sjælelige og åndelige side af Verden. Er fortrolig med ritual arbejde gennem mange år i forskellige grupper og loger. Underviser og foredragsholder blandt andet i Esoterisk astrologi\, Herkules Myte Forståelse\, Engle Hierarkier\, Menneskets indvielses rejse\, Menneskets kultur historie\, Den Skjulte Visdom\, Hildegard af Bingen m.v. samt grund forståelse af Teosofi. \n#engle \nID: 260407LPAfonTFK
URL:https://teosofiskforening.dk/begivenhed/kend-englehierarkierne-online-foredrag-v-lene-pape/
LOCATION:Teosofisk Forening København\, Sankt Knuds Vej 27A\, Frederiksberg C\, København\, 1903\, Danmark
CATEGORIES:Tirsdagsforedrag
ATTACH;FMTTYPE=image/jpeg:https://teosofiskforening.dk/wp-content/uploads/2025/12/2026.04.07-Lene-Pape-Illustration-320x214-1.jpg
GEO:55.677929;12.549129
X-APPLE-STRUCTURED-LOCATION;VALUE=URI;X-ADDRESS=Teosofisk Forening København Sankt Knuds Vej 27A Frederiksberg C København 1903 Danmark;X-APPLE-RADIUS=500;X-TITLE=Sankt Knuds Vej 27A:geo:12.549129,55.677929
END:VEVENT
BEGIN:VEVENT
DTSTART;TZID=Europe/Copenhagen:20260408T173000
DTEND;TZID=Europe/Copenhagen:20260408T190000
DTSTAMP:20260421T111637
CREATED:20250110T172313Z
LAST-MODIFIED:20250110T172502Z
UID:10001963-1775669400-1775674800@teosofiskforening.dk
SUMMARY:Hearts and Hands Healing
DESCRIPTION:Gratis healing Er du syg\, i krise eller søgende\, er du velkommen til at møde op i Teosofisk Forenings lokaler\, hvor Hearts and Hands terapeuterne er klar til at tage imod hver onsdag fra kl. 18.00 – 19.00 Der er ingen forudbestilling. Healingen er ikke en erstatning for lægehjælp\, men et supplement til denne.  \n\n\n\n\n\nOm Hearts & Hands \n\n\n\nHearts & Hands er en organisation af frivillige\, der tilbyder gratis healing. Alle er velkomne. \n\n\n\n\nVores formål er at tilbyde gratis healing og derigennem hjælp til selvhjælp\n\n\n\nVi er ikke tilknyttet en bestemt religion\, spirituel eller religiøs retning\n\n\n\nVi består af frivillige healere\, der stiller tid og evner til rådighed\n\n\n\nHealerne i Hearts & Hands har tavshedspligt\, arbejder anonymt og i stilhed\n\n\n\nNår du modtager healing i Hearts and Hands\, får du ingen råd\, vejledning\, diagnose eller clairvoyante beskeder. Du modtager blot healing i stilhed\n\n\n\nAlle i Hearts & Hands arbejder ud fra et fælles Code of Conduct og etiske retningslinjer\n\n\n\nHearts & Hands eksisterer på baggrund af donationer\n\n\n\nHearts & Hands blev stiftet i 2003 på initiativ af Lars Muhl\n\n \n\n\n\n\n\n\n  \n\n\n\nFor yderligere oplysninger: Hearts and Hands 
URL:https://teosofiskforening.dk/begivenhed/hearts-and-hands-healing/2026-04-08/
LOCATION:Teosofisk Forening København\, Sankt Knuds Vej 27A\, Frederiksberg C\, København\, 1903\, Danmark
CATEGORIES:Studiegruppe
GEO:55.677929;12.549129
X-APPLE-STRUCTURED-LOCATION;VALUE=URI;X-ADDRESS=Teosofisk Forening København Sankt Knuds Vej 27A Frederiksberg C København 1903 Danmark;X-APPLE-RADIUS=500;X-TITLE=Sankt Knuds Vej 27A:geo:12.549129,55.677929
END:VEVENT
BEGIN:VEVENT
DTSTART;TZID=Europe/Copenhagen:20260409T190000
DTEND;TZID=Europe/Copenhagen:20260409T210000
DTSTAMP:20260421T111637
CREATED:20260103T194350Z
LAST-MODIFIED:20260212T210811Z
UID:10002371-1775761200-1775768400@teosofiskforening.dk
SUMMARY:HELBREDELSESTJENESTE 2026 ved Jørgen Skov fra Liberal Katolsk Kirke
DESCRIPTION:En helbredelsestjeneste i LKK er på mange måder en dyb personlig ting – både for præsten og personen der ønsker den.\nSelve ønsket om at få en helbredelsestjeneste\, er i de indledende stadier den helt centrale ting – for ingen hverken kan\, vil eller må påtvinge nogen noget.\nLiberal Katolsk kirke er som alle Katolske kirker\, bygget op på et åndeligt/mekanisk system der distribuerer energi – administreret af formbyggerne i naturen – devaerne eller englene.\nJeg vil i denne introduktion ikke gå ind i alle de teknikaliteter hele dette åndelige maskineri består af – men henvise til CW Leadbeaters bog der nu er oversat til dansk: Videnskaben om sakramenterne.\nSelve ritualet sigter indledningsvist på at få personen op på tæerne – rent åndelig set. Denne øvelse er i virkeligheden temmelig svær – især for personer der ikke er vant til hverken kirkelige ritualer\, eller det at skulle præstere noget ”åndeligt” på få minutter. \n\n\n  \nForestiller man sig at man mentalt kan bevæge sig ”opad”\, efterladende alle sine småligheder og menneskelige fejl\, – men stå i sin egen ret og som det bedste man tror om sig selv\, – så er man placeret det ideelle sted for at modtage den fulde energi i en helbredelsestjeneste. \nRitualet er derfor formet på en sådan måde\, at man bliver hjulpet til at komme så ”højt op” som muligt – det er fra dette udsigtspunkt personen får det største udbytte af den ”nedsendte” energi \nRitualet\nPræsten er via sin ordination koblet til et globalt katolsk system der kanaliserer energierne i sakramenterne. \nPÅKALDELSEN\nNår præsten indledningsvis starter med at påkalde den kristne treenighed\, er det som at tænde for en computer\, en radio\, en bil eller hvad der nu ellers aktiveres.\nPræsten medbringer vievand (hvis han ikke vælger at lave det foran deltagerne) der er forberedt inden tjenesten.\nDette vievand\, der er en blanding af højmagnetiseret salt og vand\, spiller en yderst central rolle i tjenesten.\nPræsten sætter indledningsvist et mærke af vievand på personens pande for at englen der påkaldes et øjeblik senere\, magnetisk kan forbinde sig med vedkommende.\nLokalet hvori man befinder sig\, bestænkes derefter med det formål at forme en midlertidig æterisk afsondring fra den ydre verden – en slags indelukke eller kuppel hvori selve ceremonien foregår og som hæver energiniveauet indenfor. \nPÅKALDELSEN AF ENGLEN\nVed sin ordination er præsten magnetisk forbundet med forskellige dele af den evolutionslinje vi kalder engle – heriblandt helbredende engle.\nHan påkalder derfor disse engle som manifesterer sig i det forberedte rum/område. Præsten introducerer personen for englen\, der kan se mærket på panden og således véd at lige dér\, er vedkommende det drejer sig om. \nCONFITEOR\nNu starter processen der er en forberedelse til at modtage selve healingen.\nIdeen er at forsøge\, midlertidigt\, at forlade alle sine lavere aspekter for at komme så ”højt op” i sin egen bevidsthed og der modtage healingen.\nPræsten læser nu en smuk og opbyggelig tekst op\, på personens vegne. Denne tekst taler om at vi altid er urolige indtil vi finder hvile i Gud og beder om altid at blive set på med kærlighed trods vore vildfarelser osv. osv. \nABSOLUTION\nPræsten giver herefter Absolutionen\, populært kaldet syndsforladelsen.\nAbsolutionen har i LKK-regi ikke noget at gøre med at forladelse af synder. I kirkens øjne er de ”synder” man begår højst individuelle – og derfor defineret som handlinger man i virkeligheden er vokset fra at gøre.\nDet er disse overtrædelser af egne bud\, der giver personen oplevelsen af at have ”syndet”.\nDen syndsbevidsthed man således pålægger sig selv har en negativ virkning på det elektrisk felt der omgiver den fysiske krop og som vi normalt kalder auraen.\nAbsolutions-energien genoplader dette elektriske felt\, hvilket gør personen i stand til helt at absorbere de energier helbredelsestjenesten kanaliserer. \nSALVNINGEN\nI begyndelsen af Salvningen beder man om\, at personen der om lidt skal modtage healingen\, må have gavn af handlingen.\nDenne formulering skal forstås således at LKK anerkender inkarnationsprincippet som en realitet og som følge deraf\, har en forståelse af at alle nuværende fysiske\, såvel som mentale tilstande\, kan være et resultat af handlinger foretaget i tidligere liv og derfor karmiske.\nDet skal forstås således at helbredelse ikke altid er positivt for den person der er nu kommet tilbage på det fysiske plan for at lære\, eller høste konsekvenserne af handlinger foretaget i tidligere liv.\nKritikere vil selvfølgelig sig at så er man dækket ind når healingen ikke virker – men\, so be it.\nI det næste led af salvningsprocessen\, påkaldes treenigheden kraftfuldt over personen med tre korstegn. Dette for at fjerne de sidste rester af negative elektriske strømninger der må have overlevet Absolutionen.\nHerefter komme selve salvningen.\nDen udføres med en speciel sygeolie\, der er konsekreret af en biskop. Med denne olie tegner præsten et korstegn på personens pande.\nSamtidig påkalder han ærkeenglen Rafaels kraft og energi. Denne Rafaels-kraft bruges af den i begyndelsen påkaldte engel til at forbinde personen med det sted\, kraften om lidt skal komme fra – nemlig den guddommelige verden.\nHerefter tegner præsten yderligere tre korstegn\, et på halsen\, et på issen og et i nakken.\nDisse i alt fire korstegn markerer stederne hvor de æteriske centre sidder i hovedregionen – populært kaldet chakraer.\nMarkeringen betyder at centrene nu er åbne i et beskyttet miljø og klar til at modtage den nedstrømmende energi.\nPræsten lægger derefter begge hænder på personens hoved og påkalder den helbredende kraft. \nVELSIGNELSEN\nTil sidst afsluttes helbredelsestjenesten med en universel velsignelse. \n————————————————————————————————– \nDet anbefales at man modtager tre helbredelsestjenester med et vist mellemrum\, da det viser sig at man som deltager\, den tredje gang\, har forstået forløbet og derfor selv kan navigere i ritualet.\nErfaringen viser også\, at det er muligt tredje gang at komme så langt “op”\, at man fra det sted selv kan kommunikere med englen\, tale sin sag og bede om det\, der betyder allermest. \n  \nDet er gratis at deltage.
URL:https://teosofiskforening.dk/begivenhed/helbredelsestjeneste-2026-ved-joergen-skov-fra-liberal-katolsk-kirke/2026-04-09/
LOCATION:Teosofisk Forening København\, Sankt Knuds Vej 27A\, Frederiksberg C\, København\, 1903\, Danmark
CATEGORIES:Kursus,Workshop
ATTACH;FMTTYPE=image/jpeg:https://teosofiskforening.dk/wp-content/uploads/2023/09/Helbredelsestjeneste-320x214-1.jpg
GEO:55.677929;12.549129
X-APPLE-STRUCTURED-LOCATION;VALUE=URI;X-ADDRESS=Teosofisk Forening København Sankt Knuds Vej 27A Frederiksberg C København 1903 Danmark;X-APPLE-RADIUS=500;X-TITLE=Sankt Knuds Vej 27A:geo:12.549129,55.677929
END:VEVENT
BEGIN:VEVENT
DTSTART;TZID=Europe/Copenhagen:20260411T100000
DTEND;TZID=Europe/Copenhagen:20260411T160000
DTSTAMP:20260421T111637
CREATED:20260110T152523Z
LAST-MODIFIED:20260409T174139Z
UID:10002411-1775901600-1775923200@teosofiskforening.dk
SUMMARY:AFLYST ----  Lydhealing og stemme-impro workshop - kursus v/ Hanne Siboni
DESCRIPTION:Gennem kropsøvelser\, åndedræt og åbning af hele stemmens palet\, begiver vi os ind i landskaber og lydflader\, hvor lyden bliver en tilstand som kan virke dybt healende. \nVi vil arbejde med og forme lyden indenfor forskelllige rammer\, og lade os rive med af nuets kraft. \nHanne Siboni har et udvalg af klanginstrumenter med sig\, og vi vil opleve det at smelte sammen i toner og frekvenser fra skåle\, gong og klokker. \nTilmelding og betaling: \nPris for hele kurset: 600 kr./ 800 kr. for medlemmer/gæster.\nI prisen indgår kaffe\, the og lette traktementer. Frokosten sørger man selv for.\nVed framelding tilbageholdes 100 kr. til administration.\nBemærk: Din plads er først reserveret\, når beløbet er modtaget. \nBestil billet i god tid inden kurset! – Se nederst på siden. \n  \nOm foredragsholderen: \nHanne Siboni har bred erfaring indenfor forskellige former for stemmebrug:\nfra Gipsysange\, bulgarsk kvindekor\, improvisation\, overtonesang\, stemmetekniske begreber og underviser i kor og solo.\nHun optræder med sange fra mange dele af verden akkompagneret af harmonika.\nDesuden har hun et lydunivers af klanginstrumenter til lydhealings sessioner og koncerter. Livsglæde er essensen af det hele. \n  \n#lydhealing \nid: 260411HSIffnTFK
URL:https://teosofiskforening.dk/begivenhed/lydhealing-og-stemme-impro-workshop-kursus-v-hanne-siboni/
LOCATION:Teosofisk Forening København\, Sankt Knuds Vej 27A\, Frederiksberg C\, København\, 1903\, Danmark
CATEGORIES:Kursus
ATTACH;FMTTYPE=image/jpeg:https://teosofiskforening.dk/wp-content/uploads/2026/01/2026.04.11-Hanne-Siboni-illustration-320x214-1.jpg
GEO:55.677929;12.549129
X-APPLE-STRUCTURED-LOCATION;VALUE=URI;X-ADDRESS=Teosofisk Forening København Sankt Knuds Vej 27A Frederiksberg C København 1903 Danmark;X-APPLE-RADIUS=500;X-TITLE=Sankt Knuds Vej 27A:geo:12.549129,55.677929
END:VEVENT
END:VCALENDAR