BEGIN:VCALENDAR
VERSION:2.0
PRODID:-//Teosofisk Forening København - ECPv6.15.20//NONSGML v1.0//EN
CALSCALE:GREGORIAN
METHOD:PUBLISH
X-ORIGINAL-URL:https://teosofiskforening.dk
X-WR-CALDESC:Begivenheder for Teosofisk Forening København
REFRESH-INTERVAL;VALUE=DURATION:PT1H
X-Robots-Tag:noindex
X-PUBLISHED-TTL:PT1H
BEGIN:VTIMEZONE
TZID:Europe/Copenhagen
BEGIN:DAYLIGHT
TZOFFSETFROM:+0100
TZOFFSETTO:+0200
TZNAME:CEST
DTSTART:20250330T010000
END:DAYLIGHT
BEGIN:STANDARD
TZOFFSETFROM:+0200
TZOFFSETTO:+0100
TZNAME:CET
DTSTART:20251026T010000
END:STANDARD
BEGIN:DAYLIGHT
TZOFFSETFROM:+0100
TZOFFSETTO:+0200
TZNAME:CEST
DTSTART:20260329T010000
END:DAYLIGHT
BEGIN:STANDARD
TZOFFSETFROM:+0200
TZOFFSETTO:+0100
TZNAME:CET
DTSTART:20261025T010000
END:STANDARD
BEGIN:DAYLIGHT
TZOFFSETFROM:+0100
TZOFFSETTO:+0200
TZNAME:CEST
DTSTART:20270328T010000
END:DAYLIGHT
BEGIN:STANDARD
TZOFFSETFROM:+0200
TZOFFSETTO:+0100
TZNAME:CET
DTSTART:20271031T010000
END:STANDARD
END:VTIMEZONE
BEGIN:VEVENT
DTSTART;TZID=Europe/Copenhagen:20260302T180000
DTEND;TZID=Europe/Copenhagen:20260302T184500
DTSTAMP:20260420T190734
CREATED:20260104T225236Z
LAST-MODIFIED:20260104T230356Z
UID:10002238-1772474400-1772477100@teosofiskforening.dk
SUMMARY:DANSEMEDITATION ved Den Indre Sol
DESCRIPTION:Hjertets Dansemeditation i fuldmånens kærlighedsstrøm\n  \nÅben dig for fuldmånens kærlighedsstrøm gennem dans og dans dig dybere og dybere ind i dig selv\, din krop og dansens univers.\nTidspunkt: kl. 18.00-18.45\nEntre: 25 kr.\nSted: Teosofisk Forening\, Sankt Knuds Vej 27 A\, 1903 Frederiksberg\nDatoer:\n\nFredag den 2/1 2026: Fuldmåne i Stenbukken (Krebsen)\nMandag den 2/2 2026: Fuldmåne i Vandmanden (Løven)\nMandag den 2/3 2026: Fuldmåne i Fiskene (Jomfruen) \nSkærtorsdag den 2/4/ 2026: Fuldmåne i Vædderen (Vægten) - (Påskefestivalen)\nTorsdag den 30/4 2026: Fuldmåne i Tyren (Skorpionen) – (Wesakfestival/Buddhafuldmånen)\nFredag den 29/5 2026: Fuldmåne i Tvillingerne (Skytten) - (Venusfestival/Den Gode Viljes Fest)\nMandag den 29/6 2026: Fuldmåne i Krebsen (Stenbukken)\nMandag den 27/7 2026: Fuldmåne i Løven (Vandmanden)\nFredag den 28/8 2026: Fuldmåne i Jomfruen (Fiskene)\nFredag den 25/9 2026: Fuldmåne i Vægten (Vædderen)\nMandag den 26/10 2026 Fuldmåne i Skorpionen (Tyren)\nMandag den 30/11 2026: Fuldmåne i Skytten (Tvillingerne)\nFredag den 22/1 2027: Fuldmåne i Stenbukken (Krebsen)\nFredag den 19/2 2027: Fuldmåne i Vandmanden (Løven)\nMandag den 22/3 2027: Fuldmåne i Fiskene (Jomfruen)\n\nTilmelding: Ingen tilmelding – bare kom – Alle er velkomne!\n 
URL:https://teosofiskforening.dk/begivenhed/dansemeditation-ved-den-indre-sol-2/2026-03-02/
LOCATION:Teosofisk Forening København\, Sankt Knuds Vej 27A\, Frederiksberg C\, København\, 1903\, Danmark
CATEGORIES:Lukket gruppe,Meditation
ATTACH;FMTTYPE=image/jpeg:https://teosofiskforening.dk/wp-content/uploads/2025/02/2025-Dansemeditation-Den-Indre-Sol-320x214-1.jpg
GEO:55.677929;12.549129
X-APPLE-STRUCTURED-LOCATION;VALUE=URI;X-ADDRESS=Teosofisk Forening København Sankt Knuds Vej 27A Frederiksberg C København 1903 Danmark;X-APPLE-RADIUS=500;X-TITLE=Sankt Knuds Vej 27A:geo:12.549129,55.677929
END:VEVENT
BEGIN:VEVENT
DTSTART;TZID=Europe/Copenhagen:20260302T190000
DTEND;TZID=Europe/Copenhagen:20260302T203000
DTSTAMP:20260420T190734
CREATED:20251204T162453Z
LAST-MODIFIED:20260104T213241Z
UID:10002346-1772478000-1772483400@teosofiskforening.dk
SUMMARY:FULDMÅNEMEDITATION I FISKENS TEGN ved Den Indre Sol
DESCRIPTION:Dansemeditation i fuldmånens kærlighedsstrøm.\nInden meditationen er det muligt at åbne dig for fuldmånen gennem frigørende dans.\nkl. 18-18.45. Betaling: 25 kr. Se nærmere beskrivelse:  link  \n  \nFuldmåneceremonien består af: \nÅndedrætsmeditation\, Meditativ cirkeldans\, Mantrasang og Jordhealingsmeditation. \nVi åbner os for Fuldmånens Kærlighedsstrøm fra de planeter der påvirker os på både personlighedsplanet og sjælsplanet i den pågældende måned.\nInden vi går i gang\, vil du blive introduceret i fuldmåneenergiens muligheder og problemstillinger/udfordringer\, som vi bliver påvirket af i den pågældende måned.\nEfter meditationen vil du modtage inspiration fra et englekort. \n  \nEksakt fuldmånetidspunkt er mandag d. 2. marts 2026 12:36 \nMånedens spirituelle mantra: ”Jeg forlader Faderens hus\, og idet jeg vender tilbage\, frelser jeg” \n  \nArrangementet er gratis\, og kræver ingen tilmelding. Du møder bare op. \nDu er velkommen til at give en donation til hjælp til betaling af huslejen.\nVi anbefaler 50 kr. men alt er velkomment.\nDu kan lægge donationen i fletkurven ved indgangen eller indbetale på mobilpay nr. 91597 \n  \nVed Fuldmåne og Nymåne er der en særlig planetarisk indstrømning til jorden\, som påvirker os alle kollektivt to dage før\, på selve dagen og to dage efter. Ved fuldmånen er det optimalt at lave jordhealingsmeditation og uselvisk lysarbejde for Jorden\, og ved nymåne er det optimalt at lave kanalisering- og healingsmeditation\, og personligt forvandlingsarbejde. \n  \n \n  \n  \nDen Indre Sol: Ziadria og Michael\nEmail: denindresol@gmail.com\ntlf. 61330508\nwww.facebook.com/denindresol \n  \n  \n  \n  \nID: 260302MED
URL:https://teosofiskforening.dk/begivenhed/fuldmaanemeditation-i-fiskens-tegn-ved-den-indre-sol-2/
LOCATION:Teosofisk Forening København\, Sankt Knuds Vej 27A\, Frederiksberg C\, København\, 1903\, Danmark
CATEGORIES:Meditation
ATTACH;FMTTYPE=image/jpeg:https://teosofiskforening.dk/wp-content/uploads/2022/12/23-Fiskene-320x214-1.jpg
GEO:55.677929;12.549129
X-APPLE-STRUCTURED-LOCATION;VALUE=URI;X-ADDRESS=Teosofisk Forening København Sankt Knuds Vej 27A Frederiksberg C København 1903 Danmark;X-APPLE-RADIUS=500;X-TITLE=Sankt Knuds Vej 27A:geo:12.549129,55.677929
END:VEVENT
BEGIN:VEVENT
DTSTART;TZID=Europe/Copenhagen:20260303T190000
DTEND;TZID=Europe/Copenhagen:20260303T213000
DTSTAMP:20260420T190734
CREATED:20251228T093236Z
LAST-MODIFIED:20260106T162310Z
UID:10002357-1772564400-1772573400@teosofiskforening.dk
SUMMARY:Gennem indvielsens mørke - online foredrag v/Kasper Westeraa
DESCRIPTION:Foredraget belyser\, hvordan de mørke erfaringer er nødvendige trin i menneskets bevidsthedsudvikling. I både Martinus’ kosmologi og teosofien forstås smerte\, konflikter og tab ikke som tilfældige hændelser\, men som centrale erfaringer\, der gradvist udvikler forståelse\, empati og ansvar.\nI de seneste ca. hundrede år har menneskeheden oplevet en markant intensivering af mørket – krige\, kriser og globale omvæltninger – som ifølge den åndelige udviklingsforståelse netop tjener til at accelerere bevidsthedsmodningen og forberede os på en ny\, mere human tidsalder.\nMen denne modning sker ikke på én livstid. Ved hjælp af reinkarnations- og karmalovens mekanismer føres væsenet gennem de erfaringer\, det endnu mangler for at udvikle næstekærlighed og til sidst opnå Kristus-bevidsthed. Side om side med naturens biologiske evolution finder der en bevidsthedsevolution sted\, der gradvist gør mennesket i stand til at forstå mørkets rolle\, indrette sit liv derefter og nærme sig indvielsesporten. \nPris: 100/140 kr. for medlemmer/gæster. \nBestil billet i god tid inden foredraget! – Se nederst.\nLinket findes på ordrebekræftelsen i mailen man modtager\, når bestillingen er gennemført.\n \n  \nOm foredragsholderen:\nJeg bor i en lille by uden for Aalborg sammen med min kone Trine og vores kat Bine. Jeg underviser til daglig i fysik og matematik på Aalborg Katedralskole. Jeg er født ind i en familie med Martinus-interesserede forældre\, og jeg har selv aktivt studeret åndsvidenskab\, siden jeg var 20 år gammel. \n#indvielse \nID: 260303KWEfonTFK
URL:https://teosofiskforening.dk/begivenhed/gennem-indvielsens-moerke-online-foredrag-v-kasper-westeraa/
LOCATION:Teosofisk Forening København\, Sankt Knuds Vej 27A\, Frederiksberg C\, København\, 1903\, Danmark
CATEGORIES:Tirsdagsforedrag
ATTACH;FMTTYPE=image/png:https://teosofiskforening.dk/wp-content/uploads/2025/12/2026.03.03-Kasper-Westeraa-Illustration-320x214-1.png
GEO:55.677929;12.549129
X-APPLE-STRUCTURED-LOCATION;VALUE=URI;X-ADDRESS=Teosofisk Forening København Sankt Knuds Vej 27A Frederiksberg C København 1903 Danmark;X-APPLE-RADIUS=500;X-TITLE=Sankt Knuds Vej 27A:geo:12.549129,55.677929
END:VEVENT
BEGIN:VEVENT
DTSTART;TZID=Europe/Copenhagen:20260304T173000
DTEND;TZID=Europe/Copenhagen:20260304T190000
DTSTAMP:20260420T190734
CREATED:20250110T172313Z
LAST-MODIFIED:20250110T172502Z
UID:10001958-1772645400-1772650800@teosofiskforening.dk
SUMMARY:Hearts and Hands Healing
DESCRIPTION:Gratis healing Er du syg\, i krise eller søgende\, er du velkommen til at møde op i Teosofisk Forenings lokaler\, hvor Hearts and Hands terapeuterne er klar til at tage imod hver onsdag fra kl. 18.00 – 19.00 Der er ingen forudbestilling. Healingen er ikke en erstatning for lægehjælp\, men et supplement til denne.  \n\n\n\n\n\nOm Hearts & Hands \n\n\n\nHearts & Hands er en organisation af frivillige\, der tilbyder gratis healing. Alle er velkomne. \n\n\n\n\nVores formål er at tilbyde gratis healing og derigennem hjælp til selvhjælp\n\n\n\nVi er ikke tilknyttet en bestemt religion\, spirituel eller religiøs retning\n\n\n\nVi består af frivillige healere\, der stiller tid og evner til rådighed\n\n\n\nHealerne i Hearts & Hands har tavshedspligt\, arbejder anonymt og i stilhed\n\n\n\nNår du modtager healing i Hearts and Hands\, får du ingen råd\, vejledning\, diagnose eller clairvoyante beskeder. Du modtager blot healing i stilhed\n\n\n\nAlle i Hearts & Hands arbejder ud fra et fælles Code of Conduct og etiske retningslinjer\n\n\n\nHearts & Hands eksisterer på baggrund af donationer\n\n\n\nHearts & Hands blev stiftet i 2003 på initiativ af Lars Muhl\n\n \n\n\n\n\n\n\n  \n\n\n\nFor yderligere oplysninger: Hearts and Hands 
URL:https://teosofiskforening.dk/begivenhed/hearts-and-hands-healing/2026-03-04/
LOCATION:Teosofisk Forening København\, Sankt Knuds Vej 27A\, Frederiksberg C\, København\, 1903\, Danmark
CATEGORIES:Studiegruppe
GEO:55.677929;12.549129
X-APPLE-STRUCTURED-LOCATION;VALUE=URI;X-ADDRESS=Teosofisk Forening København Sankt Knuds Vej 27A Frederiksberg C København 1903 Danmark;X-APPLE-RADIUS=500;X-TITLE=Sankt Knuds Vej 27A:geo:12.549129,55.677929
END:VEVENT
BEGIN:VEVENT
DTSTART;TZID=Europe/Copenhagen:20260307T100000
DTEND;TZID=Europe/Copenhagen:20260308T170000
DTSTAMP:20260420T190734
CREATED:20250906T205246Z
LAST-MODIFIED:20260307T093316Z
UID:10002338-1772877600-1772989200@teosofiskforening.dk
SUMMARY:FLYTTET TIL d. 18 april -----ESOTERISK ASTROLOGI FOR EN NY TID #1  ved Kim Pedersen
DESCRIPTION:Fra sjælens dyb til stjernernes visdom\nEn rejse mellem himmel og sjæl – gennem seks spirituelle weekender\nTeosofiens astrologi \n\n\n\n\n\n\nPris pr weekend: Medlemmer 1300 kr.\, Gæster 1500 kr.\nI prisen indgår kaffe\, the og lette traktementer. Frokosten sørger man selv for. \nBEMÆRK: Max 17 deltagere. \nSted: Teosofisk forening København Skt. Knudsvej 27 A\, 1903 Frederiksberg C \nTilmelding og betaling til første weekend – se allernederst på siden!\n  \n\n6 weekender: \n1) Lørdag og Søndag den 7 marts  kl. 10.00 – kl. 17.00      og 8 marts 2026 kl. 10.00 – kl. 16.30 \n2) Lørdag og Søndag den 18 april  kl. 10.00 – kl. 17.00      og 19 april 2026 kl. 10.00 – kl. 16.30 \n3) Lørdag og Søndag den 16 maj   kl. 10.00 – kl. 17.00      og 17 maj   2026 kl. 10.00 – kl. 16.30 \n4) Lørdag og Søndag den  22 aug  kl. 10.00 – kl. 17.00      og 23 aug   2026 kl. 10.00 – kl. 16.30 \n5) Lørdag og Søndag den  19 sept  kl. 10.00 – kl. 17.00     og 20 sept  2026 kl. 10.00 – kl. 16.30 \n6) Lørdag og Søndag den  24 okt   kl. 10.00 – kl. 17.00     og  25 okt   2026 kl. 10.00 – kl. 16.30 \n\n\n\n\n\n\n  \nDette forløb henvender sig til dig\, der har kendskab til astrologi og ønsker at udforske de dybere\,\nesoteriske dimensioner af astrologien. Her arbejder vi med astrologien som en levende nøgle til\nsjælens udvikling\, indre energistrømme og forbindelsen til de kosmiske hierarkier. \nFokus på Esoterisk Astrologi \nDenne undervisning centrerer sig om esoterisk astrologi\, som placerer sig mellem eksoterisk\nastrologi (der fokuserer på personligheden) og hierarkisk astrologi (der omhandler åndelige hierarkier)\nVi betragter horoskopet som et sjælskort og benytter både fødsels og Human Design-\nhoroskopet som værktøjer til selvindsigt og udvikling. Vi udforsker forbindelsen til Kosmos. \nForløbets Formål\nAt give dig redskaber til at arbejde med astrologien som et spirituelt sprog og en vej til sjælelig\nerkendelse. Du vil styrke din evne til: \n\nAt se horoskopet som energi struktur\, ikke kun som analyseværktøj\nAt arbejde i feltet mellem astrologi\, energiarbejde og kosmiske forbindelser\nAt forstå din og andres rejse i et højere perspektiv\n\nForløbet bygger på teosofisk visdom\, de syv stråler\, chakra-systemet\, Livets Træ i Kabbalah og\nforbindelser til mestre\, engle og højere bevidstheder. \n\n\n\n\nMetoder og Redskaber\n\nFødselshoroskopet – som fundament for personlig og sjælelig læsning.\nHuman Design-horoskopet – som vejviser for energimæssig beslutningstagning og design.\nMeditation og refleksion – for at integrere undervisningen kropsligt og sjæleligt.\nSymbolarbejde\, chakraforbindelser\, Livets Træ og visualisering.\nSamtaler og gruppearbejde – for at åbne for indre erkendelse og fælles læring.\n\n  \n\n  \n \n  \nOm foredragsholderen:\nKim Pedersen er en blændende foredragsholder og har arbejdet som medie i 25 år. Han har beskæftiget sig med en bred vifte af åndsvidenskabelige områder\, oprettet astrologiskolen Attitude Astrologi og Kabbalah skolen Qibel samt Meditation for Esoterisk Norden.\nSe nærmere på hjemmesiden: www.bkimpedersen.dk \n  \n  \n  \n\nDe Seks Weekender – Temaer og Indhold\n Weekend 1  \n07 – 08. marts 2026 \nDe 12 tegn i relation til indre legemer og De Syv Stråler\n – Vi undersøger\, hvordan stjernetegnene spejler og samarbejder med de indre legemer (fysisk\, emotionelt\, mentalt\, intuitivt)\, og hvordan De Syv Stråler farver deres udtryk og evolutionære formål. \n\n Weekend 2 & 3  \n18-19. April og 16- 17. maj 2026 \nPlaneterne og deres kosmiske virke\n – En dyb indføring i planeternes rolle som formidlere af energi mellem mikro- og makrokosmos. Vi udforsker deres esoteriske betydning og deres placering i Livets Træ\, samt deres forbindelser til indre arketyper og bevidsthedsplaner. \n\nWeekend 4  \n22 – 23 august 2026 \nAscendant – Descendant-aksen\n – Hvordan opfylder vi sjælens kald?\nVi dykker ned i forbindelsen mellem det højere selv og det relationelle liv. Ascendanten som sjælens lys og Descendanten som bro til samarbejdsrelationer – både på det jordiske og indre plan. \n\nWeekend 5  \n19- 20. september 2026 \nMC – IC-aksen\n – Hvor kommer vi fra\, og hvor er vi på vej hen?\nHer ser vi på IC som fundament og rødder (karmisk arv og indre næring) og MC som det højere mål og kald – set i et esoterisk og sjæleligt lys. \n\n Weekend 6  \n24-25. oktober 2026  \nDe 36 Dekanater og deres relation til mestre og kosmos\n – Vi udforsker dekant-systemet og dets subtile energier. Hver dekant knytter sig til bestemte mestere\, engleenergier og kosmiske felter\, og åbner for en dybere forståelse af horoskopets lag og dit sjælelige mandat. \n  \n\n  \n  \nID 260307BKPkfyTFK \n#esoterisk\, #astrologi
URL:https://teosofiskforening.dk/begivenhed/esoterisk-astrologi-for-en-ny-tid-fra-sjaelens-dyb-til-stjernernes-visdom-1-ved-kim-pedersen/
LOCATION:Teosofisk Forening København\, Sankt Knuds Vej 27A\, Frederiksberg C\, København\, 1903\, Danmark
CATEGORIES:Kursus
ATTACH;FMTTYPE=image/jpeg:https://teosofiskforening.dk/wp-content/uploads/2023/01/230401_Kim-Perdersen-Kosmisk-astrologi-320x214-1.jpg
GEO:55.677929;12.549129
X-APPLE-STRUCTURED-LOCATION;VALUE=URI;X-ADDRESS=Teosofisk Forening København Sankt Knuds Vej 27A Frederiksberg C København 1903 Danmark;X-APPLE-RADIUS=500;X-TITLE=Sankt Knuds Vej 27A:geo:12.549129,55.677929
END:VEVENT
END:VCALENDAR