BEGIN:VCALENDAR
VERSION:2.0
PRODID:-//Teosofisk Forening København - ECPv6.15.20//NONSGML v1.0//EN
CALSCALE:GREGORIAN
METHOD:PUBLISH
X-WR-CALNAME:Teosofisk Forening København
X-ORIGINAL-URL:https://teosofiskforening.dk
X-WR-CALDESC:Begivenheder for Teosofisk Forening København
REFRESH-INTERVAL;VALUE=DURATION:PT1H
X-Robots-Tag:noindex
X-PUBLISHED-TTL:PT1H
BEGIN:VTIMEZONE
TZID:Europe/Copenhagen
BEGIN:DAYLIGHT
TZOFFSETFROM:+0100
TZOFFSETTO:+0200
TZNAME:CEST
DTSTART:20240331T010000
END:DAYLIGHT
BEGIN:STANDARD
TZOFFSETFROM:+0200
TZOFFSETTO:+0100
TZNAME:CET
DTSTART:20241027T010000
END:STANDARD
BEGIN:DAYLIGHT
TZOFFSETFROM:+0100
TZOFFSETTO:+0200
TZNAME:CEST
DTSTART:20250330T010000
END:DAYLIGHT
BEGIN:STANDARD
TZOFFSETFROM:+0200
TZOFFSETTO:+0100
TZNAME:CET
DTSTART:20251026T010000
END:STANDARD
BEGIN:DAYLIGHT
TZOFFSETFROM:+0100
TZOFFSETTO:+0200
TZNAME:CEST
DTSTART:20260329T010000
END:DAYLIGHT
BEGIN:STANDARD
TZOFFSETFROM:+0200
TZOFFSETTO:+0100
TZNAME:CET
DTSTART:20261025T010000
END:STANDARD
END:VTIMEZONE
BEGIN:VEVENT
DTSTART;TZID=Europe/Copenhagen:20251124T101500
DTEND;TZID=Europe/Copenhagen:20251124T164500
DTSTAMP:20260423T031517
CREATED:20250616T124901Z
LAST-MODIFIED:20250616T124901Z
UID:10002272-1763979300-1764002700@teosofiskforening.dk
SUMMARY:ENOKS HEMMELIGHEDER – UNIVERSETS NØGLER\, studiekreds ved Kim Pedersen
DESCRIPTION:Vi fortsætter med at lade os inspirere af Hurtaks bog om Enoks universelle nøgler og hemmeligheder. Vi vil reflektere over stjernebillederne\, f.eks. Nordstjernen\, Orion\, Store Bjørn\, Sirius\, Plejaderne og de tolv tegn i dyrekredsen. Vi kommer også rundt om de mange hierarkier og deres ledere. \n\n\n\n\n\nEnoks hemmeligheder tager os med på en tusindår lang rejse i den græske mytologi og den hebraiske Kabbalah. De fortæller os om visdommen bag ærkeenglenes virke\, om relationen til de mere moderne begreber som matematik og biokemi\, og om intuitionshuse omgivet af floder fulde af levende ild. \n\n\n\nVi vil i studiekredsen anvende en bred vifte af åndsvidenskabelige kilder. \n\n\n\n \n\n\n\nStudiekreds: Mandage efterår 2025 den 15. september\, 6. oktober og 24. november kl. 10.15-16.45 \n\n\n\n \n\n\n\n  \n\n\n\n\n\n\n\n\n\n\nKim Pedersen er en blændende foredragsholder og har arbejdet som medie i 25 år. Han har beskæftiget sig med en bred vifte af åndsvidenskabelige områder\, oprettet astrologiskolen Attitude Astrologi og Kabbalah skolen Qibel samt Meditation for Esoterisk Norden. Se nærmere på hjemmesiden: www.bkimpedersen.dk  \n\n\n\n\nPris per gang  350/400 kr. for medlemmer/gæster. Betaling: Beløbet betales ved indgangen. \n  \n\n\n\nID: 202511246BKPkfyTFK \n\n\n\n\n\nTeosofisk Forening København\n\n\n\nSankt Knuds Vej 27A Frederiksberg C\, København\, 1903 Danmark \n\n\n\n\n\n\n\n\n\n\n\n 
URL:https://teosofiskforening.dk/begivenhed/enoks-hemmeligheder-universets-noegler-studiekreds-ved-kim-pedersen-17/
LOCATION:Teosofisk Forening København\, Sankt Knuds Vej 27A\, Frederiksberg C\, København\, 1903\, Danmark
CATEGORIES:Studiegruppe
ATTACH;FMTTYPE=image/jpeg:https://teosofiskforening.dk/wp-content/uploads/2021/12/enok-lille.jpg
GEO:55.677929;12.549129
X-APPLE-STRUCTURED-LOCATION;VALUE=URI;X-ADDRESS=Teosofisk Forening København Sankt Knuds Vej 27A Frederiksberg C København 1903 Danmark;X-APPLE-RADIUS=500;X-TITLE=Sankt Knuds Vej 27A:geo:12.549129,55.677929
END:VEVENT
BEGIN:VEVENT
DTSTART;TZID=Europe/Copenhagen:20251125T190000
DTEND;TZID=Europe/Copenhagen:20251125T213000
DTSTAMP:20260423T031517
CREATED:20250712T214140Z
LAST-MODIFIED:20251122T102547Z
UID:10002322-1764097200-1764106200@teosofiskforening.dk
SUMMARY:ET ESOTERISK SYN PÅ ADVENTSTIDEN\, foredrag ved Jørgen Skov
DESCRIPTION:Ordet ”Advent” stammer fra det latinske ”Adventus Domini” der betyder ”Herrens komme”.\n”Herren” der forventes at komme\, er et synonym for hvem vi i virkeligheden er – en bevidsthed/sjæl hjemmehørende i ”Himmeriges rige”. \n  \nDe fire Advents-søndage har fire såkaldte mottoer. Det første er ”Skelneevne”.\nSøndagene skildrer en indre proces\, der strækker sig over et helt liv – men bruges som en slags intensiv træningsmodel op til juleaften\, hvor Jesusbarnet fødes.\nVi vil i foredraget se på en esoterisk udgave af krybbespillet\, hvor Maria er hovedpersonen – ikke Jesus – og hvorfor den 1. søndags motto ”Skelneevne”\, er den tap\, hvorom hele historien drejer sig. \n  \nPris: 90/120 kr. for medlemmer/gæster.\nBetaling: Beløbet betales ved indgangen. \n  \n \n  \n  \nJørgen Skov er præst i Liberal Katolsk Kirke. Har holdt kurser\, foredrag og studiekredse om Teosofi over en 50-årig periode. \n  \n  \n  \n  \n  \n  \n#advent \nID: 251125JSKffnTFK \n 
URL:https://teosofiskforening.dk/begivenhed/et-esoterisk-syn-paa-adventstiden-foredrag-ved-joergen-skov/
LOCATION:Teosofisk Forening København\, Sankt Knuds Vej 27A\, Frederiksberg C\, København\, 1903\, Danmark
CATEGORIES:Tirsdagsforedrag
ATTACH;FMTTYPE=image/jpeg:https://teosofiskforening.dk/wp-content/uploads/2025/07/2025.11.25-Joergen-Skov-illustration-1-320x214-1.jpg
GEO:55.677929;12.549129
X-APPLE-STRUCTURED-LOCATION;VALUE=URI;X-ADDRESS=Teosofisk Forening København Sankt Knuds Vej 27A Frederiksberg C København 1903 Danmark;X-APPLE-RADIUS=500;X-TITLE=Sankt Knuds Vej 27A:geo:12.549129,55.677929
END:VEVENT
BEGIN:VEVENT
DTSTART;TZID=Europe/Copenhagen:20251126T173000
DTEND;TZID=Europe/Copenhagen:20251126T190000
DTSTAMP:20260423T031517
CREATED:20250110T172313Z
LAST-MODIFIED:20250110T172502Z
UID:10001944-1764178200-1764183600@teosofiskforening.dk
SUMMARY:Hearts and Hands Healing
DESCRIPTION:Gratis healing Er du syg\, i krise eller søgende\, er du velkommen til at møde op i Teosofisk Forenings lokaler\, hvor Hearts and Hands terapeuterne er klar til at tage imod hver onsdag fra kl. 18.00 – 19.00 Der er ingen forudbestilling. Healingen er ikke en erstatning for lægehjælp\, men et supplement til denne.  \n\n\n\n\n\nOm Hearts & Hands \n\n\n\nHearts & Hands er en organisation af frivillige\, der tilbyder gratis healing. Alle er velkomne. \n\n\n\n\nVores formål er at tilbyde gratis healing og derigennem hjælp til selvhjælp\n\n\n\nVi er ikke tilknyttet en bestemt religion\, spirituel eller religiøs retning\n\n\n\nVi består af frivillige healere\, der stiller tid og evner til rådighed\n\n\n\nHealerne i Hearts & Hands har tavshedspligt\, arbejder anonymt og i stilhed\n\n\n\nNår du modtager healing i Hearts and Hands\, får du ingen råd\, vejledning\, diagnose eller clairvoyante beskeder. Du modtager blot healing i stilhed\n\n\n\nAlle i Hearts & Hands arbejder ud fra et fælles Code of Conduct og etiske retningslinjer\n\n\n\nHearts & Hands eksisterer på baggrund af donationer\n\n\n\nHearts & Hands blev stiftet i 2003 på initiativ af Lars Muhl\n\n \n\n\n\n\n\n\n  \n\n\n\nFor yderligere oplysninger: Hearts and Hands 
URL:https://teosofiskforening.dk/begivenhed/hearts-and-hands-healing/2025-11-26/
LOCATION:Teosofisk Forening København\, Sankt Knuds Vej 27A\, Frederiksberg C\, København\, 1903\, Danmark
CATEGORIES:Studiegruppe
GEO:55.677929;12.549129
X-APPLE-STRUCTURED-LOCATION;VALUE=URI;X-ADDRESS=Teosofisk Forening København Sankt Knuds Vej 27A Frederiksberg C København 1903 Danmark;X-APPLE-RADIUS=500;X-TITLE=Sankt Knuds Vej 27A:geo:12.549129,55.677929
END:VEVENT
BEGIN:VEVENT
DTSTART;TZID=Europe/Copenhagen:20251128T190000
DTEND;TZID=Europe/Copenhagen:20251128T210000
DTSTAMP:20260423T031517
CREATED:20250211T161944Z
LAST-MODIFIED:20251122T102656Z
UID:10002253-1764356400-1764363600@teosofiskforening.dk
SUMMARY:DEN NYE TIDS SPIRITUELLE JULEFEST 2025 ved Den Indre Sol
DESCRIPTION:Vær med til at byde Julens Engle velkomne!\n Åben dig for Julens stadigt stigende kærlighedsstrøm\, og byd Julens Engle velkomne gennem dans\, sang og meditation. \n  \nAftenens program \n Vi skal åbne os for julens kærlighedsstrøm gennem Meditativ cirkeldans\, frigørende dans\, sang og meditation. \nVi starter med at danse Hellig Dans/Meditative Cirkeldanse til kendte rytmiske julemelodier. \nEfter en pause fortsætter vi med at danse frigørende dans\, til kendte rytmiske julemelodier. \nHerefter synger vi nogle julesange til kendte rytmiske julemelodier. \nOg til sidst laver vi en healingsmeditation hvor vi modtager en healing fra Julens kærlighedsstrøm. \n  \nEntré: 50 kr \nIngen tilmelding – bare kom – Alle er velkomne! \nVi glæder os til at møde dig/jer! \n  \n \nDen Indre Sol: Ziadria og Michael\nEmail: denindresol@gmail.com\n\ntlf. 61330508\nwww.facebook.com/denindresol \n  \nID: 251128MED \n\n 
URL:https://teosofiskforening.dk/begivenhed/den-nye-tids-spirituelle-julefest-2025-ved-den-indre-sol/
LOCATION:Teosofisk Forening København\, Sankt Knuds Vej 27A\, Frederiksberg C\, København\, 1903\, Danmark
CATEGORIES:Meditation
ATTACH;FMTTYPE=image/jpeg:https://teosofiskforening.dk/wp-content/uploads/2024/06/2023.04.14-DEN-INDRE-SOL-320x214-1.jpg
GEO:55.677929;12.549129
X-APPLE-STRUCTURED-LOCATION;VALUE=URI;X-ADDRESS=Teosofisk Forening København Sankt Knuds Vej 27A Frederiksberg C København 1903 Danmark;X-APPLE-RADIUS=500;X-TITLE=Sankt Knuds Vej 27A:geo:12.549129,55.677929
END:VEVENT
BEGIN:VEVENT
DTSTART;TZID=Europe/Copenhagen:20251129T100000
DTEND;TZID=Europe/Copenhagen:20251129T160000
DTSTAMP:20260423T031517
CREATED:20250609T130637Z
LAST-MODIFIED:20250910T214009Z
UID:10002266-1764410400-1764432000@teosofiskforening.dk
SUMMARY:AFLYST--- ”SJÆLENS NATUR” af Lucille Cedercrans #5\, kursusforløb ved Jørgen Brøndum
DESCRIPTION:Forløbet er et mellemtrin\, hvor deltagerne forventes at have en grundlæggende viden om den esoteriske lære samt en vis erfaring med meditation og daglig praksis. Undervisningen følger en struktur\, hvor lektionerne gennemgås i fælles læsning og suppleres med gruppearbejde\, der danner grundlag for en dybere fælles forståelse. Uafklarede spørgsmål samles og diskuteres i plenum for at skabe yderligere klarhed.\n\nFor at få størst muligt udbytte anbefales det\, at deltagerne forbereder sig inden hver weekend ved at læse de relevante lektioner\, notere spørgsmål og følge den anbefalede meditationspraksis\, herunder anvende de tilknyttede sædtanker. \nHver undervisningsdag inkluderer meditationer baseret på bogens indhold samt særlige øvelser udviklet ud fra underviserens erfaring og praksis. \nBogen ”Sjælens Natur” medbringes og kan købes i Teosofisk Forenings boghandel  (198 kr.) \nlørdag den 29. november 2025\, kl. 10.00 – kl. 16.00 \nPris for lørdag den 29. nov.: Kr. 375/475 kr. for medlemmer/gæster.\nVed framelding tilbageholdes 100 kr. til administration.\n\nI prisen indgår kaffe\, the og lette traktementer. Frokosten sørger man selv for. \nTilmelding og Betaling til kurset – klik på Find billetter:\n \n\n\nJørgen Brøndum er en flittig studerende af både Martinus\, Alice A. Bailey\, Lucille Cedercrans\, Rudolf Steiner og meget andet esoterisk litteratur.\nJørgen har en baggrund som frimurer\, tidligere i den danske frimurerorden på Blegdamsvej og nu i det internationale fælles frimureri for mænd og kvinder Le Droit Humain. Jørgen har en daglig meditationspraksis\, deltager i avancerede studiegrupper og arbejder bevidst med lysarbejde i samarbejde med en international gruppe\, spredt over hele kloden.\n\n  \n  \n#sjælensnatur #lucillecedercrans #okkultmeditation\n\nID: 251129JBRkfyTFK
URL:https://teosofiskforening.dk/begivenhed/sjaelens-natur-af-lucille-cedercrans-5-kursusforloeb-ved-joergen-broendum/
LOCATION:Teosofisk Forening København\, Sankt Knuds Vej 27A\, Frederiksberg C\, København\, 1903\, Danmark
CATEGORIES:Kursus
ATTACH;FMTTYPE=image/png:https://teosofiskforening.dk/wp-content/uploads/2025/06/2025.09.0607-Joergen-Broendum-Illistration-320x214-1.png
GEO:55.677929;12.549129
X-APPLE-STRUCTURED-LOCATION;VALUE=URI;X-ADDRESS=Teosofisk Forening København Sankt Knuds Vej 27A Frederiksberg C København 1903 Danmark;X-APPLE-RADIUS=500;X-TITLE=Sankt Knuds Vej 27A:geo:12.549129,55.677929
END:VEVENT
BEGIN:VEVENT
DTSTART;TZID=Europe/Copenhagen:20251130T110000
DTEND;TZID=Europe/Copenhagen:20251130T123000
DTSTAMP:20260423T031517
CREATED:20250723T211635Z
LAST-MODIFIED:20250729T211242Z
UID:10002328-1764500400-1764505800@teosofiskforening.dk
SUMMARY:Tjeneste (Fysisk) ved Center for Levende Teosofi
DESCRIPTION:Meditation\, healing og verdenstjeneste\nCenter for Levende Teosofi er et spirituelt fokus med særlig vægt på verdenstjeneste og udvikling af sjælens potentiale. \nGennem dynamisk meditation bliver mennesket bedre i stand til at kontrollere personligheden\, udfolde de højere talenter og opleve enhed i livet. Og det kan afdække aspekter af den indre sande natur\, det Højere Selv eller bevidsthed\, som det kan bruge til gavn i eget liv og andres liv. \nHealing kan afbalancere de finere legemer og energier\, og gennem sand healing sker der en overførsel af Helligånden og højere åndelige energier. Healing er en af de bedste måder at perfektionere sjæl og personlighed. Sand healing styrker ligesom meditation forbindelsen til sjælen og det Højere Selv. \nVerdenstjeneste er et åndeligt esoterisk arbejde\, som har til formål at heale Jorden og menneskeheden\, og enhver tjeneste bygger på principperne fra den Ædle Ottefoldige Vej og Rette Menneskelige Forbindelser. En tjeneste er uselvisk arbejde\, at vise viljen til det gode\, at udfolde livets indre formål\, at blive en lysbærer og at oplyse Jorden og menneskeheden. Dette arbejde er en del af den nye tidsalders ceremonielle praksis for verdenstjenere. \nDerudover afholdes der meditationer\, tjenester og healing via Zoom. \nFysiske tjenester afholdes hos Teosofisk Forening København på følgende datoer i efteråret 2025: \n  \nSøndag d. 24. august 2025 kl. 11:00 Frederiksberg – Hjertehealingstjeneste \nSøndag d. 26. oktober 2025 kl. 11:00 Frederiksberg – Den Hellige Moders Tjeneste \nSøndag d. 30. november 2025 kl. 11:00 Frederiksberg – Det Opstandne Livs Tjeneste \nOnsdag d. 24. december 2025 kl. 11:00 Frederiksberg – Juletjeneste / Hjertehealingstjeneste \nOnsdag d. 31. december 2025 kl. 11:00 Frederiksberg – Nytårstjeneste / Kosmisk Tjeneste \n  \nVi anbefaler at komme i god tid\, da tjenesterne begynder præcist\, og dørene lukkes ved start. \nFor yderligere oplysninger besøg vores hjemmeside: https://www.levendeteosofi.dk/da/ \nCenter for Levende TeosofiID: 250824CFLTmedTFK
URL:https://teosofiskforening.dk/begivenhed/center-for-levende-teosofi-5/2025-11-30/
LOCATION:Teosofisk Forening København\, Sankt Knuds Vej 27A\, Frederiksberg C\, København\, 1903\, Danmark
CATEGORIES:Lukket gruppe,Meditation
GEO:55.677929;12.549129
X-APPLE-STRUCTURED-LOCATION;VALUE=URI;X-ADDRESS=Teosofisk Forening København Sankt Knuds Vej 27A Frederiksberg C København 1903 Danmark;X-APPLE-RADIUS=500;X-TITLE=Sankt Knuds Vej 27A:geo:12.549129,55.677929
END:VEVENT
END:VCALENDAR