BEGIN:VCALENDAR
VERSION:2.0
PRODID:-//Teosofisk Forening København - ECPv6.15.20//NONSGML v1.0//EN
CALSCALE:GREGORIAN
METHOD:PUBLISH
X-WR-CALNAME:Teosofisk Forening København
X-ORIGINAL-URL:https://teosofiskforening.dk
X-WR-CALDESC:Begivenheder for Teosofisk Forening København
REFRESH-INTERVAL;VALUE=DURATION:PT1H
X-Robots-Tag:noindex
X-PUBLISHED-TTL:PT1H
BEGIN:VTIMEZONE
TZID:Europe/Copenhagen
BEGIN:DAYLIGHT
TZOFFSETFROM:+0100
TZOFFSETTO:+0200
TZNAME:CEST
DTSTART:20240331T010000
END:DAYLIGHT
BEGIN:STANDARD
TZOFFSETFROM:+0200
TZOFFSETTO:+0100
TZNAME:CET
DTSTART:20241027T010000
END:STANDARD
BEGIN:DAYLIGHT
TZOFFSETFROM:+0100
TZOFFSETTO:+0200
TZNAME:CEST
DTSTART:20250330T010000
END:DAYLIGHT
BEGIN:STANDARD
TZOFFSETFROM:+0200
TZOFFSETTO:+0100
TZNAME:CET
DTSTART:20251026T010000
END:STANDARD
BEGIN:DAYLIGHT
TZOFFSETFROM:+0100
TZOFFSETTO:+0200
TZNAME:CEST
DTSTART:20260329T010000
END:DAYLIGHT
BEGIN:STANDARD
TZOFFSETFROM:+0200
TZOFFSETTO:+0100
TZNAME:CET
DTSTART:20261025T010000
END:STANDARD
END:VTIMEZONE
BEGIN:VEVENT
DTSTART;TZID=Europe/Copenhagen:20250915T101500
DTEND;TZID=Europe/Copenhagen:20250915T164500
DTSTAMP:20260422T084652
CREATED:20250616T123422Z
LAST-MODIFIED:20250616T124536Z
UID:10002270-1757931300-1757954700@teosofiskforening.dk
SUMMARY:ENOKS HEMMELIGHEDER – UNIVERSETS NØGLER\, studiekreds ved Kim Pedersen
DESCRIPTION:Vi fortsætter med at lade os inspirere af Hurtaks bog om Enoks universelle nøgler og hemmeligheder. Vi vil reflektere over stjernebillederne\, f.eks. Nordstjernen\, Orion\, Store Bjørn\, Sirius\, Plejaderne og de tolv tegn i dyrekredsen. Vi kommer også rundt om de mange hierarkier og deres ledere. \n\n\n\n\n\nEnoks hemmeligheder tager os med på en tusindår lang rejse i den græske mytologi og den hebraiske Kabbalah. De fortæller os om visdommen bag ærkeenglenes virke\, om relationen til de mere moderne begreber som matematik og biokemi\, og om intuitionshuse omgivet af floder fulde af levende ild. \n\n\n\nVi vil i studiekredsen anvende en bred vifte af åndsvidenskabelige kilder. \n\n\n\n \n\n\n\nStudiekreds: Mandage efterår 2025 den 15. september\, 6. oktober og 24. november kl. 10.15-16.45 \n\n\n\n \n\n\n\n  \n\n\n\n\n\n\n\n\n\n\nKim Pedersen er en blændende foredragsholder og har arbejdet som medie i 25 år. Han har beskæftiget sig med en bred vifte af åndsvidenskabelige områder\, oprettet astrologiskolen Attitude Astrologi og Kabbalah skolen Qibel samt Meditation for Esoterisk Norden. Se nærmere på hjemmesiden: www.bkimpedersen.dk  \n\n\n\n\nPris per gang  350/400 kr. for medlemmer/gæster. Betaling: Beløbet betales ved indgangen. \n  \n\n\n\nID: 20250915BKPkfyTFK \n\n\n\n\n\nTeosofisk Forening København\n\n\n\nSankt Knuds Vej 27A Frederiksberg C\, København\, 1903 Danmark \n\n\n\n\n\n\n\n\n\n\n\n 
URL:https://teosofiskforening.dk/begivenhed/enoks-hemmeligheder-universets-noegler-studiekreds-ved-kim-pedersen-15/
LOCATION:Teosofisk Forening København\, Sankt Knuds Vej 27A\, Frederiksberg C\, København\, 1903\, Danmark
CATEGORIES:Studiegruppe
ATTACH;FMTTYPE=image/jpeg:https://teosofiskforening.dk/wp-content/uploads/2021/12/enok-lille.jpg
GEO:55.677929;12.549129
X-APPLE-STRUCTURED-LOCATION;VALUE=URI;X-ADDRESS=Teosofisk Forening København Sankt Knuds Vej 27A Frederiksberg C København 1903 Danmark;X-APPLE-RADIUS=500;X-TITLE=Sankt Knuds Vej 27A:geo:12.549129,55.677929
END:VEVENT
BEGIN:VEVENT
DTSTART;TZID=Europe/Copenhagen:20250915T170000
DTEND;TZID=Europe/Copenhagen:20250915T174500
DTSTAMP:20260422T084652
CREATED:20250630T213718Z
LAST-MODIFIED:20260110T160535Z
UID:10002304-1757955600-1757958300@teosofiskforening.dk
SUMMARY:HOLISTISK MOTION før foredrag ved Den Indre Sol
DESCRIPTION:Gør noget godt for dig selv!\nGør noget godt for din krop\, psyke og ånd! \nQi gong\, åndedræt og lyd\nTidspunkt: Kl. 17:00 – 17:45 (inden Foredrag\, kanalisering og meditation) \nSted: TFK’s lokaler på Frederiksberg\nPris pr. gang: 25 kr.\nDer er ingen tilmelding – bare kom og vær med! \n\nQi gong – En kinesisk bevægelseskunst\nKinesisk bevægelse til stille rytmisk musik\nLangsom bevægelse med bevidst åndedræt\, hvor krop\, psyke og ånd forenes\, og som herigennem bliver til en aktiv form for meditation i samklang med musikken. Qi gong er en kinesisk bevægelsesform\, som består af stille bevægelse samtidig med et bevidst åndedræt\, og dette skaber en aktiv form for meditation\, der giver både motion\, jordforbindelse og mulighed for at komme i en meditativ tilstand. Qi gong\, er forløberen for Tai Chi og den bliver brugt som forebyggende behandling og behandling på kinesiske hospitaler. Så det er både sundt og åndeligt udviklende at praktisere Qi gong. \nÅndedræt\, mantrasang og lyd på chakraerne\nHjerteåndedræt\, bijamantraer og tonesang på de 7 hovedchakraer\nNår vi laver hjerteåndedræt på chakraerne\, bliver chakraerne åbnet. Når vi synger Bija mantraer på chakraerne får vi en god kontakt med chakraerne gennem kroppen. Og når vi synger tonesang på chakraerne\, bliver chakraerne aktiveret\, renset\, balanceret og healet. \n \nDen Indre Sol: Ziadria og Michael\n\nEmail: denindresol@gmail.com\ntlf. 61330508\nwww.facebook.com/denindresol \n\n 
URL:https://teosofiskforening.dk/begivenhed/holistisk-motion-foer-foredrag-ved-den-indre-sol-2/2025-09-15/
CATEGORIES:Lukket gruppe,Meditation
ATTACH;FMTTYPE=image/png:https://teosofiskforening.dk/wp-content/uploads/2025/06/Den-Indre-Sol-Holistisk-motion-320x214-1.png
END:VEVENT
BEGIN:VEVENT
DTSTART;TZID=Europe/Copenhagen:20250915T180000
DTEND;TZID=Europe/Copenhagen:20250915T203000
DTSTAMP:20260422T084652
CREATED:20250630T165801Z
LAST-MODIFIED:20250630T212405Z
UID:10002282-1757959200-1757968200@teosofiskforening.dk
SUMMARY:DEN FEMININE GRAL - I MODERGUDINDENS HJERTE ved Den Indre Sol
DESCRIPTION:Inden meditationen er der Holistisk Motion ved den Indre Sol: Qi gong og åndedræt og lyd på chakraerne kl. 17-17.45. Betaling: 25 kr. Se nærmere beskrivelse: link  \n  \nDen Feminine Hjertegral/Den Feminine kærlighedsstrøm \nForedrag\, dans\, sang\, meditation\, healing og hjertecirkel \n12 mandage kl. 18-20.30  \nFå en dybere forståelse af Det Feminine Hierarki\, og lær hvordan du kan samarbejde med Gralsgudinden fra Avalon og De Feminine Mestre. \n\nVær med til at lave lysarbejde i Den Feminine Kærlighedsstrøm og bliv en del af Den Feminine Hjertegralscirkel (rejse til Glastonbury i pinsen 2025).\nVær med til at styrke Den Feminine Kærlighedsstrøm på Jorden\, og bliv forenet med Den Feminine kærlighed herigennem.\nModtag healing og inspiration fra Gralsgudinden/Solenglen fra Avalon og De Feminine Mestre\, og bliv integreret med Den Feminine Kærlighedsstrøm.\n\nBevidst lysarbejde for Jorden og for dig selv – Kom og vær med til at styrke Den feminine kærlighedsstrøm på Jorden – og vær med til at lave en lysindstrømning i Teosofisk Forening. \n  \nEntré: 100 kr. – Ingen tilmelding – bare kom! \n  \nPROGRAM \nMandag den 28/4 2025 kl. 18 – 20.30:\n1. stråle – Gralsgudinden fa Avalon og Lady Miriam Åben dig for Gralsgudinden – Solenglen fra Avalon – og Den Keltiske Modergudinde og Den Feminine Mester Lady Miriam.\nBliv forenet med Den Feminine Kraft og vilje. \nMandag den 19/5 2025 kl. 18-20.30:\n2. stråle – Gralsgudinden fra Avalon og Lady Debra. Åben dig for Gralsgudinden – Solenglen fra Avalon – og Den Keltiske Modergudinde og Den Feminine Mester Lady Debra.\nBliv forenet med hendes medfølende og uselviske kærlighed. \nMandag den 16/6 2025 kl. 18-20.30:\n3. stråle – Gralsgudinden fra Avalon og Lady Rowena. Åben dig for Gralsgudinden – Solenglen fra Avalon – og Den Keltiske Modergudinde og Den Feminine Mester Lady Rowena.\nBliv forenet med hendes kreative og skabende kærlighed. \nMandag den 14/7 2025 kl. 18-20.30:\n4. stråle – Gralsgudinden Avalon og Lady Celeste. Åben dig for Gralsgudinde – Solenglen fra Avalon og Den Keltiske Modergudinde og Den Feminine Mester Lady Celeste/ White Buffalo Woman.\nBliv forenet med hendes dybe kærlighed til Jorden. \nMandag den 4/8 2025 kl. 18-20.30:\n5. stråle – Gralsgudinden fra Avalon og Lady Rochelle. Åben dig for Gralsgudinden – Solenglen fra Avalon og Den Keltiske Modergudinde og Den Feminine Mester Lady Rochelle/Bridget.\nBliv forenet med hendes sande\, rensende og healende kærlighed. \nMandag den 15/9 2025 kl. 18-20.30:\n6. stråle – Gralsgudinden fra Avalon og Maria Magdalene. Åben dig for Gralsgudinden – Solenglen fra Avalon og Den Keltiske Modergudinde og Den Feminine Mester Maria Magdalene.\nBliv forenet med hendes dybe og hengivende kærlighed. \nMandag den 13/10 2025 kl. 18-20.30:\n7. stråle – Gralsgudinden fra Avalon og Lady Portia. Åben dig for Gralsgudinden – Solenglen fra Avalon og Den Keltiske Modergudinde og Den Feminine Mester Lady Portia.\nBliv forenet med hendes rensende\, forvandlende og helliggørende kærlighed. \nMandag den 10/11 2025 kl. 18-20.30:\n8. stråle – Gralsgudinden fra Avalon og Lady Nada. Åben dig for Gralsgudinden – Solenglen fra Avalon og Den Keltiske Modergudinde og Den Feminine Mester Lady Nada.\nBliv forenet med hendes ubetingede kærlighed og Marias medfølende kærlighed. \nMandag den 8/12 2025 kl. 18-20.30:\n9. stråle -Gralsgudinden fra Avalon og Lady Athene. Åben dig for Gralsgudinden – Solenglen fra Avalon og Den Keltiske Modergudinde og Den Feminine Mester Lady Athene.\nBliv forenet med hendes frigørende kærlighed. \nMandag den 12/1 2026 kl. 18-20.30:\n10. stråle – Gralsgudinden fra Avalon og Kwan Yin. Åben dig for Gralsgudinden – Solenglen fra Avalon og Den Keltiske Modergudinde og Den Feminine Mester Kwan Yin.\nBliv forenet med hendes medfølende kærlighed og hendes dybe visdom. \nMandag den 9/2 2026 kl. 18-20.30:\n11. stråle – Gralsgudinden fra Avalon og Isis. Åben dig for Gralsgudinden – Solenglen fra Avalon og Den Keltiske Modergudinde og Den Feminine Mester Isis.\nLad hendes kærlighed gøre dit hjerte til en åben lotusblomst. \nMandag den 9/3 2026 kl. 18-20.30:\n12. stråle–Gralsgudinden fra Avalon/Den Store Modergudinde. Åben dig for Gralsgudinden – Solenglen fra Avalon – Den Keltiske Modergudinde.\nLad hendes kærlighed gøre dit hjerte til en modtagende kærlighedsgral. \n  \n \nDen Indre Sol: Ziadria og Michael \nEmail: denindresol@gmail.com\ntlf. 61330508\nwww.facebook.com/denindresol \n  \n  \n 
URL:https://teosofiskforening.dk/begivenhed/den-feminine-gral-i-modergudindens-hjerte-ved-den-indre-sol-2/2025-09-15/
LOCATION:Teosofisk Forening København\, Sankt Knuds Vej 27A\, Frederiksberg C\, København\, 1903\, Danmark
CATEGORIES:Lukket gruppe,Tirsdagsforedrag
ATTACH;FMTTYPE=image/jpeg:https://teosofiskforening.dk/wp-content/uploads/2024/06/2023.04.14-DEN-INDRE-SOL-320x214-1.jpg
GEO:55.677929;12.549129
X-APPLE-STRUCTURED-LOCATION;VALUE=URI;X-ADDRESS=Teosofisk Forening København Sankt Knuds Vej 27A Frederiksberg C København 1903 Danmark;X-APPLE-RADIUS=500;X-TITLE=Sankt Knuds Vej 27A:geo:12.549129,55.677929
END:VEVENT
BEGIN:VEVENT
DTSTART;TZID=Europe/Copenhagen:20250916T190000
DTEND;TZID=Europe/Copenhagen:20250916T213000
DTSTAMP:20260422T084652
CREATED:20250623T213907Z
LAST-MODIFIED:20250912T130153Z
UID:10002273-1758049200-1758058200@teosofiskforening.dk
SUMMARY:INTRODUKTION TIL ESOTERISK VIBRATION\, FARVE OG LYD\, foredrag ved Raphael De Mohan
DESCRIPTION:  \nElias De Mohan (1923-2012) skabte dette esoteriske system i samarbejde med Djwhal Khul i 1980erne. Han og Hierarkiet udpegede Raphael til at fortsætte hans arbejde. I dette foredrag vil Raphael give en beskrivelse af Elias De Mohan og hans arbejde\, samt præsentere de forskellige aspekter og niveauer i dette esoteriske system. \n  \nLyd og farve er forskellige frekvenser/vibrationer af det samme og kombinationen af disse resonerer dybt i vores energi-system og kan bruges til transformation på det individuelle niveau\, samt på kollektive niveauer. \nTil ethvert chakra hører en bestemt vokal-lyd\, farve og et livsområde eller personlighedskvaliteter\, der rummer karmiske temaer. Vores stemme er et unikt redskab til transformation – stemmen har en kapacitet til at bære vibrerende energier\, som vi kan lære at dirigere.   \nLyd og farve resonerer med de kosmiske strålers kvaliteter\, og kan bruges til at forbindes os med disse kvaliteter/dimensioner i det omfang vores udvikling bestemmer.  \nSystemet bygger især på ens egen stemmes kraft og et lidt anderledes chakra system. Systemet er i høj grad praktisk orienteret – målet er bl.a. at man i sidste ende kan integrere det med andre systemer man har forkærlighed for\, og tilpasse det til sine egne behov og ønsker i sin spirituelle udvikling. \n  \nPris: 90/120 kr. for medlemmer/gæster.\nBetaling: Beløbet betales ved indgangen. \n  \n \nRaphael De Mohan er født i København i 1954. Han mødte Elias i 2006\, på hans besøg i Nordjylland og ganske kort tid efter dette møde flyttede Raphael til Canada hvor han boede\, levede og arbejdede sammen med Elias i 6 år\, indtil hans bortgang. Raphael har boet og arbejdet i Canada\, indtil han i august 2024 flyttede tilbage til Danmark. \n  \n#chakra \nID: 250916RMOffnTFK \n 
URL:https://teosofiskforening.dk/begivenhed/introduktion-til-esoterisk-vibration-farve-og-lyd-foredrag-ved-raphael-de-mohan/
LOCATION:Teosofisk Forening København\, Sankt Knuds Vej 27A\, Frederiksberg C\, København\, 1903\, Danmark
CATEGORIES:Tirsdagsforedrag
ATTACH;FMTTYPE=image/png:https://teosofiskforening.dk/wp-content/uploads/2025/06/2025.09.16-Raphael-de-Mohan-illustration-320x214-1.png
GEO:55.677929;12.549129
X-APPLE-STRUCTURED-LOCATION;VALUE=URI;X-ADDRESS=Teosofisk Forening København Sankt Knuds Vej 27A Frederiksberg C København 1903 Danmark;X-APPLE-RADIUS=500;X-TITLE=Sankt Knuds Vej 27A:geo:12.549129,55.677929
END:VEVENT
BEGIN:VEVENT
DTSTART;TZID=Europe/Copenhagen:20250917T173000
DTEND;TZID=Europe/Copenhagen:20250917T190000
DTSTAMP:20260422T084652
CREATED:20250110T172313Z
LAST-MODIFIED:20250110T172502Z
UID:10001934-1758130200-1758135600@teosofiskforening.dk
SUMMARY:Hearts and Hands Healing
DESCRIPTION:Gratis healing Er du syg\, i krise eller søgende\, er du velkommen til at møde op i Teosofisk Forenings lokaler\, hvor Hearts and Hands terapeuterne er klar til at tage imod hver onsdag fra kl. 18.00 – 19.00 Der er ingen forudbestilling. Healingen er ikke en erstatning for lægehjælp\, men et supplement til denne.  \n\n\n\n\n\nOm Hearts & Hands \n\n\n\nHearts & Hands er en organisation af frivillige\, der tilbyder gratis healing. Alle er velkomne. \n\n\n\n\nVores formål er at tilbyde gratis healing og derigennem hjælp til selvhjælp\n\n\n\nVi er ikke tilknyttet en bestemt religion\, spirituel eller religiøs retning\n\n\n\nVi består af frivillige healere\, der stiller tid og evner til rådighed\n\n\n\nHealerne i Hearts & Hands har tavshedspligt\, arbejder anonymt og i stilhed\n\n\n\nNår du modtager healing i Hearts and Hands\, får du ingen råd\, vejledning\, diagnose eller clairvoyante beskeder. Du modtager blot healing i stilhed\n\n\n\nAlle i Hearts & Hands arbejder ud fra et fælles Code of Conduct og etiske retningslinjer\n\n\n\nHearts & Hands eksisterer på baggrund af donationer\n\n\n\nHearts & Hands blev stiftet i 2003 på initiativ af Lars Muhl\n\n \n\n\n\n\n\n\n  \n\n\n\nFor yderligere oplysninger: Hearts and Hands 
URL:https://teosofiskforening.dk/begivenhed/hearts-and-hands-healing/2025-09-17/
LOCATION:Teosofisk Forening København\, Sankt Knuds Vej 27A\, Frederiksberg C\, København\, 1903\, Danmark
CATEGORIES:Studiegruppe
GEO:55.677929;12.549129
X-APPLE-STRUCTURED-LOCATION;VALUE=URI;X-ADDRESS=Teosofisk Forening København Sankt Knuds Vej 27A Frederiksberg C København 1903 Danmark;X-APPLE-RADIUS=500;X-TITLE=Sankt Knuds Vej 27A:geo:12.549129,55.677929
END:VEVENT
BEGIN:VEVENT
DTSTART;TZID=Europe/Copenhagen:20250919T190000
DTEND;TZID=Europe/Copenhagen:20250919T210000
DTSTAMP:20260422T084652
CREATED:20250210T214525Z
LAST-MODIFIED:20250917T155830Z
UID:10002251-1758308400-1758315600@teosofiskforening.dk
SUMMARY:SPIRITUEL EFTERÅRS-JÆVNDØGNSFEST ved Den Indre Sol
DESCRIPTION:Efterårsjævndøgnsceremoni \n Dans\, sang\, meditation og healing \nDen Åndelige Begivenhed ved Efterårsjævndøgn \nKom og vær med til at fejre efterårets komme! \nVed jævndøgn og solhverv er der nogle særligt stærke kosmiske indstrømninger på Jorden\, som gør det særligt gavnligt for Lysarbejdere at meditere på disse tidspunkter. \nVed Efterårsjævndøgn Lader Karmas Herre Tilgivelsens Flamme strømme særligt aktivt ind i Jorden\, for at forløse og frigøre Jordens aura og alt levende\, fra de karmiske ophobninger og bindinger som er kommet op i lyset i løbet af sommeren.\nOg som nu er klar til at blive forvandlet som en del af den åndelige udvikling i overensstemmelse med den guddommelige vilje og Plan og Den Karmiske Lov. \nDette giver Jorden og alt levende på Jorden en særlig mulighed for at gennemgå en ny og dybdegående forvandlingsproces\, der skaber plads til en endnu dybere integration med Den Guddommelige Kærlighedsstrøm. \nUd over dette lader Efterårets Solengel sin kærlighed strømme ind i Jorden\, hvilket virker hele efteråret igennem indtil vintersolhverv. \n  \nProgram \nKom og vær med til at fejre kærlighedsindstrømningen ved efterårsjævndøgn \n\ngennem Hellig Dans (meditativ cirkeldans)\, fri dans\, sang\,\nkanaliseringsmeditation\, jordhealingsmeditation og healing.\n\nVi glæder os til at fejre efterårsjævndøgn sammen med dig/jer! \n  \nEntré: 50 kr. \n Ingen tilmelding – bare kom – alle er velkomne! \n  \n \nDen Indre Sol: Ziadria og Michael\n\nEmail: denindresol@gmail.com\ntlf. 61330508\nwww.facebook.com/denindresol \n\n250919MED \n 
URL:https://teosofiskforening.dk/begivenhed/spirituel-efteraars-jaevndoegnsfest-ved-den-indre-sol/
LOCATION:Teosofisk Forening København\, Sankt Knuds Vej 27A\, Frederiksberg C\, København\, 1903\, Danmark
CATEGORIES:Meditation
ATTACH;FMTTYPE=image/jpeg:https://teosofiskforening.dk/wp-content/uploads/2025/02/2025.09.19-Efteraarsjaevndoegn-illustration-320x214-1.jpg
GEO:55.677929;12.549129
X-APPLE-STRUCTURED-LOCATION;VALUE=URI;X-ADDRESS=Teosofisk Forening København Sankt Knuds Vej 27A Frederiksberg C København 1903 Danmark;X-APPLE-RADIUS=500;X-TITLE=Sankt Knuds Vej 27A:geo:12.549129,55.677929
END:VEVENT
BEGIN:VEVENT
DTSTART;TZID=Europe/Copenhagen:20250921T110000
DTEND;TZID=Europe/Copenhagen:20250921T123000
DTSTAMP:20260422T084652
CREATED:20250728T204157Z
LAST-MODIFIED:20250729T211538Z
UID:10002332-1758452400-1758457800@teosofiskforening.dk
SUMMARY:Tjeneste (via Zoom) ved Center for Levende Teosofi
DESCRIPTION:Meditation\, healing og verdenstjeneste\nCenter for Levende Teosofi er et spirituelt fokus med særlig vægt på verdenstjeneste og udvikling af sjælens potentiale. \nGennem dynamisk meditation bliver mennesket bedre i stand til at kontrollere personligheden\, udfolde de højere talenter og opleve enhed i livet. Og det kan afdække aspekter af den indre sande natur\, det Højere Selv eller bevidsthed\, som det kan bruge til gavn i eget liv og andres liv. \nHealing kan afbalancere de finere legemer og energier\, og gennem sand healing sker der en overførsel af Helligånden og højere åndelige energier. Healing er en af de bedste måder at perfektionere sjæl og personlighed. Sand healing styrker ligesom meditation forbindelsen til sjælen og det Højere Selv. \nVerdenstjeneste er et åndeligt esoterisk arbejde\, som har til formål at heale Jorden og menneskeheden\, og enhver tjeneste bygger på principperne fra den Ædle Ottefoldige Vej og Rette Menneskelige Forbindelser. En tjeneste er uselvisk arbejde\, at vise viljen til det gode\, at udfolde livets indre formål\, at blive en lysbærer og at oplyse Jorden og menneskeheden. Dette arbejde er en del af den nye tidsalders ceremonielle praksis for verdenstjenere. \n  \nTjenester via “Zoom” afholdes online via konferenceværktøjet Zoom: \nSøndag d. 7. september 2025 kl. 11:00 ZOOM – Maitreya Tjeneste \nSøndag d. 21. september 2025 kl. 11:00 ZOOM – Heart Flow Healingstjeneste II \nSøndag d. 12. oktober 2025 kl. 11:00 ZOOM – Opstandelsestjeneste \nSøndag d. 9. november 2025 kl. 11:00 ZOOM – Alle Engles Tjeneste \nSøndag d. 14. december 2025 kl. 11:00 ZOOM – Maitreya Tjeneste \nSøndag d. 11. januar 2026 kl. 11:00 ZOOM – Buddha Tjeneste \n  \nLink til deltagelse findes under den relevante aktivitet i kalenderen på hjemmesiden: https://www.levendeteosofi.dk/da/ \n  \nFor yderligere oplysninger besøg vores hjemmeside: https://www.levendeteosofi.dk/da/ \n\n                                                                                                        Center for Levende Teosofi \nID. 250907CFLTmedTFK
URL:https://teosofiskforening.dk/begivenhed/center-for-levende-teosofi-tjenester-via-zoom/2025-09-21/
LOCATION:Teosofisk Forening København\, Sankt Knuds Vej 27A\, Frederiksberg C\, København\, 1903\, Danmark
CATEGORIES:Lukket gruppe,Meditation
GEO:55.677929;12.549129
X-APPLE-STRUCTURED-LOCATION;VALUE=URI;X-ADDRESS=Teosofisk Forening København Sankt Knuds Vej 27A Frederiksberg C København 1903 Danmark;X-APPLE-RADIUS=500;X-TITLE=Sankt Knuds Vej 27A:geo:12.549129,55.677929
END:VEVENT
END:VCALENDAR