BEGIN:VCALENDAR
VERSION:2.0
PRODID:-//Teosofisk Forening København - ECPv6.15.20//NONSGML v1.0//EN
CALSCALE:GREGORIAN
METHOD:PUBLISH
X-ORIGINAL-URL:https://teosofiskforening.dk
X-WR-CALDESC:Begivenheder for Teosofisk Forening København
REFRESH-INTERVAL;VALUE=DURATION:PT1H
X-Robots-Tag:noindex
X-PUBLISHED-TTL:PT1H
BEGIN:VTIMEZONE
TZID:Europe/Copenhagen
BEGIN:DAYLIGHT
TZOFFSETFROM:+0100
TZOFFSETTO:+0200
TZNAME:CEST
DTSTART:20240331T010000
END:DAYLIGHT
BEGIN:STANDARD
TZOFFSETFROM:+0200
TZOFFSETTO:+0100
TZNAME:CET
DTSTART:20241027T010000
END:STANDARD
BEGIN:DAYLIGHT
TZOFFSETFROM:+0100
TZOFFSETTO:+0200
TZNAME:CEST
DTSTART:20250330T010000
END:DAYLIGHT
BEGIN:STANDARD
TZOFFSETFROM:+0200
TZOFFSETTO:+0100
TZNAME:CET
DTSTART:20251026T010000
END:STANDARD
BEGIN:DAYLIGHT
TZOFFSETFROM:+0100
TZOFFSETTO:+0200
TZNAME:CEST
DTSTART:20260329T010000
END:DAYLIGHT
BEGIN:STANDARD
TZOFFSETFROM:+0200
TZOFFSETTO:+0100
TZNAME:CET
DTSTART:20261025T010000
END:STANDARD
END:VTIMEZONE
BEGIN:VEVENT
DTSTART;TZID=Europe/Copenhagen:20250908T180000
DTEND;TZID=Europe/Copenhagen:20250908T184500
DTSTAMP:20260423T002434
CREATED:20250210T163558Z
LAST-MODIFIED:20250211T162907Z
UID:10002232-1757354400-1757357100@teosofiskforening.dk
SUMMARY:DANSEMEDITATION ved Den Indre Sol
DESCRIPTION:Hjertets Dansemeditation i fuldmånens kærlighedsstrøm\n  \nÅben dig for fuldmånens kærlighedsstrøm gennem dans og dans dig dybere og dybere ind i dig selv\, din krop og dansens univers.\nTidspunkt: kl. 18.00-18.45\nEntre: 25 kr.\nSted: Teosofisk Forening\, Sankt Knuds Vej 27 A\, 1903 Frederiksberg\nDatoer:\nMandag den 14/4/ 2025: Fuldmåne i Vædderen (Vægten) - (Påskefestivalen)\nMandag den 12/5 2025: Fuldmåne i Tyren (Skorpionen) – (Wesakfestivalen)\nFredag den 13/6 2025: Fuldmåne i Tvillingerne (Skytten) (Den Gode Viljes Fest)\nFredag den 11/7 2024: Fuldmåne i Krebsen (Stenbukke)\nFredag den 8/8 2025: Fuldmåne i Løven (Vandmanden)\nMandag den 8/9 2025: Fuldmåne i Jomfruen (Fiskene)\nMandag den 6/10 2025: Fuldmåne i Vægten (Vædderen)\nMandag den 3/11 2025 Fuldmåne i Skorpionen (Tyren)\nFredag den 5/12 2025: Fuldmåne i Skytten (Tvillingerne) (Julefuldmånen)\nFredag den 2/1 2026: Fuldmåne i Stenbukken (Krebsen)\nMandag den 2/2 2026: Fuldmåne i Vandmanden (Løven)\nMandag den 2/3 2026: Fuldmåne i Fiskene (Jomfruen)\n\nTilmelding: Ingen tilmelding – bare kom – Alle er velkomne!\n 
URL:https://teosofiskforening.dk/begivenhed/dansemeditation-ved-den-indre-sol/2025-09-08/
LOCATION:Teosofisk Forening København\, Sankt Knuds Vej 27A\, Frederiksberg C\, København\, 1903\, Danmark
CATEGORIES:Lukket gruppe,Meditation
ATTACH;FMTTYPE=image/jpeg:https://teosofiskforening.dk/wp-content/uploads/2025/02/2025-Dansemeditation-Den-Indre-Sol-320x214-1.jpg
GEO:55.677929;12.549129
X-APPLE-STRUCTURED-LOCATION;VALUE=URI;X-ADDRESS=Teosofisk Forening København Sankt Knuds Vej 27A Frederiksberg C København 1903 Danmark;X-APPLE-RADIUS=500;X-TITLE=Sankt Knuds Vej 27A:geo:12.549129,55.677929
END:VEVENT
BEGIN:VEVENT
DTSTART;TZID=Europe/Copenhagen:20250908T190000
DTEND;TZID=Europe/Copenhagen:20250908T203000
DTSTAMP:20260423T002434
CREATED:20250208T231252Z
LAST-MODIFIED:20250827T114643Z
UID:10002211-1757358000-1757363400@teosofiskforening.dk
SUMMARY:FULDMÅNEMEDITATION I JOMFRUENS TEGN ved DEN INDRE SOL
DESCRIPTION:Inden meditationen er der DANSEMEDITATION ved den Indre Sol:\nHjertets dansemeditation i fuldmånens kærlighedsstrøm\nkl. 18-18.45. Betaling: 25 kr. Se nærmere beskrivelse:  link  \n  \nFuldmåneceremonien består af: \nÅndedrætsmeditation\, Meditativ cirkeldans\, Mantrasang og Jordhealingsmeditation. \nVi åbner os for Fuldmånens Kærlighedsstrøm fra de planeter der påvirker os på både personlighedsplanet og sjælsplanet i den pågældende måned.\nInden vi går i gang\, vil du blive introduceret i fuldmåneenergiens muligheder og problemstillinger/udfordringer\, som vi bliver påvirket af i den pågældende måned.\nEfter meditationen vil du modtage inspiration fra et englekort. \n  \nEksakt fuldmånetidspunkt er søndag 7. september 2025 20:10:41 \nMånedens spirituelle mantra: ”Jeg er moderen og barnet. Jeg er Gud\, jeg er materie” \n  \nArrangementet er gratis\, og kræver ingen tilmelding. Du møder bare op. \nDu er velkommen til at give en donation til hjælp til betaling af huslejen.\nVi anbefaler 50 kr. men alt er velkomment.\nDu kan lægge donationen i fletkurven ved indgangen eller indbetale på mobilpay nr. 91597 \n  \nVed Fuldmåne og Nymåne er der en særlig planetarisk indstrømning til jorden\, som påvirker os alle kollektivt to dage før\, på selve dagen og to dage efter. Ved fuldmånen er det optimalt at lave jordhealingsmeditation og uselvisk lysarbejde for Jorden\, og ved nymåne er det optimalt at lave kanalisering- og healingsmeditation\, og personligt forvandlingsarbejde. \n  \n \nDen Indre Sol: Ziadria og Michael \nEmail: denindresol@gmail.com\ntlf. 61330508\nwww.facebook.com/denindresol \n  \n\n250908MED
URL:https://teosofiskforening.dk/begivenhed/fuldmaanemeditation-i-jomfruens-tegn-ved-den-indre-sol-2/
LOCATION:Teosofisk Forening København\, Sankt Knuds Vej 27A\, Frederiksberg C\, København\, 1903\, Danmark
CATEGORIES:Meditation
ATTACH;FMTTYPE=image/jpeg:https://teosofiskforening.dk/wp-content/uploads/2024/02/virgo-kopier.jpg
GEO:55.677929;12.549129
X-APPLE-STRUCTURED-LOCATION;VALUE=URI;X-ADDRESS=Teosofisk Forening København Sankt Knuds Vej 27A Frederiksberg C København 1903 Danmark;X-APPLE-RADIUS=500;X-TITLE=Sankt Knuds Vej 27A:geo:12.549129,55.677929
END:VEVENT
BEGIN:VEVENT
DTSTART;TZID=Europe/Copenhagen:20250909T190000
DTEND;TZID=Europe/Copenhagen:20250909T213000
DTSTAMP:20260423T002434
CREATED:20250521T203811Z
LAST-MODIFIED:20250905T092748Z
UID:10002259-1757444400-1757453400@teosofiskforening.dk
SUMMARY:Musik\, Mystik & Kærlighed\, EN TALK ved Sara Grabow
DESCRIPTION:Lille video med Sara: Link \n  \nSangerinde\, komponist og forfatter Sara Grabow fortæller om sin spirituelle udviklingsrejse med udgangspunkt i erfaringer om lyd og klangens særlige univers. \nSara taler om stort og småt fra et rigt og kaotisk musik-liv\, der startede i hjemmet som datter af vor folkeskjald Sebastian. \nSara har sunget og skrevet sange i 30 år\, optrådt i ind og udland\, på små og store scener\, men derudover har hun udforsket fællesskab og samhørighedsfølelse med udgangspunkt i det KLANGRUM\, som musik skaber. På rejse gennem europa har Sara undersøgt utallige klange med sin klare stemme og fundet guddommelig lyd og mystiske syn på høje bjerge og i dybe huler\, i kirker og katedraler\, moskeer\, kældre\, tørrelofter\, trappeopgange og i skovens naturlige rum. \nKan lyden blive et redskab til guddommelig kontakt og vejledning? Sara mener\, at der er en stærk sammenhæng mellem den særlige lytten\, der kan finde rummets “rene tone” og kontakten til noget\, der er større end os selv\, -og som ved bedre. Hør om den indviklede udviklingsrejse fra mindreværd til selvværd\, om knuste hjerter\, kærlighed\, filosofi\, teologi og tankespinderi\, om at gi’ slip på det gamle og finde ny magi\, om harmoni og kosmos\, men også komiske ind og udfald fra et rigt musikliv. \nTalken ledsages af udvalgte sange. \n  \nPris: 90/120 kr. for medlemmer/gæster. Betal ved indgangen. \n  \nSara Grabow er sangerinde\, komponist\, skuespiller og forfatter uddannet fra Rytmisk Musikkonservatorium i 2005.\nI 2021 blev Saras sang Blomsterkransebrud\, der handler om skilsmisse\, optaget i højskolesangbogen. Saras personlige hjertebarn er konceptet Lydvandring\, hvor akustiske eksperimenter forenes med fællessang og vandring. Sara er ved at afslutte album-trilogien om lyd & RUM\, der indledtes med albummet EneRum i 2016. \n  \n#musikforedrag \n  \nID: 250909SGRffnTFK
URL:https://teosofiskforening.dk/begivenhed/musik-mystik-kaerlighed-en-talk-ved-sara-grabow/
CATEGORIES:Tirsdagsforedrag
ATTACH;FMTTYPE=image/jpeg:https://teosofiskforening.dk/wp-content/uploads/2025/05/2025.09.09-Sara-Grabow-portraet-320x214-1.jpg
END:VEVENT
BEGIN:VEVENT
DTSTART;TZID=Europe/Copenhagen:20250910T173000
DTEND;TZID=Europe/Copenhagen:20250910T190000
DTSTAMP:20260423T002434
CREATED:20250110T172313Z
LAST-MODIFIED:20250110T172502Z
UID:10001933-1757525400-1757530800@teosofiskforening.dk
SUMMARY:Hearts and Hands Healing
DESCRIPTION:Gratis healing Er du syg\, i krise eller søgende\, er du velkommen til at møde op i Teosofisk Forenings lokaler\, hvor Hearts and Hands terapeuterne er klar til at tage imod hver onsdag fra kl. 18.00 – 19.00 Der er ingen forudbestilling. Healingen er ikke en erstatning for lægehjælp\, men et supplement til denne.  \n\n\n\n\n\nOm Hearts & Hands \n\n\n\nHearts & Hands er en organisation af frivillige\, der tilbyder gratis healing. Alle er velkomne. \n\n\n\n\nVores formål er at tilbyde gratis healing og derigennem hjælp til selvhjælp\n\n\n\nVi er ikke tilknyttet en bestemt religion\, spirituel eller religiøs retning\n\n\n\nVi består af frivillige healere\, der stiller tid og evner til rådighed\n\n\n\nHealerne i Hearts & Hands har tavshedspligt\, arbejder anonymt og i stilhed\n\n\n\nNår du modtager healing i Hearts and Hands\, får du ingen råd\, vejledning\, diagnose eller clairvoyante beskeder. Du modtager blot healing i stilhed\n\n\n\nAlle i Hearts & Hands arbejder ud fra et fælles Code of Conduct og etiske retningslinjer\n\n\n\nHearts & Hands eksisterer på baggrund af donationer\n\n\n\nHearts & Hands blev stiftet i 2003 på initiativ af Lars Muhl\n\n \n\n\n\n\n\n\n  \n\n\n\nFor yderligere oplysninger: Hearts and Hands 
URL:https://teosofiskforening.dk/begivenhed/hearts-and-hands-healing/2025-09-10/
LOCATION:Teosofisk Forening København\, Sankt Knuds Vej 27A\, Frederiksberg C\, København\, 1903\, Danmark
CATEGORIES:Studiegruppe
GEO:55.677929;12.549129
X-APPLE-STRUCTURED-LOCATION;VALUE=URI;X-ADDRESS=Teosofisk Forening København Sankt Knuds Vej 27A Frederiksberg C København 1903 Danmark;X-APPLE-RADIUS=500;X-TITLE=Sankt Knuds Vej 27A:geo:12.549129,55.677929
END:VEVENT
BEGIN:VEVENT
DTSTART;TZID=Europe/Copenhagen:20250911T190000
DTEND;TZID=Europe/Copenhagen:20250911T210000
DTSTAMP:20260423T002434
CREATED:20250628T205246Z
LAST-MODIFIED:20251204T163531Z
UID:10002276-1757617200-1757624400@teosofiskforening.dk
SUMMARY:HELBREDELSESTJENESTE v/Jørgen Skov fra Liberal Katolsk Kirke
DESCRIPTION:En helbredelsestjeneste i LKK er på mange måder en dyb personlig ting – både for præsten og personen der ønsker den.\nSelve ønsket om at få en helbredelsestjeneste\, er i de indledende stadier den helt centrale ting – for ingen hverken kan\, vil eller må påtvinge nogen noget.\nLiberal Katolsk kirke er som alle Katolske kirker\, bygget op på et åndeligt/mekanisk system der distribuerer energi – administreret af formbyggerne i naturen – devaerne eller englene.\nJeg vil i denne introduktion ikke gå ind i alle de teknikaliteter hele dette åndelige maskineri består af – men henvise til CW Leadbeaters bog der nu er oversat til dansk: Videnskaben om sakramenterne.\nSelve ritualet sigter indledningsvist på at få personen op på tæerne – rent åndelig set. Denne øvelse er i virkeligheden temmelig svær – især for personer der ikke er vant til hverken kirkelige ritualer\, eller det at skulle præstere noget ”åndeligt” på få minutter. \n\n\n  \nForestiller man sig at man mentalt kan bevæge sig ”opad”\, efterladende alle sine småligheder og menneskelige fejl\, – men stå i sin egen ret og som det bedste man tror om sig selv\, – så er man placeret det ideelle sted for at modtage den fulde energi i en helbredelsestjeneste. \nRitualet er derfor formet på en sådan måde\, at man bliver hjulpet til at komme så ”højt op” som muligt – det er fra dette udsigtspunkt personen får det største udbytte af den ”nedsendte” energi \nRitualet\nPræsten er via sin ordination koblet til et globalt katolsk system der kanaliserer energierne i sakramenterne. \nPÅKALDELSEN\nNår præsten indledningsvis starter med at påkalde den kristne treenighed\, er det som at tænde for en computer\, en radio\, en bil eller hvad der nu ellers aktiveres.\nPræsten medbringer vievand (hvis han ikke vælger at lave det foran deltagerne) der er forberedt inden tjenesten.\nDette vievand\, der er en blanding af højmagnetiseret salt og vand\, spiller en yderst central rolle i tjenesten.\nPræsten sætter indledningsvist et mærke af vievand på personens pande for at englen der påkaldes et øjeblik senere\, magnetisk kan forbinde sig med vedkommende.\nLokalet hvori man befinder sig\, bestænkes derefter med det formål at forme en midlertidig æterisk afsondring fra den ydre verden – en slags indelukke eller kuppel hvori selve ceremonien foregår og som hæver energiniveauet indenfor. \nPÅKALDELSEN AF ENGLEN\nVed sin ordination er præsten magnetisk forbundet med forskellige dele af den evolutionslinje vi kalder engle – heriblandt helbredende engle.\nHan påkalder derfor disse engle som manifesterer sig i det forberedte rum/område. Præsten introducerer personen for englen\, der kan se mærket på panden og således véd at lige dér\, er vedkommende det drejer sig om. \nCONFITEOR\nNu starter processen der er en forberedelse til at modtage selve healingen.\nIdeen er at forsøge\, midlertidigt\, at forlade alle sine lavere aspekter for at komme så ”højt op” i sin egen bevidsthed og der modtage healingen.\nPræsten læser nu en smuk og opbyggelig tekst op\, på personens vegne. Denne tekst taler om at vi altid er urolige indtil vi finder hvile i Gud og beder om altid at blive set på med kærlighed trods vore vildfarelser osv. osv. \nABSOLUTION\nPræsten giver herefter Absolutionen\, populært kaldet syndsforladelsen.\nAbsolutionen har i LKK-regi ikke noget at gøre med at forladelse af synder. I kirkens øjne er de ”synder” man begår højst individuelle – og derfor defineret som handlinger man i virkeligheden er vokset fra at gøre.\nDet er disse overtrædelser af egne bud\, der giver personen oplevelsen af at have ”syndet”.\nDen syndsbevidsthed man således pålægger sig selv har en negativ virkning på det elektrisk felt der omgiver den fysiske krop og som vi normalt kalder auraen.\nAbsolutions-energien genoplader dette elektriske felt\, hvilket gør personen i stand til helt at absorbere de energier helbredelsestjenesten kanaliserer. \nSALVNINGEN\nI begyndelsen af Salvningen beder man om\, at personen der om lidt skal modtage healingen\, må have gavn af handlingen.\nDenne formulering skal forstås således at LKK anerkender inkarnationsprincippet som en realitet og som følge deraf\, har en forståelse af at alle nuværende fysiske\, såvel som mentale tilstande\, kan være et resultat af handlinger foretaget i tidligere liv og derfor karmiske.\nDet skal forstås således at helbredelse ikke altid er positivt for den person der er nu kommet tilbage på det fysiske plan for at lære\, eller høste konsekvenserne af handlinger foretaget i tidligere liv.\nKritikere vil selvfølgelig sig at så er man dækket ind når healingen ikke virker – men\, so be it.\nI det næste led af salvningsprocessen\, påkaldes treenigheden kraftfuldt over personen med tre korstegn. Dette for at fjerne de sidste rester af negative elektriske strømninger der må have overlevet Absolutionen.\nHerefter komme selve salvningen.\nDen udføres med en speciel sygeolie\, der er konsekreret af en biskop. Med denne olie tegner præsten et korstegn på personens pande.\nSamtidig påkalder han ærkeenglen Rafaels kraft og energi. Denne Rafaels-kraft bruges af den i begyndelsen påkaldte engel til at forbinde personen med det sted\, kraften om lidt skal komme fra – nemlig den guddommelige verden.\nHerefter tegner præsten yderligere tre korstegn\, et på halsen\, et på issen og et i nakken.\nDisse i alt fire korstegn markerer stederne hvor de æteriske centre sidder i hovedregionen – populært kaldet chakraer.\nMarkeringen betyder at centrene nu er åbne i et beskyttet miljø og klar til at modtage den nedstrømmende energi.\nPræsten lægger derefter begge hænder på personens hoved og påkalder den helbredende kraft. \nVELSIGNELSEN\nTil sidst afsluttes helbredelsestjenesten med en universel velsignelse. \n————————————————————————————————– \nDet anbefales at man modtager tre helbredelsestjenester med et vist mellemrum\, da det viser sig at man som deltager\, den tredje gang\, har forstået forløbet og derfor selv kan navigere i ritualet.\nErfaringen viser også\, at det er muligt tredje gang at komme så langt “op”\, at man fra det sted selv kan kommunikere med englen\, tale sin sag og bede om det\, der betyder allermest. \n  \nDet er gratis at deltage.
URL:https://teosofiskforening.dk/begivenhed/helbredelsestjeneste-v-joergen-skov-fra-liberal-katolsk-kirke/2025-09-11/
LOCATION:Teosofisk Forening København\, Sankt Knuds Vej 27A\, Frederiksberg C\, København\, 1903\, Danmark
CATEGORIES:Kursus,Workshop
ATTACH;FMTTYPE=image/jpeg:https://teosofiskforening.dk/wp-content/uploads/2023/09/Helbredelsestjeneste-320x214-1.jpg
GEO:55.677929;12.549129
X-APPLE-STRUCTURED-LOCATION;VALUE=URI;X-ADDRESS=Teosofisk Forening København Sankt Knuds Vej 27A Frederiksberg C København 1903 Danmark;X-APPLE-RADIUS=500;X-TITLE=Sankt Knuds Vej 27A:geo:12.549129,55.677929
END:VEVENT
BEGIN:VEVENT
DTSTART;TZID=Europe/Copenhagen:20250913T100000
DTEND;TZID=Europe/Copenhagen:20250914T163000
DTSTAMP:20260423T002434
CREATED:20250613T151715Z
LAST-MODIFIED:20250912T130308Z
UID:10002267-1757757600-1757867400@teosofiskforening.dk
SUMMARY:TAROT AKADEMI #2\, v/Kim Pedersen
DESCRIPTION:Fordyb dig i Tarot og Kabbalaens Visdom – 3 weekender ved Kim Pedersen\n1. weekend: Lørdag den 17. maj kl. 10.00 – kl. 17.00 og og søndag den 18. maj kl. 10.00 – kl. 16.30\n2. weekend: Lørdag den 13. sept. kl. 10.00 – kl. 17.00 og søndag den 14 sept. kl. 10.00 – kl. 16.30\n3. weekend: Lørdag  den 22. nov. kl. 10.00 – kl. 17.00 og søndag den 23. nov. kl. 10.00 – kl. 16.30 \n  \nPris pr. weekend: Kr. 1250/ 1450 for medlemmer/gæster.\nI prisen indgår kaffe\, the og lette traktementer. Frokosten sørger man selv for. \nVed framelding tilbageholdes 100 kr. til administration.\nBemærk: Din plads er først reserveret\, når beløbet er modtaget. \nTilmelding og betaling til første weekend – klik på Find billetter:\n\n\n  \n\n\n\n\n\n\n\n\n\n\n\n\n\n\n\nLink til GUIDE – Bestil billet på Billetto\n  \nGennem tiderne har Tarotkortene inspireret og vejledt mennesker på deres livs rejse. De 78 kort fungerer som en esoterisk værktøjskasse\, der tilbyder indsigt og perspektiv\, når vi står over for livets store spørgsmål. Kabbalaens Livets Træ\, med sine 33 stier\, giver en ramme for at forstå universets struktur og menneskets plads i det. \nPå dette kursus tager vi dig med på en fascinerende rejse ind i Tarot og Kabbalaens verden. Vi udforsker kortenes symbolik\, numerologi og forbindelse til astrologi. Du lærer at fortolke kortenes budskaber og bruge dem til at få klarhed over dine livsvalg. Vi dykker ned i Kabbalaens Livets Træ og ser\, hvordan det kan give dig en dybere forståelse af dig selv og din spirituelle udvikling. \nKursusrækken tilbyder:\nTarotkortenes symbolik: Vi fordyber os i de arketyper\, symboler og farver\, der er repræsenteret i Tarotkortene. Introduktion til Tarot og Kabbalah: Vi udforsker kortenes historie\, struktur og betydning. Du lærer om Kabbalaens Livets Træ og dets symbolik. \nNumerologi: Du lærer om tallenes betydning i Tarot og Kabbalah og hvordan de kan give dig indsigt i din fødselsdag og året du er født og dine navne. \nAstrologiens indflydelse: Vi ser på\, hvordan astrologien kan berige din forståelse af\, det element vi er født til at virke i\, og dens relation til Tarot og Kabbalah. \nMeditation og visualisering: Vi bruger meditations- og visualiseringsøvelser til at fordybe os oplevelse af Tarot og Kabbalah. \nPraktisk anvendelse: Du får mulighed for at se Tarot og Kabbalahs relation til engle\, ærkeenglen og mestrene\, som du kan tage med ind i tydningens arbejde. \nKort i undervisningen: Waits\, Crowleys\, Kabbalah kort \nDette kursus er for dig\, der:\n– Ønsker at bruge Tarotkortene som et værktøj til selvindsigt og personlig udvikling.\n– Vil lære at fortolke kortenes budskaber og anvende dem i dit liv.\n– Er nysgerrig på Tarot og Kabbalah.\n– Er interesseret i at udforske Kabbalaens Livets Træ og dets visdom. \n\nFørste weekend \nLørdag og søndag den 17. maj kl. 10.00 – kl. 17.00 og 18. maj 2025 kl. 10.00 – kl. 16.30\nNumerologi og Tarot: Afdæk dit personlige symbolunivers\nOplev en dybdegående forståelse af dig selv gennem tallenes og bogstavernes plads i træet. \nI denne første weekend dykker vi ned i den fascinerende verden af numerologi og tarot\, og ser hvordan disse to systemer kan komplementere hinanden og give dig en helt ny indsigt i din personlighed og livsvej. \nHvad kan du forvente?\nNavnets kraft: Vi vil undersøge\, hvordan dit navn og efternavn afspejler din personlighed\, dine styrker og udfordringer. Gennem tarotkortene vil vi synliggøre de energier\, der er forbundet med dit navn. \nFødselsdagens betydning: Din fødselsdag bærer på unikke vibrationer\, der kan afsløre din livsopgave og potentiale. Vi vil udforske din fødselsdag numerologisk og se\, hvordan den relaterer sig til forskellige tarotkort og din plads i Kabbalah. \nAstrologiens element: Dit stjernetegn giver os et hint om dit grundlæggende element (ild\, jord\, luft eller vand). Vi vil se\, hvordan dette element kommer til udtryk i tarotkortene og påvirker din personlighed. \nÅrets indflydelse: Det år\, du blev født\, bærer også på numerologiske vibrationer\, der kan give dig en dybere forståelse af din generation og de overordnede temaer i dit liv. \nTarottens symbolsprog: Vi vil introducere dig til tarotkortenes grundlæggende betydninger og symboler. \nHvorfor denne weekend?\nSelvindsigt: Få en dybere forståelse af dig selv og dine motiver.\nPersonlig udvikling: Opdag dine styrker og udfordringer\, og få værktøjer til at arbejde med dem.\nLivsvej: Få indsigt i din livsopgave og potentiale.\nIntuition: Udvikle din intuition og evne til at forbinde med din indre visdom. \nHvad du skal medbringe:\nDit fulde navn og fødselsdato\, fødselssted og evt. fødselstidspunkt.\nEt åbent sind og nysgerrighed. \n\nAnden weekend:\nLørdag og søndag den 13. sept. kl. 10.00 – kl. 17.00 og 14. sept. kl. 10.00 – kl. 16.30 \nHofkortene\, den Store og den Lille Arkana\nDyk ned i mønternes og bægernes verden \nUdforsk forbindelsen mellem tarotkort\, Kabbalah og vores fysiske og følelsesmæssige verden. \nI denne weekend vil vi dykke dybere ned i den store og lille Arkana og hofkortene\, med særligt fokus på mønter og bægre. Vi vil undersøge\, hvordan disse kort relaterer sig til Kabbalah-træet\, og hvordan de afspejler vores fysiske og følelsesmæssige verden. \nHvad kan du forvente?\nMønternes verden: Vi vil udforske mønternes forbindelse til den fysiske verden\, arbejde\, økonomi og materielle værdier. Gennem tarotkortene vil vi se\, hvordan vi kan skabe balance og overflod i vores liv.\nBægernes univers: Engle og parallelle dimensioner Vi vil udforske de spirituelle dimensioner af bægernes verden og se\, hvordan englene kan støtte os i vores følelsesmæssige heling.\nKabbalah og de ti sephiroth: Vi vil udvide vores forståelse af Kabbalah-træet og se\, hvordan de ti sephiroth påvirker de ti kort i hver farve og serie.\nPraktiske øvelser: Gennem en række øvelser vil du lære at lægge tarotkort\, tolke deres budskaber og integrere dem i din hverdag. \nHvorfor denne weekend?\nHelhedsbillede: Få en dybere forståelse af\, hvordan tarotkortene relaterer sig til vores fysiske og følelsesmæssige verden.\nBalance: Lær at skabe balance mellem det materielle og det spirituelle i dit liv.\nIntuition: Styrk din intuition og evne til at forbinde dig med din indre visdom. \n\nTredje weekend \n Lørdag og søndag den 22 nov. kl. 10.00 – kl. 17.00 og 23. nov. kl. 10.00 – kl. 16.30 \nEn Rejse mod Mestrenes og ærkeenglenes Dimension\nStavenes Ild og Sværdenes Luft\nDyk ned i Store og Lille Arkana\, Hofkortene i ildens og luftens Verden \nVelkommen til den tredje weekend af vores transformative Tarot-rejse! Vi fortsætter vores udforskning af Tarotkortenes dybder og deres forbindelse til Kabbalaens visdom. Denne weekend fokuserer vi på Stavenes Ild og Sværdenes Luft\, og vi dykker ned i både Store og Lille Arkana samt Hofkortene. \nVi vil udforske ildens energi\, der repræsenterer entusiasme\, vilje og handling\, og luftens energi\, der symboliserer intellekt\, kommunikation og klarhed. \nPå denne weekend vil du:\nFordybe dig i Stavenes og Sværdenes symbolik: Vi udforsker de arketyper\, elementer og energier\, der er forbundet med disse to grupper af kort.\nLær at fortolke hofkortene: Vi ser på\, hvordan hofkortene repræsenterer forskellige personlighedstyper og arketyper i vores liv.\nForstå forbindelsen til Kabbalah: Vi udforsker\, hvordan stavene og sværdene relaterer sig til specifikke stier og sfærer på Livets Træ.\nRejse ind i ærkeenglenes og mestrenes dimension: Vi åbner op for en dybere forståelse af ærkeenglenes og mestrenes virke i vores liv og spirituelle udvikling.\nIntegrere Tarot i din personlige praksis: Du får værktøjer til at bruge Tarotkortene til selvrefleksion\, spirituel vækst og øget bevidsthed. \nHvorfor denne weekend?\nHelhedsbillede: Få en dybere forståelse af\, hvordan tarotkortene relaterer sig til vores indre ild og luftens intuitive verden.\nBalance: Lær at skabe balance mellem det materielle og det spirituelle i dit liv.\nIntuition: Styrk din intuition og evne til at forbinde dig med din indre visdom. \n\nOm foredragsholderen:\nKim Pedersen er en blændende foredragsholder og har arbejdet som medie i 25 år. Han har beskæftiget sig med en bred vifte af åndsvidenskabelige områder\, oprettet astrologiskolen Attitude Astrologi og Kabbalah skolen Qibel samt Meditation for Esoterisk Norden.\nSe nærmere på hjemmesiden: www.bkimpedersen.dk \n  \n  \n  \nID: 250913BKPkfyTFK \n#tarot \n 
URL:https://teosofiskforening.dk/begivenhed/tarot-akademi-2-v-kim-pedersen/
LOCATION:Teosofisk Forening København\, Sankt Knuds Vej 27A\, Frederiksberg C\, København\, 1903\, Danmark
CATEGORIES:Kursus
ATTACH;FMTTYPE=image/jpeg:https://teosofiskforening.dk/wp-content/uploads/2025/01/2025.05.1718-Illustration-tarot-320x214-1.jpg
GEO:55.677929;12.549129
X-APPLE-STRUCTURED-LOCATION;VALUE=URI;X-ADDRESS=Teosofisk Forening København Sankt Knuds Vej 27A Frederiksberg C København 1903 Danmark;X-APPLE-RADIUS=500;X-TITLE=Sankt Knuds Vej 27A:geo:12.549129,55.677929
END:VEVENT
END:VCALENDAR