BEGIN:VCALENDAR
VERSION:2.0
PRODID:-//Teosofisk Forening København - ECPv6.15.20//NONSGML v1.0//EN
CALSCALE:GREGORIAN
METHOD:PUBLISH
X-ORIGINAL-URL:https://teosofiskforening.dk
X-WR-CALDESC:Begivenheder for Teosofisk Forening København
REFRESH-INTERVAL;VALUE=DURATION:PT1H
X-Robots-Tag:noindex
X-PUBLISHED-TTL:PT1H
BEGIN:VTIMEZONE
TZID:Europe/Copenhagen
BEGIN:DAYLIGHT
TZOFFSETFROM:+0100
TZOFFSETTO:+0200
TZNAME:CEST
DTSTART:20240331T010000
END:DAYLIGHT
BEGIN:STANDARD
TZOFFSETFROM:+0200
TZOFFSETTO:+0100
TZNAME:CET
DTSTART:20241027T010000
END:STANDARD
BEGIN:DAYLIGHT
TZOFFSETFROM:+0100
TZOFFSETTO:+0200
TZNAME:CEST
DTSTART:20250330T010000
END:DAYLIGHT
BEGIN:STANDARD
TZOFFSETFROM:+0200
TZOFFSETTO:+0100
TZNAME:CET
DTSTART:20251026T010000
END:STANDARD
BEGIN:DAYLIGHT
TZOFFSETFROM:+0100
TZOFFSETTO:+0200
TZNAME:CEST
DTSTART:20260329T010000
END:DAYLIGHT
BEGIN:STANDARD
TZOFFSETFROM:+0200
TZOFFSETTO:+0100
TZNAME:CET
DTSTART:20261025T010000
END:STANDARD
END:VTIMEZONE
BEGIN:VEVENT
DTSTART;TZID=Europe/Copenhagen:20250902T190000
DTEND;TZID=Europe/Copenhagen:20250902T213000
DTSTAMP:20260421T221224
CREATED:20250609T123809Z
LAST-MODIFIED:20250823T104803Z
UID:10002261-1756839600-1756848600@teosofiskforening.dk
SUMMARY:En usikker verden. Hvad siger Martinus om tiden vi lever i? - Online foredrag v/ Oscar Floor
DESCRIPTION:Er den uro og kaos\, vi ser rundt os\, en del af en større udvikling mod noget bedre?\nUdvikler vi os mod mere kærlighed\, forståelse og indre fred?\nHvordan kan du og jeg bidrage til at menneskeheden vokser mod et fredeligt og ægte samfund? \n  \nHvilken vision har Martinus for fremtiden og for tiden vi lever i? \nEr kaosset i verden et tegn på undergang – eller på fødsel? Er det vi ser som krise og sammenbrud\, i virkeligheden fødselssmerter for en ny menneskehed i udvikling? \nHvorfor føler jeg mig ofte utryg og magtesløs i verden i dag? Er usikkerheden en del af en større udviklingsproces for menneskeheden? \nEr lidelse meningsløs – eller lærer jeg noget af den? Hvorledes kan lidelse skabe medfølelse\, visdom og indre vækst? \nHvordan kan jeg forstå krig\, klimakrise og sociale konflikter på en ny måde? \nEr det muligt at finde fred midt i verdens uro? \nEr det realistisk at tro på et fremtidigt fredeligt samfund? \nHvilken rolle spiller du og jeg i verdens udvikling? \nMen: Hvordan skal jeg da forholde mig til mørket og det onde i verden? \nEr åndelig udvikling kun for de få? \nKommer lyset virkelig – eller er det bare ønsketænkning? \n  \nPris: 90/120 kr. for medlemmer/gæster. \nBestil billet i god tid inden foredraget!\nLinket findes på ordrebekræftelsen i mailen man modtager\, når bestillingen er gennemført. \nTilmelding og Betaling – klik på Find billetter: \n\n \nLink til Guide: Bestil billet på Billetto \n  \n  \nOm foredragsholderen:\nOscar Floor er underviser i åndelige emner og foredragsholder. Han har fordybet sig i Martinus\, Rudolf Steiner\, teosofi\, astrologi\, kabbala og Human Design.\nOscar taler forståeligt norsk/dansk. Han elsker synteser (1+1=3)\, og er nysgerrig på åndelig udvikling\, menneskets potentiale\, livsformål\, bevidsthedsudvikling.\nOscars rejse gennem de store landskaber af Human Design\, astrologi og åndelig videnskab har antændt en passion for at vejlede andre gennem deres indre opvågninger. Med en blanding af historiefortælling\, dyb viden og præsentationskunst søger han at afmystificere det esoteriske\, gøre det tilgængeligt og transformativt. Lad os udforske dybderne sammen og låse op for potentialet\, der ligger i hver af os. \n  \n#teosofi \n\nID: 250902OFLfonTFK
URL:https://teosofiskforening.dk/begivenhed/en-usikker-verden-hvad-siger-martinus-om-tiden-vi-lever-i-foredrag-v-oscar-floor/
LOCATION:Teosofisk Forening København\, Sankt Knuds Vej 27A\, Frederiksberg C\, København\, 1903\, Danmark
CATEGORIES:Tirsdagsforedrag
ATTACH;FMTTYPE=image/png:https://teosofiskforening.dk/wp-content/uploads/2025/06/2025.09.02-Oscar-Floor-Illustration-320x214-1.png
GEO:55.677929;12.549129
X-APPLE-STRUCTURED-LOCATION;VALUE=URI;X-ADDRESS=Teosofisk Forening København Sankt Knuds Vej 27A Frederiksberg C København 1903 Danmark;X-APPLE-RADIUS=500;X-TITLE=Sankt Knuds Vej 27A:geo:12.549129,55.677929
END:VEVENT
BEGIN:VEVENT
DTSTART;TZID=Europe/Copenhagen:20250903T173000
DTEND;TZID=Europe/Copenhagen:20250903T190000
DTSTAMP:20260421T221224
CREATED:20250110T172313Z
LAST-MODIFIED:20250110T172502Z
UID:10001932-1756920600-1756926000@teosofiskforening.dk
SUMMARY:Hearts and Hands Healing
DESCRIPTION:Gratis healing Er du syg\, i krise eller søgende\, er du velkommen til at møde op i Teosofisk Forenings lokaler\, hvor Hearts and Hands terapeuterne er klar til at tage imod hver onsdag fra kl. 18.00 – 19.00 Der er ingen forudbestilling. Healingen er ikke en erstatning for lægehjælp\, men et supplement til denne.  \n\n\n\n\n\nOm Hearts & Hands \n\n\n\nHearts & Hands er en organisation af frivillige\, der tilbyder gratis healing. Alle er velkomne. \n\n\n\n\nVores formål er at tilbyde gratis healing og derigennem hjælp til selvhjælp\n\n\n\nVi er ikke tilknyttet en bestemt religion\, spirituel eller religiøs retning\n\n\n\nVi består af frivillige healere\, der stiller tid og evner til rådighed\n\n\n\nHealerne i Hearts & Hands har tavshedspligt\, arbejder anonymt og i stilhed\n\n\n\nNår du modtager healing i Hearts and Hands\, får du ingen råd\, vejledning\, diagnose eller clairvoyante beskeder. Du modtager blot healing i stilhed\n\n\n\nAlle i Hearts & Hands arbejder ud fra et fælles Code of Conduct og etiske retningslinjer\n\n\n\nHearts & Hands eksisterer på baggrund af donationer\n\n\n\nHearts & Hands blev stiftet i 2003 på initiativ af Lars Muhl\n\n \n\n\n\n\n\n\n  \n\n\n\nFor yderligere oplysninger: Hearts and Hands 
URL:https://teosofiskforening.dk/begivenhed/hearts-and-hands-healing/2025-09-03/
LOCATION:Teosofisk Forening København\, Sankt Knuds Vej 27A\, Frederiksberg C\, København\, 1903\, Danmark
CATEGORIES:Studiegruppe
GEO:55.677929;12.549129
X-APPLE-STRUCTURED-LOCATION;VALUE=URI;X-ADDRESS=Teosofisk Forening København Sankt Knuds Vej 27A Frederiksberg C København 1903 Danmark;X-APPLE-RADIUS=500;X-TITLE=Sankt Knuds Vej 27A:geo:12.549129,55.677929
END:VEVENT
BEGIN:VEVENT
DTSTART;TZID=Europe/Copenhagen:20250906T100000
DTEND;TZID=Europe/Copenhagen:20250907T160000
DTSTAMP:20260421T221224
CREATED:20250609T125511Z
LAST-MODIFIED:20250904T093346Z
UID:10002262-1757152800-1757260800@teosofiskforening.dk
SUMMARY:AFLYST ---- ”SJÆLENS NATUR” af Lucille Cedercrans #1\, kursusforløb ved Jørgen Brøndum
DESCRIPTION:Forløbet er et mellemtrin\, hvor deltagerne forventes at have en grundlæggende viden om den esoteriske lære samt en vis erfaring med meditation og daglig praksis. Undervisningen følger en struktur\, hvor lektionerne gennemgås i fælles læsning og suppleres med gruppearbejde\, der danner grundlag for en dybere fælles forståelse. Uafklarede spørgsmål samles og diskuteres i plenum for at skabe yderligere klarhed. \nFor at få størst muligt udbytte anbefales det\, at deltagerne forbereder sig inden hver weekend ved at læse de relevante lektioner\, notere spørgsmål og følge den anbefalede meditationspraksis\, herunder anvende de tilknyttede sædtanker. \nHver undervisningsdag inkluderer meditationer baseret på bogens indhold samt særlige øvelser udviklet ud fra underviserens erfaring og praksis. \nBogen ”Sjælens Natur” medbringes og kan købes i Teosofisk Forenings boghandel  (198 kr.) \nlørdag og søndag den 6. og 7. september 2025\, kl. 10.00 – kl. 16.00\nlørdag og søndag den 27. og 28. september 2025\, kl. 10.00 – kl. 16.00\nlørdag og søndag den 18. og 19. oktober 2025\, kl. 10.00 – kl. 16.00\nlørdag og søndag den 1. og 2. november 2025\, kl. 10.00 – kl. 16.00\nlørdag den 29. november 2025\, kl. 10.00 – kl. 16.00 \nPris pr. weekend: Kr. 750/ 950 kr. for medlemmer/gæster\nPris for lørdag den 29. nov.: Kr. 375/475 kr. for medlemmer/gæster.\nVed framelding tilbageholdes 100 kr. til administration.\n\nI prisen indgår kaffe\, the og lette traktementer. Frokosten sørger man selv for. \nTilmelding og Betaling til kurset – klik på Find billetter: \n \n\n\nJørgen Brøndum er en flittig studerende af både Martinus\, Alice A. Bailey\, Lucille Cedercrans\, Rudolf Steiner og meget andet esoterisk litteratur.\nJørgen har en baggrund som frimurer\, tidligere i den danske frimurerorden på Blegdamsvej og nu i det internationale fælles frimureri for mænd og kvinder Le Droit Humain. Jørgen har en daglig meditationspraksis\, deltager i avancerede studiegrupper og arbejder bevidst med lysarbejde i samarbejde med en international gruppe\, spredt over hele kloden.\n\n  \n  \n#sjælensnatur #lucillecedercrans #okkultmeditation\n\nID: 250906JBRkfyTFK
URL:https://teosofiskforening.dk/begivenhed/sjaelens-natur-af-lucille-cedercrans-1-kursusforloeb-ved-joergen-broendum/
LOCATION:Teosofisk Forening København\, Sankt Knuds Vej 27A\, Frederiksberg C\, København\, 1903\, Danmark
CATEGORIES:Kursus
ATTACH;FMTTYPE=image/png:https://teosofiskforening.dk/wp-content/uploads/2025/06/2025.09.0607-Joergen-Broendum-Illistration-320x214-1.png
GEO:55.677929;12.549129
X-APPLE-STRUCTURED-LOCATION;VALUE=URI;X-ADDRESS=Teosofisk Forening København Sankt Knuds Vej 27A Frederiksberg C København 1903 Danmark;X-APPLE-RADIUS=500;X-TITLE=Sankt Knuds Vej 27A:geo:12.549129,55.677929
END:VEVENT
BEGIN:VEVENT
DTSTART;TZID=Europe/Copenhagen:20250907T110000
DTEND;TZID=Europe/Copenhagen:20250907T123000
DTSTAMP:20260421T221224
CREATED:20250728T204157Z
LAST-MODIFIED:20250729T211538Z
UID:10002331-1757242800-1757248200@teosofiskforening.dk
SUMMARY:Tjeneste (via Zoom) ved Center for Levende Teosofi
DESCRIPTION:Meditation\, healing og verdenstjeneste\nCenter for Levende Teosofi er et spirituelt fokus med særlig vægt på verdenstjeneste og udvikling af sjælens potentiale. \nGennem dynamisk meditation bliver mennesket bedre i stand til at kontrollere personligheden\, udfolde de højere talenter og opleve enhed i livet. Og det kan afdække aspekter af den indre sande natur\, det Højere Selv eller bevidsthed\, som det kan bruge til gavn i eget liv og andres liv. \nHealing kan afbalancere de finere legemer og energier\, og gennem sand healing sker der en overførsel af Helligånden og højere åndelige energier. Healing er en af de bedste måder at perfektionere sjæl og personlighed. Sand healing styrker ligesom meditation forbindelsen til sjælen og det Højere Selv. \nVerdenstjeneste er et åndeligt esoterisk arbejde\, som har til formål at heale Jorden og menneskeheden\, og enhver tjeneste bygger på principperne fra den Ædle Ottefoldige Vej og Rette Menneskelige Forbindelser. En tjeneste er uselvisk arbejde\, at vise viljen til det gode\, at udfolde livets indre formål\, at blive en lysbærer og at oplyse Jorden og menneskeheden. Dette arbejde er en del af den nye tidsalders ceremonielle praksis for verdenstjenere. \n  \nTjenester via “Zoom” afholdes online via konferenceværktøjet Zoom: \nSøndag d. 7. september 2025 kl. 11:00 ZOOM – Maitreya Tjeneste \nSøndag d. 21. september 2025 kl. 11:00 ZOOM – Heart Flow Healingstjeneste II \nSøndag d. 12. oktober 2025 kl. 11:00 ZOOM – Opstandelsestjeneste \nSøndag d. 9. november 2025 kl. 11:00 ZOOM – Alle Engles Tjeneste \nSøndag d. 14. december 2025 kl. 11:00 ZOOM – Maitreya Tjeneste \nSøndag d. 11. januar 2026 kl. 11:00 ZOOM – Buddha Tjeneste \n  \nLink til deltagelse findes under den relevante aktivitet i kalenderen på hjemmesiden: https://www.levendeteosofi.dk/da/ \n  \nFor yderligere oplysninger besøg vores hjemmeside: https://www.levendeteosofi.dk/da/ \n\n                                                                                                        Center for Levende Teosofi \nID. 250907CFLTmedTFK
URL:https://teosofiskforening.dk/begivenhed/center-for-levende-teosofi-tjenester-via-zoom/2025-09-07/
LOCATION:Teosofisk Forening København\, Sankt Knuds Vej 27A\, Frederiksberg C\, København\, 1903\, Danmark
CATEGORIES:Lukket gruppe,Meditation
GEO:55.677929;12.549129
X-APPLE-STRUCTURED-LOCATION;VALUE=URI;X-ADDRESS=Teosofisk Forening København Sankt Knuds Vej 27A Frederiksberg C København 1903 Danmark;X-APPLE-RADIUS=500;X-TITLE=Sankt Knuds Vej 27A:geo:12.549129,55.677929
END:VEVENT
END:VCALENDAR