BEGIN:VCALENDAR
VERSION:2.0
PRODID:-//Teosofisk Forening København - ECPv6.15.20//NONSGML v1.0//EN
CALSCALE:GREGORIAN
METHOD:PUBLISH
X-ORIGINAL-URL:https://teosofiskforening.dk
X-WR-CALDESC:Begivenheder for Teosofisk Forening København
REFRESH-INTERVAL;VALUE=DURATION:PT1H
X-Robots-Tag:noindex
X-PUBLISHED-TTL:PT1H
BEGIN:VTIMEZONE
TZID:Europe/Copenhagen
BEGIN:DAYLIGHT
TZOFFSETFROM:+0100
TZOFFSETTO:+0200
TZNAME:CEST
DTSTART:20240331T010000
END:DAYLIGHT
BEGIN:STANDARD
TZOFFSETFROM:+0200
TZOFFSETTO:+0100
TZNAME:CET
DTSTART:20241027T010000
END:STANDARD
BEGIN:DAYLIGHT
TZOFFSETFROM:+0100
TZOFFSETTO:+0200
TZNAME:CEST
DTSTART:20250330T010000
END:DAYLIGHT
BEGIN:STANDARD
TZOFFSETFROM:+0200
TZOFFSETTO:+0100
TZNAME:CET
DTSTART:20251026T010000
END:STANDARD
BEGIN:DAYLIGHT
TZOFFSETFROM:+0100
TZOFFSETTO:+0200
TZNAME:CEST
DTSTART:20260329T010000
END:DAYLIGHT
BEGIN:STANDARD
TZOFFSETFROM:+0200
TZOFFSETTO:+0100
TZNAME:CET
DTSTART:20261025T010000
END:STANDARD
END:VTIMEZONE
BEGIN:VEVENT
DTSTART;TZID=Europe/Copenhagen:20250819T190000
DTEND;TZID=Europe/Copenhagen:20250819T213000
DTSTAMP:20260422T005922
CREATED:20250715T213213Z
LAST-MODIFIED:20250728T073501Z
UID:10002323-1755630000-1755639000@teosofiskforening.dk
SUMMARY:Derfor skaber du dit eget liv – med baggrund i kvantefysikken\, foredrag ved Henning R. Jensen
DESCRIPTION:Oplev et tankevækkende og livsændrende foredrag\, der giver en ny forståelse for det intelligente univers\, vi er en del af. \nCivilingeniør Henning R. Jensen forklarer i et enkelt sprog og med eksempler fra eget liv\, hvordan vi er skabere af vores eget liv via vores tanker\, følelser og overbevisninger\, fordi de skaber og udsender energi\, som påvirker os selv og vores omgivelser. \nKvantefysikken har vist os\, at enhver tanke udsender energi i form af elektromagnetiske bølger fra hjernen\, og tilsvarende udsender hjertet elektromagnetiske bølger for enhver følelse. Frekvensen af disse bølger afhænger af\, hvad vi tænker og føler. \n  \nNår du tænker positivt\, er taknemmelig\, føler kærlighed etc. så er frekvensen af bølgerne målbart højere\, end når du er desperat\, stresset eller i sorg. Dette har en afgørende betydning for dit helbred\, dit energiniveau og din evne til at lykkes. \nDisse bølger med information om hvad vi tænker og føler og hvordan vi har det\, afsættes som en unik vibration i det energifelt alting er opbygget af. Det er vores unikke DNA\, der giver os denne unikke bærebølge\, som afsættes som en unik vibration i kvantefeltet – et energifelt du kan sammenligne med et spindelvæv\, hvor enhver vibration forplanter sig øjeblikkeligt. \nDet forklarer\, hvorfor mor og spædbarn kan mærke hinanden uden at opholde sig i samme rum\, og hvordan enæggede tvillinger kan mærke hinanden\, selvom de befinder sig på hver sin side af jordkloden. Det forklarer også\, hvorfor du ”svinger” bedre med nogle mennesker end andre.      1/2 Samtidig er dit helbred styret af dine tanker og følelser\, fordi hjernen frigiver stoffer til kroppen ud fra din opfattelse af verden. \nI foredraget forklarer Henning også\, hvordan vi udnytter den viden\, kvantefysikken har givet os til at skabe et bedre liv. Et liv\, hvor vi hver især: – accepterer at alt er energi – er opmærksomme på\, at vi alle er forbundne – opnår balance mellem hjerne og hjerte (bevidsthed og underbevidsthed) – opnår balance mellem højre og venstre hjernehalvdele (feminine og maskuline energier). \nNår vi opnår balance indeni os selv\, kan vi skabe det liv\, vi ønsker\, fordi den energi\, vi udsender\, så svinger i takt – er kohærent – ligesom laserlys\, der er én stråle af lys\, der svinger ved én bestemt frekvens\, og hvor bølgerne har samme retning. Dette er grunden til\, at laserlys kan skære igennem centimeter tykke metalplader. På samme måde skal vi opnå maksimal styrke i den energi\, vi hver især udsender. Vi har derfor langt større kontrol over vores liv\, end vi normalt er opmærksomme på – vi er ikke ofre for livet\, men skabere af livet. \n  \nPris: 100/140 kr. for medlemmer/gæster. \nBemærk Max 75 deltagere \nBestil billet i god tid inden foredraget!\nLinket findes på ordrebekræftelsen i mailen man modtager\, når bestillingen er gennemført. \nTilmelding og Betaling – klik på Find billetter: \n\n \nLink til GUIDE – Bestil billet på Billetto\n  \n  \n \n  \n  \nHenning R. Jensen er foredragsholder og er uddannet civilingeniør fra DTU og Enterprise arkitekt med 22 års erfaring indenfor IT og forretningsudvikling. Som ingeniør er han trænet i at se tingene fra forskellige synsvinkler\, og han har altid haft lyst til at undersøge ting og forstå sammenhænge.\nkvantelivet.dk \n  \n  \n  \n  \n  \n  \n#kvantefysik \nID: 250819HJEffnTFK \n 
URL:https://teosofiskforening.dk/begivenhed/derfor-skaber-du-dit-eget-liv-med-baggrund-i-kvantefysikken-foredrag-ved-henning-r-jensen/
LOCATION:Teosofisk Forening København\, Sankt Knuds Vej 27A\, Frederiksberg C\, København\, 1903\, Danmark
CATEGORIES:Tirsdagsforedrag
ATTACH;FMTTYPE=image/jpeg:https://teosofiskforening.dk/wp-content/uploads/2025/07/2025.08.19-Henning-R.-Jensen-illustration-2-kopier-320x214-2-scaled.jpg
GEO:55.677929;12.549129
X-APPLE-STRUCTURED-LOCATION;VALUE=URI;X-ADDRESS=Teosofisk Forening København Sankt Knuds Vej 27A Frederiksberg C København 1903 Danmark;X-APPLE-RADIUS=500;X-TITLE=Sankt Knuds Vej 27A:geo:12.549129,55.677929
END:VEVENT
BEGIN:VEVENT
DTSTART;TZID=Europe/Copenhagen:20250820T173000
DTEND;TZID=Europe/Copenhagen:20250820T190000
DTSTAMP:20260422T005922
CREATED:20250110T172313Z
LAST-MODIFIED:20250110T172502Z
UID:10001930-1755711000-1755716400@teosofiskforening.dk
SUMMARY:Hearts and Hands Healing
DESCRIPTION:Gratis healing Er du syg\, i krise eller søgende\, er du velkommen til at møde op i Teosofisk Forenings lokaler\, hvor Hearts and Hands terapeuterne er klar til at tage imod hver onsdag fra kl. 18.00 – 19.00 Der er ingen forudbestilling. Healingen er ikke en erstatning for lægehjælp\, men et supplement til denne.  \n\n\n\n\n\nOm Hearts & Hands \n\n\n\nHearts & Hands er en organisation af frivillige\, der tilbyder gratis healing. Alle er velkomne. \n\n\n\n\nVores formål er at tilbyde gratis healing og derigennem hjælp til selvhjælp\n\n\n\nVi er ikke tilknyttet en bestemt religion\, spirituel eller religiøs retning\n\n\n\nVi består af frivillige healere\, der stiller tid og evner til rådighed\n\n\n\nHealerne i Hearts & Hands har tavshedspligt\, arbejder anonymt og i stilhed\n\n\n\nNår du modtager healing i Hearts and Hands\, får du ingen råd\, vejledning\, diagnose eller clairvoyante beskeder. Du modtager blot healing i stilhed\n\n\n\nAlle i Hearts & Hands arbejder ud fra et fælles Code of Conduct og etiske retningslinjer\n\n\n\nHearts & Hands eksisterer på baggrund af donationer\n\n\n\nHearts & Hands blev stiftet i 2003 på initiativ af Lars Muhl\n\n \n\n\n\n\n\n\n  \n\n\n\nFor yderligere oplysninger: Hearts and Hands 
URL:https://teosofiskforening.dk/begivenhed/hearts-and-hands-healing/2025-08-20/
LOCATION:Teosofisk Forening København\, Sankt Knuds Vej 27A\, Frederiksberg C\, København\, 1903\, Danmark
CATEGORIES:Studiegruppe
GEO:55.677929;12.549129
X-APPLE-STRUCTURED-LOCATION;VALUE=URI;X-ADDRESS=Teosofisk Forening København Sankt Knuds Vej 27A Frederiksberg C København 1903 Danmark;X-APPLE-RADIUS=500;X-TITLE=Sankt Knuds Vej 27A:geo:12.549129,55.677929
END:VEVENT
BEGIN:VEVENT
DTSTART;TZID=Europe/Copenhagen:20250824T110000
DTEND;TZID=Europe/Copenhagen:20250824T123000
DTSTAMP:20260422T005922
CREATED:20250723T211635Z
LAST-MODIFIED:20250729T211242Z
UID:10002326-1756033200-1756038600@teosofiskforening.dk
SUMMARY:Tjeneste (Fysisk) ved Center for Levende Teosofi
DESCRIPTION:Meditation\, healing og verdenstjeneste\nCenter for Levende Teosofi er et spirituelt fokus med særlig vægt på verdenstjeneste og udvikling af sjælens potentiale. \nGennem dynamisk meditation bliver mennesket bedre i stand til at kontrollere personligheden\, udfolde de højere talenter og opleve enhed i livet. Og det kan afdække aspekter af den indre sande natur\, det Højere Selv eller bevidsthed\, som det kan bruge til gavn i eget liv og andres liv. \nHealing kan afbalancere de finere legemer og energier\, og gennem sand healing sker der en overførsel af Helligånden og højere åndelige energier. Healing er en af de bedste måder at perfektionere sjæl og personlighed. Sand healing styrker ligesom meditation forbindelsen til sjælen og det Højere Selv. \nVerdenstjeneste er et åndeligt esoterisk arbejde\, som har til formål at heale Jorden og menneskeheden\, og enhver tjeneste bygger på principperne fra den Ædle Ottefoldige Vej og Rette Menneskelige Forbindelser. En tjeneste er uselvisk arbejde\, at vise viljen til det gode\, at udfolde livets indre formål\, at blive en lysbærer og at oplyse Jorden og menneskeheden. Dette arbejde er en del af den nye tidsalders ceremonielle praksis for verdenstjenere. \nDerudover afholdes der meditationer\, tjenester og healing via Zoom. \nFysiske tjenester afholdes hos Teosofisk Forening København på følgende datoer i efteråret 2025: \n  \nSøndag d. 24. august 2025 kl. 11:00 Frederiksberg – Hjertehealingstjeneste \nSøndag d. 26. oktober 2025 kl. 11:00 Frederiksberg – Den Hellige Moders Tjeneste \nSøndag d. 30. november 2025 kl. 11:00 Frederiksberg – Det Opstandne Livs Tjeneste \nOnsdag d. 24. december 2025 kl. 11:00 Frederiksberg – Juletjeneste / Hjertehealingstjeneste \nOnsdag d. 31. december 2025 kl. 11:00 Frederiksberg – Nytårstjeneste / Kosmisk Tjeneste \n  \nVi anbefaler at komme i god tid\, da tjenesterne begynder præcist\, og dørene lukkes ved start. \nFor yderligere oplysninger besøg vores hjemmeside: https://www.levendeteosofi.dk/da/ \nCenter for Levende TeosofiID: 250824CFLTmedTFK
URL:https://teosofiskforening.dk/begivenhed/center-for-levende-teosofi-5/2025-08-24/
LOCATION:Teosofisk Forening København\, Sankt Knuds Vej 27A\, Frederiksberg C\, København\, 1903\, Danmark
CATEGORIES:Lukket gruppe,Meditation
GEO:55.677929;12.549129
X-APPLE-STRUCTURED-LOCATION;VALUE=URI;X-ADDRESS=Teosofisk Forening København Sankt Knuds Vej 27A Frederiksberg C København 1903 Danmark;X-APPLE-RADIUS=500;X-TITLE=Sankt Knuds Vej 27A:geo:12.549129,55.677929
END:VEVENT
END:VCALENDAR