BEGIN:VCALENDAR
VERSION:2.0
PRODID:-//Teosofisk Forening København - ECPv6.15.20//NONSGML v1.0//EN
CALSCALE:GREGORIAN
METHOD:PUBLISH
X-WR-CALNAME:Teosofisk Forening København
X-ORIGINAL-URL:https://teosofiskforening.dk
X-WR-CALDESC:Begivenheder for Teosofisk Forening København
REFRESH-INTERVAL;VALUE=DURATION:PT1H
X-Robots-Tag:noindex
X-PUBLISHED-TTL:PT1H
BEGIN:VTIMEZONE
TZID:Europe/Copenhagen
BEGIN:DAYLIGHT
TZOFFSETFROM:+0100
TZOFFSETTO:+0200
TZNAME:CEST
DTSTART:20240331T010000
END:DAYLIGHT
BEGIN:STANDARD
TZOFFSETFROM:+0200
TZOFFSETTO:+0100
TZNAME:CET
DTSTART:20241027T010000
END:STANDARD
BEGIN:DAYLIGHT
TZOFFSETFROM:+0100
TZOFFSETTO:+0200
TZNAME:CEST
DTSTART:20250330T010000
END:DAYLIGHT
BEGIN:STANDARD
TZOFFSETFROM:+0200
TZOFFSETTO:+0100
TZNAME:CET
DTSTART:20251026T010000
END:STANDARD
BEGIN:DAYLIGHT
TZOFFSETFROM:+0100
TZOFFSETTO:+0200
TZNAME:CEST
DTSTART:20260329T010000
END:DAYLIGHT
BEGIN:STANDARD
TZOFFSETFROM:+0200
TZOFFSETTO:+0100
TZNAME:CET
DTSTART:20261025T010000
END:STANDARD
END:VTIMEZONE
BEGIN:VEVENT
DTSTART;TZID=Europe/Copenhagen:20250804T170000
DTEND;TZID=Europe/Copenhagen:20250804T174500
DTSTAMP:20260422T071904
CREATED:20250630T213718Z
LAST-MODIFIED:20260110T160535Z
UID:10002303-1754326800-1754329500@teosofiskforening.dk
SUMMARY:HOLISTISK MOTION før foredrag ved Den Indre Sol
DESCRIPTION:Gør noget godt for dig selv!\nGør noget godt for din krop\, psyke og ånd! \nQi gong\, åndedræt og lyd\nTidspunkt: Kl. 17:00 – 17:45 (inden Foredrag\, kanalisering og meditation) \nSted: TFK’s lokaler på Frederiksberg\nPris pr. gang: 25 kr.\nDer er ingen tilmelding – bare kom og vær med! \n\nQi gong – En kinesisk bevægelseskunst\nKinesisk bevægelse til stille rytmisk musik\nLangsom bevægelse med bevidst åndedræt\, hvor krop\, psyke og ånd forenes\, og som herigennem bliver til en aktiv form for meditation i samklang med musikken. Qi gong er en kinesisk bevægelsesform\, som består af stille bevægelse samtidig med et bevidst åndedræt\, og dette skaber en aktiv form for meditation\, der giver både motion\, jordforbindelse og mulighed for at komme i en meditativ tilstand. Qi gong\, er forløberen for Tai Chi og den bliver brugt som forebyggende behandling og behandling på kinesiske hospitaler. Så det er både sundt og åndeligt udviklende at praktisere Qi gong. \nÅndedræt\, mantrasang og lyd på chakraerne\nHjerteåndedræt\, bijamantraer og tonesang på de 7 hovedchakraer\nNår vi laver hjerteåndedræt på chakraerne\, bliver chakraerne åbnet. Når vi synger Bija mantraer på chakraerne får vi en god kontakt med chakraerne gennem kroppen. Og når vi synger tonesang på chakraerne\, bliver chakraerne aktiveret\, renset\, balanceret og healet. \n \nDen Indre Sol: Ziadria og Michael\n\nEmail: denindresol@gmail.com\ntlf. 61330508\nwww.facebook.com/denindresol \n\n 
URL:https://teosofiskforening.dk/begivenhed/holistisk-motion-foer-foredrag-ved-den-indre-sol-2/2025-08-04/
CATEGORIES:Lukket gruppe,Meditation
ATTACH;FMTTYPE=image/png:https://teosofiskforening.dk/wp-content/uploads/2025/06/Den-Indre-Sol-Holistisk-motion-320x214-1.png
END:VEVENT
BEGIN:VEVENT
DTSTART;TZID=Europe/Copenhagen:20250804T180000
DTEND;TZID=Europe/Copenhagen:20250804T203000
DTSTAMP:20260422T071904
CREATED:20250630T165801Z
LAST-MODIFIED:20250630T212405Z
UID:10002281-1754330400-1754339400@teosofiskforening.dk
SUMMARY:DEN FEMININE GRAL - I MODERGUDINDENS HJERTE ved Den Indre Sol
DESCRIPTION:Inden meditationen er der Holistisk Motion ved den Indre Sol: Qi gong og åndedræt og lyd på chakraerne kl. 17-17.45. Betaling: 25 kr. Se nærmere beskrivelse: link  \n  \nDen Feminine Hjertegral/Den Feminine kærlighedsstrøm \nForedrag\, dans\, sang\, meditation\, healing og hjertecirkel \n12 mandage kl. 18-20.30  \nFå en dybere forståelse af Det Feminine Hierarki\, og lær hvordan du kan samarbejde med Gralsgudinden fra Avalon og De Feminine Mestre. \n\nVær med til at lave lysarbejde i Den Feminine Kærlighedsstrøm og bliv en del af Den Feminine Hjertegralscirkel (rejse til Glastonbury i pinsen 2025).\nVær med til at styrke Den Feminine Kærlighedsstrøm på Jorden\, og bliv forenet med Den Feminine kærlighed herigennem.\nModtag healing og inspiration fra Gralsgudinden/Solenglen fra Avalon og De Feminine Mestre\, og bliv integreret med Den Feminine Kærlighedsstrøm.\n\nBevidst lysarbejde for Jorden og for dig selv – Kom og vær med til at styrke Den feminine kærlighedsstrøm på Jorden – og vær med til at lave en lysindstrømning i Teosofisk Forening. \n  \nEntré: 100 kr. – Ingen tilmelding – bare kom! \n  \nPROGRAM \nMandag den 28/4 2025 kl. 18 – 20.30:\n1. stråle – Gralsgudinden fa Avalon og Lady Miriam Åben dig for Gralsgudinden – Solenglen fra Avalon – og Den Keltiske Modergudinde og Den Feminine Mester Lady Miriam.\nBliv forenet med Den Feminine Kraft og vilje. \nMandag den 19/5 2025 kl. 18-20.30:\n2. stråle – Gralsgudinden fra Avalon og Lady Debra. Åben dig for Gralsgudinden – Solenglen fra Avalon – og Den Keltiske Modergudinde og Den Feminine Mester Lady Debra.\nBliv forenet med hendes medfølende og uselviske kærlighed. \nMandag den 16/6 2025 kl. 18-20.30:\n3. stråle – Gralsgudinden fra Avalon og Lady Rowena. Åben dig for Gralsgudinden – Solenglen fra Avalon – og Den Keltiske Modergudinde og Den Feminine Mester Lady Rowena.\nBliv forenet med hendes kreative og skabende kærlighed. \nMandag den 14/7 2025 kl. 18-20.30:\n4. stråle – Gralsgudinden Avalon og Lady Celeste. Åben dig for Gralsgudinde – Solenglen fra Avalon og Den Keltiske Modergudinde og Den Feminine Mester Lady Celeste/ White Buffalo Woman.\nBliv forenet med hendes dybe kærlighed til Jorden. \nMandag den 4/8 2025 kl. 18-20.30:\n5. stråle – Gralsgudinden fra Avalon og Lady Rochelle. Åben dig for Gralsgudinden – Solenglen fra Avalon og Den Keltiske Modergudinde og Den Feminine Mester Lady Rochelle/Bridget.\nBliv forenet med hendes sande\, rensende og healende kærlighed. \nMandag den 15/9 2025 kl. 18-20.30:\n6. stråle – Gralsgudinden fra Avalon og Maria Magdalene. Åben dig for Gralsgudinden – Solenglen fra Avalon og Den Keltiske Modergudinde og Den Feminine Mester Maria Magdalene.\nBliv forenet med hendes dybe og hengivende kærlighed. \nMandag den 13/10 2025 kl. 18-20.30:\n7. stråle – Gralsgudinden fra Avalon og Lady Portia. Åben dig for Gralsgudinden – Solenglen fra Avalon og Den Keltiske Modergudinde og Den Feminine Mester Lady Portia.\nBliv forenet med hendes rensende\, forvandlende og helliggørende kærlighed. \nMandag den 10/11 2025 kl. 18-20.30:\n8. stråle – Gralsgudinden fra Avalon og Lady Nada. Åben dig for Gralsgudinden – Solenglen fra Avalon og Den Keltiske Modergudinde og Den Feminine Mester Lady Nada.\nBliv forenet med hendes ubetingede kærlighed og Marias medfølende kærlighed. \nMandag den 8/12 2025 kl. 18-20.30:\n9. stråle -Gralsgudinden fra Avalon og Lady Athene. Åben dig for Gralsgudinden – Solenglen fra Avalon og Den Keltiske Modergudinde og Den Feminine Mester Lady Athene.\nBliv forenet med hendes frigørende kærlighed. \nMandag den 12/1 2026 kl. 18-20.30:\n10. stråle – Gralsgudinden fra Avalon og Kwan Yin. Åben dig for Gralsgudinden – Solenglen fra Avalon og Den Keltiske Modergudinde og Den Feminine Mester Kwan Yin.\nBliv forenet med hendes medfølende kærlighed og hendes dybe visdom. \nMandag den 9/2 2026 kl. 18-20.30:\n11. stråle – Gralsgudinden fra Avalon og Isis. Åben dig for Gralsgudinden – Solenglen fra Avalon og Den Keltiske Modergudinde og Den Feminine Mester Isis.\nLad hendes kærlighed gøre dit hjerte til en åben lotusblomst. \nMandag den 9/3 2026 kl. 18-20.30:\n12. stråle–Gralsgudinden fra Avalon/Den Store Modergudinde. Åben dig for Gralsgudinden – Solenglen fra Avalon – Den Keltiske Modergudinde.\nLad hendes kærlighed gøre dit hjerte til en modtagende kærlighedsgral. \n  \n \nDen Indre Sol: Ziadria og Michael \nEmail: denindresol@gmail.com\ntlf. 61330508\nwww.facebook.com/denindresol \n  \n  \n 
URL:https://teosofiskforening.dk/begivenhed/den-feminine-gral-i-modergudindens-hjerte-ved-den-indre-sol-2/2025-08-04/
LOCATION:Teosofisk Forening København\, Sankt Knuds Vej 27A\, Frederiksberg C\, København\, 1903\, Danmark
CATEGORIES:Lukket gruppe,Tirsdagsforedrag
ATTACH;FMTTYPE=image/jpeg:https://teosofiskforening.dk/wp-content/uploads/2024/06/2023.04.14-DEN-INDRE-SOL-320x214-1.jpg
GEO:55.677929;12.549129
X-APPLE-STRUCTURED-LOCATION;VALUE=URI;X-ADDRESS=Teosofisk Forening København Sankt Knuds Vej 27A Frederiksberg C København 1903 Danmark;X-APPLE-RADIUS=500;X-TITLE=Sankt Knuds Vej 27A:geo:12.549129,55.677929
END:VEVENT
BEGIN:VEVENT
DTSTART;TZID=Europe/Copenhagen:20250806T140000
DTEND;TZID=Europe/Copenhagen:20250810T133000
DTSTAMP:20260422T071904
CREATED:20250302T211701Z
LAST-MODIFIED:20250530T090315Z
UID:10002254-1754488800-1754832600@teosofiskforening.dk
SUMMARY:150 - ÅRET FOR TEOSOFIEN hos DEN GYLDNE CIRKEL\, 6. til 10. august 2025
DESCRIPTION:  \nVELKOMMEN\ntil samling omkring åndelig indsigt og fællesskab!\nGennem fem dage hos Den Gyldne Cirkel udforsker vi teosofiens dybder\, frimureriets mysterier\, og åndelig visdom ved Liberal Katolsk Kirke. \nMed historien som bagtæppe og fremtiden som sigtepunkt vil vi dykke ned i inspirerende oplæg\, ceremonier og reflekterende ritualer\, som hver især åbner nye perspektiver. Sammen skaber vi et rum\, hvor fortidens visdom og fremtidens muligheder kan mødes og blomstre\, og hvor deltageren kan finde både inspiration og fællesskab på sjælens rejse. \nHele programmet findes her: pdf folder \n  \n  \n\n\n\n\nINFO vedr. DELTAGELSE og BETALING\n  \nFra onsdag den 6/8 14:00 – søndag den 10/8 2025 13:30 \nSted: Den Gyldne Cirkel\, Sonnerupvej 25\, 3300 Frederiksværk\, Danmark \nDeltagerafgift: DKK 800 alle 5 dage\, eller dagsbillet d. 7\, 8. og 9. august DKK 300 per dag.\nD. 6. og d. 10. august er prisen 200 per dag.\nInkluderer kaffe\, te og kage eftermiddag \nKøb billet – se nedenfor. \n  \nMad: DKK 400 per heldag (DKK 200 for første og sidste dag)\nAftensmad alene 200 kr/aften. \nMad betales til Den Gyldne Cirkel\, konto 1551-0003628469.\nBetaling fra udlandet tjek: www.dengyldnecirkel.dk \nOvernatning: Reserveres på info@dengyldnecirkel.dk.\nMulighed for telt og campingvogn på området.\nOvernatning kan også bookes i nærheden\, på vandrehjem\, hotel mm.\, liste med forslag kan sendes. \nTilmelding til deltagelse: Senest den 8. juni 2025\, ved køb af billet.\nTilmelding for overnatning og mad: info@dengyldnecirkel.dk\n\n\n\n  \nTilmelding og Betaling – klik på Find billetter: \n\n \nLink til Guide: Bestil billet på Billetto \n \nOnsdag 6/8 – Den Gyldne Cirkel\nDagen starter med en velkomst og stemningsfuld åbningsceremoni\, der sætter tonen for dette unikke arrangement fyldt med åndeligt fælles[1]skab og inspiration. \nVi dykker ned i Den Gyldne Cirkels historie og mission\, med meditation og oplæg\, der inviterer til indre refleksion og fordybelse. Inspireret af As[1]ger Lorentsens vision og livsværk\, har denne dag bl.a. til formål at styrke vores forståelse af den Solkristus-impuls\, der åbner op til Kristi hjerte og støtter mennesker på deres indvielsesvej. Aftenen kulminerer i en gralstjeneste\, som skaber en fælles oplevelse af lys\, indsigt og åndelig samhørighed. \n  \nTorsdag 7/8 – Teosofisk Forening København/Ålborg\n Vi tages med på en spændende rejse ind i teosofiens verden og dens tid[1]løse visdom. \nDagen byder på en introduktion til Blavatskys ikoniske værk Den hemmelige lære\, et overblik over den teosofiske tidslinje og indsigt i hvordan teosofiens idéer kan finde resonans i den moderne forskning. \nMed plads til refleksion og dialog slutter vi af med at rette blikket mod fremtiden: Hvilken rolle vil teosofien spille i en verden præget af forandring? \n  \nFredag 8/8 – Fællesfrimureri for mænd og kvinder\, Le Droit Humain\nOplev en dag\, hvor frimureriets historie\, værdier og fremtid foldes ud gennem inspirerende oplæg\, meditation og ritualer. \nVi udforsker frimureriets betydning for både mænd og kvinder og dykker ned i teosofiens indflydelse på frimurernes praksis. \nDagen byder også på personlige fortællinger om rejsen i frimureriet samt indsigt i opbygning af nye loger. Endelig får vi mulighed for at opleve et frimurerritual\, der maner til refleksion og fællesskab i frimurerisk kontekst. \n  \nLørdag 9/8 – Liberal Katolsk Kirke\nLiberal Katolsk Kirke har rødder i visdoms- og mysterietraditionen. Det belyses\, hvordan kirken er en unik forening af kristendom og teosofi – fra kristendommen har den arvet sakramenterne\, den katolske ritus og den kristne mystik\, og fra teosofien den esoteriske lære. \nVi vil arbejde med hvordan Kristuskræfterne virker igennem sakramenterne\, det bevidstgjorte aktive gruppearbejde og samarbejdet med engle[1]riget. Derudover vil vi også berøre emner som personlig spirituel udvikling og meditationspraksis. \n  \nSøndag 10/8 – Den Gyldne Cirkel\nPå konferencens sidste dag skuer vi ind i og reflekterer over det dybe åndelige formål\, der ligger bag Den Gyldne Cirkels virke og her især skabelsen af The Golden Foundation og templet på Kreta. \nVi vil også stifte bekendtskab med den tjenesteform som er en del af Den Gyldne Cirkels virke\, til hjælp for jorden og til at styrke netværket af lysarbejdere. \n  \n  \nDETALIERET PROGRAM\nDer tages forbehold for ændringer til programmet.\nOnsdag 6/8 – Fælles opstart og Den Gyldne Cirkel\n14.00 Velkomst\n14.30 Åbningsceremoni\n15.00 Impulsen bag Den Gyldne Cirkel. Asger Lorentsens og DGCs opgave og virke. Meditation med Asger. The Order of The Gol den Grail: impulsens tilblivelse og virke\n16.00 Kaffepause\n16.20 Fortsat DGC og Solmeditation\n17.15 Aftenpause med spisning\n19.00 Forståelse af Gralen. Gralstjeneste\n21.00 Afrunding og programmet for i morgen \nTorsdag 7/8 – Teosofisk Forening København/Ålborg\n10.00 Velkomst og meditation\n10.20 Blavatsky\, Den hemmelige lære\, Teosofisk samfund\n12.30 Frokost / lunch\n14.15 Den teosofiske tidslinje. De nye teosofiske søskende\n15.45 Kaffepause\n16.15 Teosofi og forskning. Mulighed for enkelte spørgsmål\n17.15 Aftenpause med spisning\n19.00 Hvor er teosofien på vej hen?\n21.00 Afrunding og programmet for i morgen \nFredag 8/8 – Fællesfrimureri for mænd og kvinder\, Le Droit Humain\n10.00 Velkomst Meditation gennem livets træ og embeder i logen\n10.30 Frimureriets historie\n12.30 Frokost / lunch\n14.15 Teosofiens betydning for vort frimureri\nErfaringer med opstart af en ny loge\n15.45 Kaffepause\n16.15 Min rejse i frimureri og teosofi. Frimureriets fremtid. Spørgsmål og svar\n17.15 Aftenpause med spisning\n19.00 Ritual (åbent ritual)\n21.00 Afrunding og programmet for i morgen \n  \nLørdag 9/8 – Liberal Katolsk kirke\n10.00 Hvad er Liberal Katolsk Kirke\n12.30 Frokost / lunch\n14.15 Hvad er Helbredelsestjeneste? Efterfulgt af afholdelse af en Helbredelsestjeneste\n15.45 Kaffepause\n16.15 Vekselsang med det tronede sakramente\, uddeling af Kommunion Kristus meditation\n17.15 Aftenpause med spisning\n19.00 Indvielsesceremoni\n21.00 Afrunding og programmet for i morgen \n  \nSøndag 10/8 – Den Gyldne Cirkel\n10.00 Morgenmeditation Kretaprojektet og templet på Kreta\, opgave og virke\n11.10-12.00 Afslutning. Tak for denne gang\n 12.00-13.00 Kristustjeneste \nID: 250806DGCkfyTFK
URL:https://teosofiskforening.dk/begivenhed/150-aaret-for-teosofien-hos-den-gyldne-cirkel-6-til-10-august-2025/
LOCATION:Teosofisk Forening København\, Sankt Knuds Vej 27A\, Frederiksberg C\, København\, 1903\, Danmark
CATEGORIES:Kursus
ATTACH;FMTTYPE=image/jpeg:https://teosofiskforening.dk/wp-content/uploads/2025/03/2025.08.06-10-320x214-plakat.jpg
GEO:55.677929;12.549129
X-APPLE-STRUCTURED-LOCATION;VALUE=URI;X-ADDRESS=Teosofisk Forening København Sankt Knuds Vej 27A Frederiksberg C København 1903 Danmark;X-APPLE-RADIUS=500;X-TITLE=Sankt Knuds Vej 27A:geo:12.549129,55.677929
END:VEVENT
BEGIN:VEVENT
DTSTART;TZID=Europe/Copenhagen:20250806T173000
DTEND;TZID=Europe/Copenhagen:20250806T190000
DTSTAMP:20260422T071904
CREATED:20250110T172313Z
LAST-MODIFIED:20250110T172502Z
UID:10001928-1754501400-1754506800@teosofiskforening.dk
SUMMARY:Hearts and Hands Healing
DESCRIPTION:Gratis healing Er du syg\, i krise eller søgende\, er du velkommen til at møde op i Teosofisk Forenings lokaler\, hvor Hearts and Hands terapeuterne er klar til at tage imod hver onsdag fra kl. 18.00 – 19.00 Der er ingen forudbestilling. Healingen er ikke en erstatning for lægehjælp\, men et supplement til denne.  \n\n\n\n\n\nOm Hearts & Hands \n\n\n\nHearts & Hands er en organisation af frivillige\, der tilbyder gratis healing. Alle er velkomne. \n\n\n\n\nVores formål er at tilbyde gratis healing og derigennem hjælp til selvhjælp\n\n\n\nVi er ikke tilknyttet en bestemt religion\, spirituel eller religiøs retning\n\n\n\nVi består af frivillige healere\, der stiller tid og evner til rådighed\n\n\n\nHealerne i Hearts & Hands har tavshedspligt\, arbejder anonymt og i stilhed\n\n\n\nNår du modtager healing i Hearts and Hands\, får du ingen råd\, vejledning\, diagnose eller clairvoyante beskeder. Du modtager blot healing i stilhed\n\n\n\nAlle i Hearts & Hands arbejder ud fra et fælles Code of Conduct og etiske retningslinjer\n\n\n\nHearts & Hands eksisterer på baggrund af donationer\n\n\n\nHearts & Hands blev stiftet i 2003 på initiativ af Lars Muhl\n\n \n\n\n\n\n\n\n  \n\n\n\nFor yderligere oplysninger: Hearts and Hands 
URL:https://teosofiskforening.dk/begivenhed/hearts-and-hands-healing/2025-08-06/
LOCATION:Teosofisk Forening København\, Sankt Knuds Vej 27A\, Frederiksberg C\, København\, 1903\, Danmark
CATEGORIES:Studiegruppe
GEO:55.677929;12.549129
X-APPLE-STRUCTURED-LOCATION;VALUE=URI;X-ADDRESS=Teosofisk Forening København Sankt Knuds Vej 27A Frederiksberg C København 1903 Danmark;X-APPLE-RADIUS=500;X-TITLE=Sankt Knuds Vej 27A:geo:12.549129,55.677929
END:VEVENT
BEGIN:VEVENT
DTSTART;TZID=Europe/Copenhagen:20250808T180000
DTEND;TZID=Europe/Copenhagen:20250808T184500
DTSTAMP:20260422T071904
CREATED:20250210T163558Z
LAST-MODIFIED:20250211T162907Z
UID:10002231-1754676000-1754678700@teosofiskforening.dk
SUMMARY:DANSEMEDITATION ved Den Indre Sol
DESCRIPTION:Hjertets Dansemeditation i fuldmånens kærlighedsstrøm\n  \nÅben dig for fuldmånens kærlighedsstrøm gennem dans og dans dig dybere og dybere ind i dig selv\, din krop og dansens univers.\nTidspunkt: kl. 18.00-18.45\nEntre: 25 kr.\nSted: Teosofisk Forening\, Sankt Knuds Vej 27 A\, 1903 Frederiksberg\nDatoer:\nMandag den 14/4/ 2025: Fuldmåne i Vædderen (Vægten) - (Påskefestivalen)\nMandag den 12/5 2025: Fuldmåne i Tyren (Skorpionen) – (Wesakfestivalen)\nFredag den 13/6 2025: Fuldmåne i Tvillingerne (Skytten) (Den Gode Viljes Fest)\nFredag den 11/7 2024: Fuldmåne i Krebsen (Stenbukke)\nFredag den 8/8 2025: Fuldmåne i Løven (Vandmanden)\nMandag den 8/9 2025: Fuldmåne i Jomfruen (Fiskene)\nMandag den 6/10 2025: Fuldmåne i Vægten (Vædderen)\nMandag den 3/11 2025 Fuldmåne i Skorpionen (Tyren)\nFredag den 5/12 2025: Fuldmåne i Skytten (Tvillingerne) (Julefuldmånen)\nFredag den 2/1 2026: Fuldmåne i Stenbukken (Krebsen)\nMandag den 2/2 2026: Fuldmåne i Vandmanden (Løven)\nMandag den 2/3 2026: Fuldmåne i Fiskene (Jomfruen)\n\nTilmelding: Ingen tilmelding – bare kom – Alle er velkomne!\n 
URL:https://teosofiskforening.dk/begivenhed/dansemeditation-ved-den-indre-sol/2025-08-08/
LOCATION:Teosofisk Forening København\, Sankt Knuds Vej 27A\, Frederiksberg C\, København\, 1903\, Danmark
CATEGORIES:Lukket gruppe,Meditation
ATTACH;FMTTYPE=image/jpeg:https://teosofiskforening.dk/wp-content/uploads/2025/02/2025-Dansemeditation-Den-Indre-Sol-320x214-1.jpg
GEO:55.677929;12.549129
X-APPLE-STRUCTURED-LOCATION;VALUE=URI;X-ADDRESS=Teosofisk Forening København Sankt Knuds Vej 27A Frederiksberg C København 1903 Danmark;X-APPLE-RADIUS=500;X-TITLE=Sankt Knuds Vej 27A:geo:12.549129,55.677929
END:VEVENT
BEGIN:VEVENT
DTSTART;TZID=Europe/Copenhagen:20250808T190000
DTEND;TZID=Europe/Copenhagen:20250808T203000
DTSTAMP:20260422T071904
CREATED:20250208T230239Z
LAST-MODIFIED:20250709T212957Z
UID:10002210-1754679600-1754685000@teosofiskforening.dk
SUMMARY:FULDMÅNEMEDITATION I LØVENS TEGN ved DEN INDRE SOL
DESCRIPTION:Dansemeditation i fuldmånens kærlighedsstrøm.\nInden meditationen er det muligt at åbne dig for fuldmånen gennem frigørende dans.\nkl. 18-18.45Betaling: 25 kr. Se nærmere beskrivelse:  link \n  \nFuldmåneceremonien består af: \nÅndedrætsmeditation\, Meditativ cirkeldans\, Mantrasang og Jordhealingsmeditation. \nVi åbner os for Fuldmånens Kærlighedsstrøm fra de planeter der påvirker os på både personlighedsplanet og sjælsplanet i den pågældende måned.\nInden vi går i gang\, vil du blive introduceret i fuldmåneenergiens muligheder og problemstillinger/udfordringer\, som vi bliver påvirket af i den pågældende måned.\nEfter meditationen vil du modtage inspiration fra et englekort. \n  \nEksakt fuldmånetidspunkt er lørdag 9. august 2025 09:57:07 \nMånedens spirituelle mantra: ”Jeg er det\, og det er jeg” \n  \nArrangementet er gratis\, og kræver ingen tilmelding. Du møder bare op. \nDu er velkommen til at give en donation til hjælp til betaling af huslejen.\nVi anbefaler 50 kr. men alt er velkomment.\nDu kan lægge donationen i fletkurven ved indgangen eller indbetale på mobilpay nr. 91597 \n  \nVed Fuldmåne og Nymåne er der en særlig planetarisk indstrømning til jorden\, som påvirker os alle kollektivt to dage før\, på selve dagen og to dage efter. Ved fuldmånen er det optimalt at lave jordhealingsmeditation og uselvisk lysarbejde for Jorden\, og ved nymåne er det optimalt at lave kanalisering- og healingsmeditation\, og personligt forvandlingsarbejde. \n \nDen Indre Sol: Ziadria og Michael \nEmail: denindresol@gmail.com\ntlf. 61330508\nwww.facebook.com/denindresol \n  \n\n250808MED\n\n 
URL:https://teosofiskforening.dk/begivenhed/fuldmaanemeditation-i-loevens-tegn-ved-den-indre-sol-2/
LOCATION:Teosofisk Forening København\, Sankt Knuds Vej 27A\, Frederiksberg C\, København\, 1903\, Danmark
CATEGORIES:Meditation
ATTACH;FMTTYPE=image/jpeg:https://teosofiskforening.dk/wp-content/uploads/2024/02/leo-320x214-1.jpg
GEO:55.677929;12.549129
X-APPLE-STRUCTURED-LOCATION;VALUE=URI;X-ADDRESS=Teosofisk Forening København Sankt Knuds Vej 27A Frederiksberg C København 1903 Danmark;X-APPLE-RADIUS=500;X-TITLE=Sankt Knuds Vej 27A:geo:12.549129,55.677929
END:VEVENT
END:VCALENDAR