BEGIN:VCALENDAR
VERSION:2.0
PRODID:-//Teosofisk Forening København - ECPv6.15.20//NONSGML v1.0//EN
CALSCALE:GREGORIAN
METHOD:PUBLISH
X-ORIGINAL-URL:https://teosofiskforening.dk
X-WR-CALDESC:Begivenheder for Teosofisk Forening København
REFRESH-INTERVAL;VALUE=DURATION:PT1H
X-Robots-Tag:noindex
X-PUBLISHED-TTL:PT1H
BEGIN:VTIMEZONE
TZID:Europe/Copenhagen
BEGIN:DAYLIGHT
TZOFFSETFROM:+0100
TZOFFSETTO:+0200
TZNAME:CEST
DTSTART:20240331T010000
END:DAYLIGHT
BEGIN:STANDARD
TZOFFSETFROM:+0200
TZOFFSETTO:+0100
TZNAME:CET
DTSTART:20241027T010000
END:STANDARD
BEGIN:DAYLIGHT
TZOFFSETFROM:+0100
TZOFFSETTO:+0200
TZNAME:CEST
DTSTART:20250330T010000
END:DAYLIGHT
BEGIN:STANDARD
TZOFFSETFROM:+0200
TZOFFSETTO:+0100
TZNAME:CET
DTSTART:20251026T010000
END:STANDARD
BEGIN:DAYLIGHT
TZOFFSETFROM:+0100
TZOFFSETTO:+0200
TZNAME:CEST
DTSTART:20260329T010000
END:DAYLIGHT
BEGIN:STANDARD
TZOFFSETFROM:+0200
TZOFFSETTO:+0100
TZNAME:CET
DTSTART:20261025T010000
END:STANDARD
END:VTIMEZONE
BEGIN:VEVENT
DTSTART;TZID=Europe/Copenhagen:20250616T180000
DTEND;TZID=Europe/Copenhagen:20250616T203000
DTSTAMP:20260423T125557
CREATED:20250630T165801Z
LAST-MODIFIED:20250630T212405Z
UID:10002217-1750096800-1750105800@teosofiskforening.dk
SUMMARY:DEN FEMININE GRAL - I MODERGUDINDENS HJERTE ved Den Indre Sol
DESCRIPTION:Inden meditationen er der Holistisk Motion ved den Indre Sol: Qi gong og åndedræt og lyd på chakraerne kl. 17-17.45. Betaling: 25 kr. Se nærmere beskrivelse: link  \n  \nDen Feminine Hjertegral/Den Feminine kærlighedsstrøm \nForedrag\, dans\, sang\, meditation\, healing og hjertecirkel \n12 mandage kl. 18-20.30  \nFå en dybere forståelse af Det Feminine Hierarki\, og lær hvordan du kan samarbejde med Gralsgudinden fra Avalon og De Feminine Mestre. \n\nVær med til at lave lysarbejde i Den Feminine Kærlighedsstrøm og bliv en del af Den Feminine Hjertegralscirkel (rejse til Glastonbury i pinsen 2025).\nVær med til at styrke Den Feminine Kærlighedsstrøm på Jorden\, og bliv forenet med Den Feminine kærlighed herigennem.\nModtag healing og inspiration fra Gralsgudinden/Solenglen fra Avalon og De Feminine Mestre\, og bliv integreret med Den Feminine Kærlighedsstrøm.\n\nBevidst lysarbejde for Jorden og for dig selv – Kom og vær med til at styrke Den feminine kærlighedsstrøm på Jorden – og vær med til at lave en lysindstrømning i Teosofisk Forening. \n  \nEntré: 100 kr. – Ingen tilmelding – bare kom! \n  \nPROGRAM \nMandag den 28/4 2025 kl. 18 – 20.30:\n1. stråle – Gralsgudinden fa Avalon og Lady Miriam Åben dig for Gralsgudinden – Solenglen fra Avalon – og Den Keltiske Modergudinde og Den Feminine Mester Lady Miriam.\nBliv forenet med Den Feminine Kraft og vilje. \nMandag den 19/5 2025 kl. 18-20.30:\n2. stråle – Gralsgudinden fra Avalon og Lady Debra. Åben dig for Gralsgudinden – Solenglen fra Avalon – og Den Keltiske Modergudinde og Den Feminine Mester Lady Debra.\nBliv forenet med hendes medfølende og uselviske kærlighed. \nMandag den 16/6 2025 kl. 18-20.30:\n3. stråle – Gralsgudinden fra Avalon og Lady Rowena. Åben dig for Gralsgudinden – Solenglen fra Avalon – og Den Keltiske Modergudinde og Den Feminine Mester Lady Rowena.\nBliv forenet med hendes kreative og skabende kærlighed. \nMandag den 14/7 2025 kl. 18-20.30:\n4. stråle – Gralsgudinden Avalon og Lady Celeste. Åben dig for Gralsgudinde – Solenglen fra Avalon og Den Keltiske Modergudinde og Den Feminine Mester Lady Celeste/ White Buffalo Woman.\nBliv forenet med hendes dybe kærlighed til Jorden. \nMandag den 4/8 2025 kl. 18-20.30:\n5. stråle – Gralsgudinden fra Avalon og Lady Rochelle. Åben dig for Gralsgudinden – Solenglen fra Avalon og Den Keltiske Modergudinde og Den Feminine Mester Lady Rochelle/Bridget.\nBliv forenet med hendes sande\, rensende og healende kærlighed. \nMandag den 15/9 2025 kl. 18-20.30:\n6. stråle – Gralsgudinden fra Avalon og Maria Magdalene. Åben dig for Gralsgudinden – Solenglen fra Avalon og Den Keltiske Modergudinde og Den Feminine Mester Maria Magdalene.\nBliv forenet med hendes dybe og hengivende kærlighed. \nMandag den 13/10 2025 kl. 18-20.30:\n7. stråle – Gralsgudinden fra Avalon og Lady Portia. Åben dig for Gralsgudinden – Solenglen fra Avalon og Den Keltiske Modergudinde og Den Feminine Mester Lady Portia.\nBliv forenet med hendes rensende\, forvandlende og helliggørende kærlighed. \nMandag den 10/11 2025 kl. 18-20.30:\n8. stråle – Gralsgudinden fra Avalon og Lady Nada. Åben dig for Gralsgudinden – Solenglen fra Avalon og Den Keltiske Modergudinde og Den Feminine Mester Lady Nada.\nBliv forenet med hendes ubetingede kærlighed og Marias medfølende kærlighed. \nMandag den 8/12 2025 kl. 18-20.30:\n9. stråle -Gralsgudinden fra Avalon og Lady Athene. Åben dig for Gralsgudinden – Solenglen fra Avalon og Den Keltiske Modergudinde og Den Feminine Mester Lady Athene.\nBliv forenet med hendes frigørende kærlighed. \nMandag den 12/1 2026 kl. 18-20.30:\n10. stråle – Gralsgudinden fra Avalon og Kwan Yin. Åben dig for Gralsgudinden – Solenglen fra Avalon og Den Keltiske Modergudinde og Den Feminine Mester Kwan Yin.\nBliv forenet med hendes medfølende kærlighed og hendes dybe visdom. \nMandag den 9/2 2026 kl. 18-20.30:\n11. stråle – Gralsgudinden fra Avalon og Isis. Åben dig for Gralsgudinden – Solenglen fra Avalon og Den Keltiske Modergudinde og Den Feminine Mester Isis.\nLad hendes kærlighed gøre dit hjerte til en åben lotusblomst. \nMandag den 9/3 2026 kl. 18-20.30:\n12. stråle–Gralsgudinden fra Avalon/Den Store Modergudinde. Åben dig for Gralsgudinden – Solenglen fra Avalon – Den Keltiske Modergudinde.\nLad hendes kærlighed gøre dit hjerte til en modtagende kærlighedsgral. \n  \n \nDen Indre Sol: Ziadria og Michael \nEmail: denindresol@gmail.com\ntlf. 61330508\nwww.facebook.com/denindresol \n  \n  \n 
URL:https://teosofiskforening.dk/begivenhed/den-feminine-gral-i-modergudindens-hjerte-ved-den-indre-sol-2/2025-06-16/
LOCATION:Teosofisk Forening København\, Sankt Knuds Vej 27A\, Frederiksberg C\, København\, 1903\, Danmark
CATEGORIES:Lukket gruppe,Tirsdagsforedrag
ATTACH;FMTTYPE=image/jpeg:https://teosofiskforening.dk/wp-content/uploads/2024/06/2023.04.14-DEN-INDRE-SOL-320x214-1.jpg
GEO:55.677929;12.549129
X-APPLE-STRUCTURED-LOCATION;VALUE=URI;X-ADDRESS=Teosofisk Forening København Sankt Knuds Vej 27A Frederiksberg C København 1903 Danmark;X-APPLE-RADIUS=500;X-TITLE=Sankt Knuds Vej 27A:geo:12.549129,55.677929
END:VEVENT
BEGIN:VEVENT
DTSTART;TZID=Europe/Copenhagen:20250618T173000
DTEND;TZID=Europe/Copenhagen:20250618T190000
DTSTAMP:20260423T125557
CREATED:20250110T172313Z
LAST-MODIFIED:20250110T172502Z
UID:10001921-1750267800-1750273200@teosofiskforening.dk
SUMMARY:Hearts and Hands Healing
DESCRIPTION:Gratis healing Er du syg\, i krise eller søgende\, er du velkommen til at møde op i Teosofisk Forenings lokaler\, hvor Hearts and Hands terapeuterne er klar til at tage imod hver onsdag fra kl. 18.00 – 19.00 Der er ingen forudbestilling. Healingen er ikke en erstatning for lægehjælp\, men et supplement til denne.  \n\n\n\n\n\nOm Hearts & Hands \n\n\n\nHearts & Hands er en organisation af frivillige\, der tilbyder gratis healing. Alle er velkomne. \n\n\n\n\nVores formål er at tilbyde gratis healing og derigennem hjælp til selvhjælp\n\n\n\nVi er ikke tilknyttet en bestemt religion\, spirituel eller religiøs retning\n\n\n\nVi består af frivillige healere\, der stiller tid og evner til rådighed\n\n\n\nHealerne i Hearts & Hands har tavshedspligt\, arbejder anonymt og i stilhed\n\n\n\nNår du modtager healing i Hearts and Hands\, får du ingen råd\, vejledning\, diagnose eller clairvoyante beskeder. Du modtager blot healing i stilhed\n\n\n\nAlle i Hearts & Hands arbejder ud fra et fælles Code of Conduct og etiske retningslinjer\n\n\n\nHearts & Hands eksisterer på baggrund af donationer\n\n\n\nHearts & Hands blev stiftet i 2003 på initiativ af Lars Muhl\n\n \n\n\n\n\n\n\n  \n\n\n\nFor yderligere oplysninger: Hearts and Hands 
URL:https://teosofiskforening.dk/begivenhed/hearts-and-hands-healing/2025-06-18/
LOCATION:Teosofisk Forening København\, Sankt Knuds Vej 27A\, Frederiksberg C\, København\, 1903\, Danmark
CATEGORIES:Studiegruppe
GEO:55.677929;12.549129
X-APPLE-STRUCTURED-LOCATION;VALUE=URI;X-ADDRESS=Teosofisk Forening København Sankt Knuds Vej 27A Frederiksberg C København 1903 Danmark;X-APPLE-RADIUS=500;X-TITLE=Sankt Knuds Vej 27A:geo:12.549129,55.677929
END:VEVENT
BEGIN:VEVENT
DTSTART;TZID=Europe/Copenhagen:20250620T190000
DTEND;TZID=Europe/Copenhagen:20250620T210000
DTSTAMP:20260423T125557
CREATED:20241228T214046Z
LAST-MODIFIED:20250616T115953Z
UID:10001868-1750446000-1750453200@teosofiskforening.dk
SUMMARY:SOMMERJÆVNSDØGNSCEREMONI ved Den Indre Sol
DESCRIPTION:Den Nye Tids Spirituelle Årstidsfester\nDen Åndelige Begivenhed ved Sommerjævndøgn\nDans\, sang\, meditation\, healing og Årstidsceremoni! \nKom og vær med til at fejre kærlighedsindstrømningen ved Sommerjævndøgn gennem Hellig Dans (meditativ cirkeldans)\, fri dans\, sang\, kanaliseringsmeditation\, jordhealingsmeditation og healing.\nVi glæder os til at fejre Sommerjævndøgn sammen med dig/jer! \nÅben dig for Jævndøgn. \nVed Sommersolhverv Lader Gyldne Kristus\, Den Gyldne Kristus Flamme\,\nstrømme særligt aktivt ind i Jorden\, for at rense og forvandle Jorden\, for at åbne Jorden endnu dybere for at modtage den guddommelige kærlighedsstrøm og Helligåndens belivende kærlighedskraft herigennem.\nDette får naturens mange gaver til at fortsætte med at vokse og folde sig ud.\nHelligåndens rene kærlighedslys får det karmiske lag af kollektivt mørke og negativitet til at komme op til overfladen\, klar til at blive forvandlet i det kommende efterår.\nUd over dette lader Sommerens Solengel sin kærlighed strømme ind i Jorden\, hvilket virker hele sommeren igennem indtil efterårsjævndøgn. \nVed jævndøgn og solhverv er der nogle særligt stærke kosmiske indstrømninger på\nJorden\, som gør det særligt gavnligt for Lysarbejdere at meditere på disse tidspunkter. \n  \nEntré: Kr. 50 \nIngen tilmelding – bare kom – alle er velkomne! \n  \n \nZiadria og Michael \nFor nærmere oplysning kontakt:\nHjertehealingshuset Den Indre Sol\nCentret for Ny Tids Lysarbejde v/Ziadria og Michael \nSkovvej 17 A\, 4291 Ruds Vedby – Tlf: 61 33 05 08 – Mail: denindresol@gmail.com\nwww.facebook.com/denindresol \n  \nID: 250620DISffn
URL:https://teosofiskforening.dk/begivenhed/sommerjaevnsdoegnsceremoni-ved-den-indre-sol/
LOCATION:Teosofisk Forening København\, Sankt Knuds Vej 27A\, Frederiksberg C\, København\, 1903\, Danmark
CATEGORIES:Meditation
ATTACH;FMTTYPE=image/jpeg:https://teosofiskforening.dk/wp-content/uploads/2025/02/2025.06.22-Sommerjaevndoegn-illustration-320x214-1.jpg
GEO:55.677929;12.549129
X-APPLE-STRUCTURED-LOCATION;VALUE=URI;X-ADDRESS=Teosofisk Forening København Sankt Knuds Vej 27A Frederiksberg C København 1903 Danmark;X-APPLE-RADIUS=500;X-TITLE=Sankt Knuds Vej 27A:geo:12.549129,55.677929
END:VEVENT
BEGIN:VEVENT
DTSTART;TZID=Europe/Copenhagen:20250621T100000
DTEND;TZID=Europe/Copenhagen:20250622T170000
DTSTAMP:20260423T125557
CREATED:20250126T110149Z
LAST-MODIFIED:20250616T120217Z
UID:10002201-1750500000-1750611600@teosofiskforening.dk
SUMMARY:MAGIKERSKOLE #7\, kursus ved Kim Pedersen
DESCRIPTION:Lørdag og søndag d. 21.-22. juni 2025 kl. 10:00-17:00.\nKursusrække over 5 år\, hver weekend har tilknyttet en online opfølgningsaften. \n  \nPris: 1 weekend. Medlemmer/gæster: 1.350/1.550 kr.\nI prisen indgår kaffe\, the og lette traktementer. Frokosten sørger man selv for. \nTilmelding og Betaling til kurset – klik på Find billetter: \n\n \n  \nVed framelding tilbageholdes 100 kr. til administration. Bemærk: Din plads er først reserveret\, når beløbet er modtaget. \nMagikerskolens forløb er inspireret af Alice A. Baileys bog HVID MAGI og dens 15 regler for den hvide magi. De 6 af reglerne er udformet til at udbygge vores mentale evne\, 5 regler er knyttet til den astrale dimension\, og de sidste 4 regler er knyttet til den æteriske og fysiske dimension. \nSyvende weekend 21.-22. juni 2025  \n1. Syvende regel. Det astrale plans kampplads og de 2 veje. side 231 til 246. \n2. Sjette stråles vej til indvielse. \n3. Indvielse med fokus på tredje indvielse og dens relation til engle verdenerne. \nDatoer aftales med deltagerne for opfølgningsaften. Nye deltagere er velkomne i hele forløbet! \n  \nProgram for hele kursusrækken kan hentes her \n  \n\n\nKim Pedersen er en blændende foredragsholder og har arbejdet som medie i 25 år. Han har beskæftiget sig med en bred vifte af åndsvidenskabelige områder\, oprettet astrologiskolen Attitude Astrologi og Kabbalah-skolen Qibel samt Meditation for Esoterisk Norden. Se nærmere på hjemmesiden: www.bkimpedersen.dk\n\n\n\n\nMagiker skole: Inspirationskilde: ”Hvid Magi” (Alice A. Bailey)\n\nI den nye tid hører vi om\, at der er flere nye stråler (udover de kendte 7)\, som vil give os en dybere relation både til magi og ligeledes også til ceremonielt virke. Vi kommer nok til se nye måder at organiserer os på i grupper. Dette forløb er inspireret af Alice A. Baileys forfatterskab gennem bogen HVID MAGI og dens 15 regler for den hvide magi. De 6 af reglerne er udformet til at udbygge vores mentale evne\, 5 regler er knyttet til den astrale dimension\, og de sidste 4 regler er knyttet til den æteriske og fysiske dimension. I forløbet\, som strækker sig over en femårig periode med tre weekender om året (hver med en opfølgende aften\, som ligger mellem reglerne) kommer vi igennem de 15 regler med 1 regel pr. weekend. De opfølgende aftener kommer til at foregå online\, men weekenderne vil foregå fysisk i Teosofisk forening København i tiden fra kl. 10-17. Vi kommer til at klarlægge den menneskelige sjæls natur og dens samhørighed med solsystemet og kosmos. Dette omfatter grupperelationer som et indledende skridt til at anskueliggøre forholdet mellem det Højere Selv og legemerne\, som dette selv kan anvende og derved bringe klarhed i almindelig opfattelse af menneskenes konstitution. Vi kommer til at belyse problemer om ovennævnte evner og anvise regler for at sikre brugbare udviklinger. Bogen afsluttes med en appel til sjælen hos alle aspiranter\, som læser disse instruktioner\, om at samle deres kraft og forny deres løfte om at tjene menneskeheden. De nye stråler vil blive brugt i det ceremonielle arbejde\, så hver weekend kommer til at indeholde en ceremoni\, som igen er knyttet på de tre store fundamentale søjler: Viljen (til at udvide bevidstheden)\, Visdomsstrålen (til integration) Bevægelsesceremonien (som kommer til at ske igennem roser og ild). \nVi vil bruge temaer i Kabbalah til indvielses-arbejde. Du vil derfor blive introduceret til Kabbalah igennem ceremonielt arbejde og dens relation til Livets Træ\, men Kabbalah-visdommen forventes at være et selvstudie. Vi kommer til at gå dybere ind i de 8 stråler og deres veje til indvielse til syntese-ashrammen. \nOnline-aftenerne vil vi bruge til samtale. Hvor er du henne? Hvad oplever du i forbindelse med dit studie eller forløbet? I disse runder kan vi lære at se\, hvordan ashrammen påvirker gruppen og den enkelte. Disse opfølgende online-aftener vil være i tidsrummet fra klokken 18.30 til klokken 21.30. Også her vil der være meditation og en opfølgning på\, hvad der skete i den sidste weekend\, vi var sammen. \nÅr 2023 og 2024 vil primært være knyttet til reglerne og deres arbejde på det mentale plan. I 2025 og en del af 2026 vil vi glide igennem astral-planets forunderlige\, spændende verdener. Sidst i 2026 og 2027 vil vi komme ind på det fysiske og æteriske plan. \nOg vi vil lade den indre Magiker bliver mere aktiv. Også i relation til engle- og devarigerne\, Sol-engle og Nærværelsens-engle\, ”Ånd og stof”. \n\n\n#magiker\n\nID: 250622BKPkfyTFK
URL:https://teosofiskforening.dk/begivenhed/magikerskole-7-kursus-ved-kim-pedersen/
LOCATION:Teosofisk Forening København\, Sankt Knuds Vej 27A\, Frederiksberg C\, København\, 1903\, Danmark
CATEGORIES:Kursus
ATTACH;FMTTYPE=image/jpeg:https://teosofiskforening.dk/wp-content/uploads/2023/12/2024.03.0203-Kim-Pedersen-Illustration-Hvid-magi-320x214-1.jpg
GEO:55.677929;12.549129
X-APPLE-STRUCTURED-LOCATION;VALUE=URI;X-ADDRESS=Teosofisk Forening København Sankt Knuds Vej 27A Frederiksberg C København 1903 Danmark;X-APPLE-RADIUS=500;X-TITLE=Sankt Knuds Vej 27A:geo:12.549129,55.677929
END:VEVENT
END:VCALENDAR