BEGIN:VCALENDAR
VERSION:2.0
PRODID:-//Teosofisk Forening København - ECPv6.15.20//NONSGML v1.0//EN
CALSCALE:GREGORIAN
METHOD:PUBLISH
X-WR-CALNAME:Teosofisk Forening København
X-ORIGINAL-URL:https://teosofiskforening.dk
X-WR-CALDESC:Begivenheder for Teosofisk Forening København
REFRESH-INTERVAL;VALUE=DURATION:PT1H
X-Robots-Tag:noindex
X-PUBLISHED-TTL:PT1H
BEGIN:VTIMEZONE
TZID:Europe/Copenhagen
BEGIN:DAYLIGHT
TZOFFSETFROM:+0100
TZOFFSETTO:+0200
TZNAME:CEST
DTSTART:20240331T010000
END:DAYLIGHT
BEGIN:STANDARD
TZOFFSETFROM:+0200
TZOFFSETTO:+0100
TZNAME:CET
DTSTART:20241027T010000
END:STANDARD
BEGIN:DAYLIGHT
TZOFFSETFROM:+0100
TZOFFSETTO:+0200
TZNAME:CEST
DTSTART:20250330T010000
END:DAYLIGHT
BEGIN:STANDARD
TZOFFSETFROM:+0200
TZOFFSETTO:+0100
TZNAME:CET
DTSTART:20251026T010000
END:STANDARD
BEGIN:DAYLIGHT
TZOFFSETFROM:+0100
TZOFFSETTO:+0200
TZNAME:CEST
DTSTART:20260329T010000
END:DAYLIGHT
BEGIN:STANDARD
TZOFFSETFROM:+0200
TZOFFSETTO:+0100
TZNAME:CET
DTSTART:20261025T010000
END:STANDARD
END:VTIMEZONE
BEGIN:VEVENT
DTSTART;TZID=Europe/Copenhagen:20250602T183000
DTEND;TZID=Europe/Copenhagen:20250602T210000
DTSTAMP:20260422T235550
CREATED:20250103T215709Z
LAST-MODIFIED:20250103T220016Z
UID:10001875-1748889000-1748898000@teosofiskforening.dk
SUMMARY:MAZDAZNAN studiegruppe
DESCRIPTION:Vi mødes i Teosofisk Forenings lokaler den 1. mandag i måneden kl. 18:30 – 21:00\nDatoer forår 2025: 3. februar\, 7. april\, 5. maj og 2. juni \nHer kan du få mulighed for at blive klogere på dit liv gennem en oldgammel livs-og visdomslære\, som er evig aktuel. Mazdaznan (som betyder den mestrende tanke) er en holistisk og spirituel lære\, med en meget smuk filosofi bag\, som beskriver formålet med livet og verdens opbygning. \nMeningen og målet med Mazdaznan er at give os den viden\, vi skal bruge for at lære at mestre krop – sind – sjæl- højere selv. Det er en udviklingsvej\, som er grundigt afprøvet gennem århundreder. På møderne vil der foruden oplæg være mange helhedsskabende lette fysiske øvelser\, som vi akkompagnerer med sang for at opnå den gavnlige virkninger af stemmens/ lydens resonans i kroppen. \nSe mere på mazdaznan.dk \n\nInformation og tilmelding:\nIrrenne Peier\nTlf: 23347536\ne-mail irrennepeier@hotmail.com \nPris pr. gang til Mazdaznan Størreforeningen: 60/80 kr. medlemmer/gæster
URL:https://teosofiskforening.dk/begivenhed/mazdaznan-studiegruppe/2025-06-02/
LOCATION:Teosofisk Forening København\, Sankt Knuds Vej 27A\, Frederiksberg C\, København\, 1903\, Danmark
CATEGORIES:Lukket gruppe,Studiegruppe
GEO:55.677929;12.549129
X-APPLE-STRUCTURED-LOCATION;VALUE=URI;X-ADDRESS=Teosofisk Forening København Sankt Knuds Vej 27A Frederiksberg C København 1903 Danmark;X-APPLE-RADIUS=500;X-TITLE=Sankt Knuds Vej 27A:geo:12.549129,55.677929
END:VEVENT
BEGIN:VEVENT
DTSTART;TZID=Europe/Copenhagen:20250603T190000
DTEND;TZID=Europe/Copenhagen:20250603T213000
DTSTAMP:20260422T235550
CREATED:20250304T142205Z
LAST-MODIFIED:20250304T143448Z
UID:10002255-1748977200-1748986200@teosofiskforening.dk
SUMMARY:Arkitektens skjulte budskab på Københavns Rådhus - foredrag v/ Kristoffer Ruth Sahlholt
DESCRIPTION:Københavns Rådhus gemmer på skjulte symboler og skjulte vidensformer udført af arkitekt Nyrup\, der har brugt de gamle arkitekters metode til gennem bygningens udformning og udsmykning at vise en masse skjult og overraskende viden. \n\n\nGennem foredraget føres vi gennem rum og trapper mens foredragsholderen Kristoffer Ruth Sahlholt levende fortæller om bygningens symboler og udsmykning. Foredraget giver os indblik i\, hvordan kunstnere\, frimurere og arkitekter har formidlet den gamle visdom gennem deres symbolske sprog. Den gamle viden og visdom\, som nutidens mennesker kan have svært ved at få øje på\, blev dengang billedgjort i udsmykninger\, tegn og symboler placeret rundt om i Rådhuset; på trapper\, gelændere\, måder at placere vinduer og døre på – alle steder træder de frem med budskaber til dem der har indsigt og øjne. Glæd dig til et meget informativt foredrag. \n\n\n  \nPris: 90/120 kr. for medlemmer/gæster.\nBetaling: Beløbet betales ved indgangen. \nDet er muligt at deltage online. Betal ved at klikke på Find billetter: \n \n\n\n  \nLink til Guide: Bestil billet på Billetto \n  \n  \n \nKristoffer Ruth Sahlholt. har været rundviser og rådhus betjent gennem mange år på Københavnsrådhus.\nHan har tidligere en baggrund i kunsten. \n  \n#symboler \nID: 250603KRSffnTFK \n 
URL:https://teosofiskforening.dk/begivenhed/arkitektens-skjulte-budskab-paa-koebenhnavns-raadhus-foredrag-v-kristoffer-ruth-sahlholt/
LOCATION:Teosofisk Forening København\, Sankt Knuds Vej 27A\, Frederiksberg C\, København\, 1903\, Danmark
CATEGORIES:Tirsdagsforedrag
ATTACH;FMTTYPE=image/jpeg:https://teosofiskforening.dk/wp-content/uploads/2025/03/2025.06.03-Kristoffer-Ruth-Sahlholt-320x214-1.jpg
GEO:55.677929;12.549129
X-APPLE-STRUCTURED-LOCATION;VALUE=URI;X-ADDRESS=Teosofisk Forening København Sankt Knuds Vej 27A Frederiksberg C København 1903 Danmark;X-APPLE-RADIUS=500;X-TITLE=Sankt Knuds Vej 27A:geo:12.549129,55.677929
END:VEVENT
BEGIN:VEVENT
DTSTART;TZID=Europe/Copenhagen:20250604T173000
DTEND;TZID=Europe/Copenhagen:20250604T190000
DTSTAMP:20260422T235550
CREATED:20250110T172313Z
LAST-MODIFIED:20250110T172502Z
UID:10001919-1749058200-1749063600@teosofiskforening.dk
SUMMARY:Hearts and Hands Healing
DESCRIPTION:Gratis healing Er du syg\, i krise eller søgende\, er du velkommen til at møde op i Teosofisk Forenings lokaler\, hvor Hearts and Hands terapeuterne er klar til at tage imod hver onsdag fra kl. 18.00 – 19.00 Der er ingen forudbestilling. Healingen er ikke en erstatning for lægehjælp\, men et supplement til denne.  \n\n\n\n\n\nOm Hearts & Hands \n\n\n\nHearts & Hands er en organisation af frivillige\, der tilbyder gratis healing. Alle er velkomne. \n\n\n\n\nVores formål er at tilbyde gratis healing og derigennem hjælp til selvhjælp\n\n\n\nVi er ikke tilknyttet en bestemt religion\, spirituel eller religiøs retning\n\n\n\nVi består af frivillige healere\, der stiller tid og evner til rådighed\n\n\n\nHealerne i Hearts & Hands har tavshedspligt\, arbejder anonymt og i stilhed\n\n\n\nNår du modtager healing i Hearts and Hands\, får du ingen råd\, vejledning\, diagnose eller clairvoyante beskeder. Du modtager blot healing i stilhed\n\n\n\nAlle i Hearts & Hands arbejder ud fra et fælles Code of Conduct og etiske retningslinjer\n\n\n\nHearts & Hands eksisterer på baggrund af donationer\n\n\n\nHearts & Hands blev stiftet i 2003 på initiativ af Lars Muhl\n\n \n\n\n\n\n\n\n  \n\n\n\nFor yderligere oplysninger: Hearts and Hands 
URL:https://teosofiskforening.dk/begivenhed/hearts-and-hands-healing/2025-06-04/
LOCATION:Teosofisk Forening København\, Sankt Knuds Vej 27A\, Frederiksberg C\, København\, 1903\, Danmark
CATEGORIES:Studiegruppe
GEO:55.677929;12.549129
X-APPLE-STRUCTURED-LOCATION;VALUE=URI;X-ADDRESS=Teosofisk Forening København Sankt Knuds Vej 27A Frederiksberg C København 1903 Danmark;X-APPLE-RADIUS=500;X-TITLE=Sankt Knuds Vej 27A:geo:12.549129,55.677929
END:VEVENT
END:VCALENDAR