BEGIN:VCALENDAR
VERSION:2.0
PRODID:-//Teosofisk Forening København - ECPv6.15.20//NONSGML v1.0//EN
CALSCALE:GREGORIAN
METHOD:PUBLISH
X-ORIGINAL-URL:https://teosofiskforening.dk
X-WR-CALDESC:Begivenheder for Teosofisk Forening København
REFRESH-INTERVAL;VALUE=DURATION:PT1H
X-Robots-Tag:noindex
X-PUBLISHED-TTL:PT1H
BEGIN:VTIMEZONE
TZID:Europe/Copenhagen
BEGIN:DAYLIGHT
TZOFFSETFROM:+0100
TZOFFSETTO:+0200
TZNAME:CEST
DTSTART:20240331T010000
END:DAYLIGHT
BEGIN:STANDARD
TZOFFSETFROM:+0200
TZOFFSETTO:+0100
TZNAME:CET
DTSTART:20241027T010000
END:STANDARD
BEGIN:DAYLIGHT
TZOFFSETFROM:+0100
TZOFFSETTO:+0200
TZNAME:CEST
DTSTART:20250330T010000
END:DAYLIGHT
BEGIN:STANDARD
TZOFFSETFROM:+0200
TZOFFSETTO:+0100
TZNAME:CET
DTSTART:20251026T010000
END:STANDARD
BEGIN:DAYLIGHT
TZOFFSETFROM:+0100
TZOFFSETTO:+0200
TZNAME:CEST
DTSTART:20260329T010000
END:DAYLIGHT
BEGIN:STANDARD
TZOFFSETFROM:+0200
TZOFFSETTO:+0100
TZNAME:CET
DTSTART:20261025T010000
END:STANDARD
END:VTIMEZONE
BEGIN:VEVENT
DTSTART;TZID=Europe/Copenhagen:20250520T190000
DTEND;TZID=Europe/Copenhagen:20250520T213000
DTSTAMP:20260423T125537
CREATED:20250119T093940Z
LAST-MODIFIED:20250119T094941Z
UID:10002193-1747767600-1747776600@teosofiskforening.dk
SUMMARY:Thoth Tarot - en portal til Vandbærerens Tidsalder\, foredrag v/ Søren Rasmussen
DESCRIPTION:Thoth sættet – kombinerer de ægyptiske dynastiers storslåede gudeverden med den astrologiske præcision og Kabbalas dybe tankestof. Det udtrykkes i en samlet vision om Vandbærerens Tidsalder gennem de 78 tarotkort\, ordnet i det mønster\, der kaldes Livets Træ. Selvom Thoth Tarot er vævet helt og aldeles sammen med numerologi og astrologi\, så vil være det intuitive super-flow\, der er på dagsordenen i dette foredrag. \nMødet med Tarot er mødet med synkronicitet; kraften i at være helt nærværende –tilstede i nu’et. i den indre følelse af samhørighed med det som er større. Tarotoplæg er et unikt redskab til selvudvikling og forståelse af de basale spirituelle og menneskelige mekanismer\, som er på spil i en travl hverdag. \nThoth sættet – kombinerer de ægyptiske dynastiers storslåede gudeverden med den astrologiske præcision og Kabbalas dybe tankestof. Det udtrykkes i en samlet vision om Vandbærerens Tidsalder gennem de 78 tarotkort\, ordnet i det mønster\, der kaldes Livets Træ. \nSelvom Thoth Tarot er vævet helt og aldeles sammen med numerologi og astrologi\, så vil det være det intuitive super-flow\, der er på dagsordenen i dette foredrag. \nKortene kan give os mennesker mulighed for at bringe os i forbindelse med vores spirituelle potentiale og universets åndelige kræfter: Kærneessensen i fortællingen om Vandbærerens Tidsalder. \nTarot-traditionen kan føres tilbage til Norditalien midt i 1400-tallet. Napoleons soldater bragte kortene med sig tilbage fra felttogene i Italien\, og en fransk bogtrykker i Marseille trykte dem første gang i 1767. Der var\, ligesom på spillekortene\, ikke illustrationer på de små kort\, men det kom der. Skaberne af de to mest udbredte tarotsæt\, Aleister Crowley og Arthur Edward Waite skabte i første halvdel af 1900-tallet hver sit gennemillustrerede sæt. Hvor Waites kort var tegninger til storytelling\, så var Crowleys artistiske futuristiske nytænkte malerier\, der skulle formidle energien\, healingen og vibrationerne af Vandbærerens Tidsalder. \nPris: 90/120 kr. for medlemmer/gæster.\nBetal ved indgangen. \n  \nDet er muligt at deltage ONLINE. Betal ved at klikke på Find billetter: \n\n \n\n\n\n\n\n\n\n\n\n\n\n\n\n\n\nLink til GUIDE – Bestil billet på Billetto \n\nOm Foredragsholderen\nSøren har fra en ung alder (1976) beskæftiget sig med teosofi\, meditation\, healing\, kanalisering\, astrologi\, synkronisitet\, håndlæsning samt antroposofi. I 1992 stødte han på Thoth-kortene der åbnede for et større rum med blandt andet Livets Træ og endnu flere sammenhænge. Yderligere uddannelsesrejser kom til som for eksempel: Reikimester\, Aura-Soma farveterapeut\, Teori U forandringsleder\, Fridan Clairvoyance. Søren er forfatter til bogen Crowley Tarot ABC – hvor han via sit samarbejde med Waitemesteren Ulrik Golodnoff\, løfter sløret for mange af de oprindelige\, dybere sammenhænge i tarotten. \n  \nID: 250520SRAkfyTFK \n#tarot
URL:https://teosofiskforening.dk/begivenhed/thoth-tarot-en-portal-til-vandbaererens-tidsalder-foredrag-v-soeren-rasmussen/
LOCATION:Teosofisk Forening København\, Sankt Knuds Vej 27A\, Frederiksberg C\, København\, 1903\, Danmark
CATEGORIES:Tirsdagsforedrag
ATTACH;FMTTYPE=image/jpeg:https://teosofiskforening.dk/wp-content/uploads/2025/01/2025.05.20-Soeren-Rasmussen-Illustration-320x214-1.jpg
GEO:55.677929;12.549129
X-APPLE-STRUCTURED-LOCATION;VALUE=URI;X-ADDRESS=Teosofisk Forening København Sankt Knuds Vej 27A Frederiksberg C København 1903 Danmark;X-APPLE-RADIUS=500;X-TITLE=Sankt Knuds Vej 27A:geo:12.549129,55.677929
END:VEVENT
BEGIN:VEVENT
DTSTART;TZID=Europe/Copenhagen:20250521T173000
DTEND;TZID=Europe/Copenhagen:20250521T190000
DTSTAMP:20260423T125537
CREATED:20250110T172313Z
LAST-MODIFIED:20250110T172502Z
UID:10001917-1747848600-1747854000@teosofiskforening.dk
SUMMARY:Hearts and Hands Healing
DESCRIPTION:Gratis healing Er du syg\, i krise eller søgende\, er du velkommen til at møde op i Teosofisk Forenings lokaler\, hvor Hearts and Hands terapeuterne er klar til at tage imod hver onsdag fra kl. 18.00 – 19.00 Der er ingen forudbestilling. Healingen er ikke en erstatning for lægehjælp\, men et supplement til denne.  \n\n\n\n\n\nOm Hearts & Hands \n\n\n\nHearts & Hands er en organisation af frivillige\, der tilbyder gratis healing. Alle er velkomne. \n\n\n\n\nVores formål er at tilbyde gratis healing og derigennem hjælp til selvhjælp\n\n\n\nVi er ikke tilknyttet en bestemt religion\, spirituel eller religiøs retning\n\n\n\nVi består af frivillige healere\, der stiller tid og evner til rådighed\n\n\n\nHealerne i Hearts & Hands har tavshedspligt\, arbejder anonymt og i stilhed\n\n\n\nNår du modtager healing i Hearts and Hands\, får du ingen råd\, vejledning\, diagnose eller clairvoyante beskeder. Du modtager blot healing i stilhed\n\n\n\nAlle i Hearts & Hands arbejder ud fra et fælles Code of Conduct og etiske retningslinjer\n\n\n\nHearts & Hands eksisterer på baggrund af donationer\n\n\n\nHearts & Hands blev stiftet i 2003 på initiativ af Lars Muhl\n\n \n\n\n\n\n\n\n  \n\n\n\nFor yderligere oplysninger: Hearts and Hands 
URL:https://teosofiskforening.dk/begivenhed/hearts-and-hands-healing/2025-05-21/
LOCATION:Teosofisk Forening København\, Sankt Knuds Vej 27A\, Frederiksberg C\, København\, 1903\, Danmark
CATEGORIES:Studiegruppe
GEO:55.677929;12.549129
X-APPLE-STRUCTURED-LOCATION;VALUE=URI;X-ADDRESS=Teosofisk Forening København Sankt Knuds Vej 27A Frederiksberg C København 1903 Danmark;X-APPLE-RADIUS=500;X-TITLE=Sankt Knuds Vej 27A:geo:12.549129,55.677929
END:VEVENT
BEGIN:VEVENT
DTSTART;TZID=Europe/Copenhagen:20250524T100000
DTEND;TZID=Europe/Copenhagen:20250524T163000
DTSTAMP:20260423T125537
CREATED:20250119T100905Z
LAST-MODIFIED:20250523T123021Z
UID:10002194-1748080800-1748104200@teosofiskforening.dk
SUMMARY:Personlighedstest i de 7 stråler og energiernes betydning\, kursus v/Patrick Johansen
DESCRIPTION:Denne dag handler om de 7. stråler\, hvor der bla. vil blive lavet en personlighedstest\, for alle som ønsker\, at få en nærmere antydning af de strålerne på deres legemer. De 7. stråler er et stort og komplekst materiale\, der strækker sig fra et enkelte atom til de største galakser og mellemliggende planer af bevidsthed. \nVi kigger på grundsten af kosmos opbygning og de deraf tilhørende love som mennesket er underlagt. Heraf universets tre grundlæggende love\, og de syv love som de udtrykker deres indflydelse igennem. \nOm foredragsholderen\nPatrick Johansen har udarbejdet en personlighedstest der anviser strålerne som du har i dine legemer\, ud fra det teosofiske materiale af Alice A. Bailey. Patrick har taget en ingeniøruddannelse i Design og Innovation og brugt sine clairvoyante evner\, når lejlighed har budt sig. Han er velbevandret i det teosofiske materiale og har beskæftiget sig med livets dybere spørgsmål gennem emnerne filosofi\, psykologi og moderne fysik. Formand for teosofisk forening København. \n  \nPris for hele kurset: 600/800 kr. for medlemmer/gæster.\nI prisen indgår kaffe\, the og lette traktementer. Frokosten sørger man selv for.\nVed framelding tilbageholdes 100 kr. til administration.\nBemærk: Din plads er først reserveret\, når beløbet er modtaget. \nTilmelding og betaling: Klik på Find billetter: \n\n \n\n\n\n\n\n\n\n\n\n\n\n\n\n\n\nLink til GUIDE – Bestil billet på Billetto\n  \nID: 250524PJOkfyTFK \n#teosofi\n#7 stråler\n#visdom \n 
URL:https://teosofiskforening.dk/begivenhed/personlighedstest-i-de-7-straaler-og-energiernes-betydning-foredrag-v-patrick-johansen/
LOCATION:Teosofisk Forening København\, Sankt Knuds Vej 27A\, Frederiksberg C\, København\, 1903\, Danmark
CATEGORIES:Kursus
ATTACH;FMTTYPE=image/png:https://teosofiskforening.dk/wp-content/uploads/2025/01/2025.05.24-Patrick-Johansen-illustration-320x214-1.png
GEO:55.677929;12.549129
X-APPLE-STRUCTURED-LOCATION;VALUE=URI;X-ADDRESS=Teosofisk Forening København Sankt Knuds Vej 27A Frederiksberg C København 1903 Danmark;X-APPLE-RADIUS=500;X-TITLE=Sankt Knuds Vej 27A:geo:12.549129,55.677929
END:VEVENT
END:VCALENDAR