BEGIN:VCALENDAR
VERSION:2.0
PRODID:-//Teosofisk Forening København - ECPv6.15.20//NONSGML v1.0//EN
CALSCALE:GREGORIAN
METHOD:PUBLISH
X-ORIGINAL-URL:https://teosofiskforening.dk
X-WR-CALDESC:Begivenheder for Teosofisk Forening København
REFRESH-INTERVAL;VALUE=DURATION:PT1H
X-Robots-Tag:noindex
X-PUBLISHED-TTL:PT1H
BEGIN:VTIMEZONE
TZID:Europe/Copenhagen
BEGIN:DAYLIGHT
TZOFFSETFROM:+0100
TZOFFSETTO:+0200
TZNAME:CEST
DTSTART:20240331T010000
END:DAYLIGHT
BEGIN:STANDARD
TZOFFSETFROM:+0200
TZOFFSETTO:+0100
TZNAME:CET
DTSTART:20241027T010000
END:STANDARD
BEGIN:DAYLIGHT
TZOFFSETFROM:+0100
TZOFFSETTO:+0200
TZNAME:CEST
DTSTART:20250330T010000
END:DAYLIGHT
BEGIN:STANDARD
TZOFFSETFROM:+0200
TZOFFSETTO:+0100
TZNAME:CET
DTSTART:20251026T010000
END:STANDARD
BEGIN:DAYLIGHT
TZOFFSETFROM:+0100
TZOFFSETTO:+0200
TZNAME:CEST
DTSTART:20260329T010000
END:DAYLIGHT
BEGIN:STANDARD
TZOFFSETFROM:+0200
TZOFFSETTO:+0100
TZNAME:CET
DTSTART:20261025T010000
END:STANDARD
END:VTIMEZONE
BEGIN:VEVENT
DTSTART;TZID=Europe/Copenhagen:20250505T101500
DTEND;TZID=Europe/Copenhagen:20250505T164500
DTSTAMP:20260423T125940
CREATED:20241205T192017Z
LAST-MODIFIED:20241205T192405Z
UID:10001836-1746440100-1746463500@teosofiskforening.dk
SUMMARY:ENOKS HEMMELIGHEDER – UNIVERSETS NØGLER\, studiekreds ved Kim Pedersen
DESCRIPTION:Vi fortsætter med at lade os inspirere af Hurtaks bog om Enoks universelle nøgler og hemmeligheder. Vi vil reflektere over stjernebillederne\, f.eks. Nordstjernen\, Orion\, Store Bjørn\, Sirius\, Plejaderne og de tolv tegn i dyrekredsen. Vi kommer også rundt om de mange hierarkier og deres ledere. \n\n\n\n  \n\n\n\nEnoks hemmeligheder tager os med på en tusindår lang rejse i den græske mytologi og den hebraiske Kabbalah. De fortæller os om visdommen bag ærkeenglenes virke\, om relationen til de mere moderne begreber som matematik og biokemi\, og om intuitionshuse omgivet af floder fulde af levende ild. \n\n\n\nVi vil i studiekredsen anvende en bred vifte af åndsvidenskabelige kilder. \n\n\n\n \n\n\n\nStudiekreds: Mandage forår 2025 den 10. februar og 5. maj kl. 10.15-16.45 \n\n\n\n \n\n\n\n  \n\n\n\n\n\n\n\n\n\n\nKim Pedersen er en blændende foredragsholder og har arbejdet som medie i 25 år. Han har beskæftiget sig med en bred vifte af åndsvidenskabelige områder\, oprettet astrologiskolen Attitude Astrologi og Kabbalah skolen Qibel samt Meditation for Esoterisk Norden. Se nærmere på hjemmesiden: www.bkimpedersen.dk  \n\n\n\n\nPris per gang  350/400 kr. for medlemmer/gæster. Betaling: Beløbet betales ved indgangen. \n\n\n\nID: 20250505BKPkfyTFK \n\n\n\n\n\nTeosofisk Forening København\n\n\n\nSankt Knuds Vej 27A Frederiksberg C\, København\, 1903 Danmark \n\n\n\n\n\n\n\n\n\n\n\n 
URL:https://teosofiskforening.dk/begivenhed/enoks-hemmeligheder-universets-noegler-studiekreds-ved-kim-pedersen-14/
LOCATION:Teosofisk Forening København\, Sankt Knuds Vej 27A\, Frederiksberg C\, København\, 1903\, Danmark
CATEGORIES:Studiegruppe
ATTACH;FMTTYPE=image/jpeg:https://teosofiskforening.dk/wp-content/uploads/2021/12/enok-lille.jpg
GEO:55.677929;12.549129
X-APPLE-STRUCTURED-LOCATION;VALUE=URI;X-ADDRESS=Teosofisk Forening København Sankt Knuds Vej 27A Frederiksberg C København 1903 Danmark;X-APPLE-RADIUS=500;X-TITLE=Sankt Knuds Vej 27A:geo:12.549129,55.677929
END:VEVENT
BEGIN:VEVENT
DTSTART;TZID=Europe/Copenhagen:20250505T183000
DTEND;TZID=Europe/Copenhagen:20250505T210000
DTSTAMP:20260423T125940
CREATED:20250103T215709Z
LAST-MODIFIED:20250103T220016Z
UID:10001874-1746469800-1746478800@teosofiskforening.dk
SUMMARY:MAZDAZNAN studiegruppe
DESCRIPTION:Vi mødes i Teosofisk Forenings lokaler den 1. mandag i måneden kl. 18:30 – 21:00\nDatoer forår 2025: 3. februar\, 7. april\, 5. maj og 2. juni \nHer kan du få mulighed for at blive klogere på dit liv gennem en oldgammel livs-og visdomslære\, som er evig aktuel. Mazdaznan (som betyder den mestrende tanke) er en holistisk og spirituel lære\, med en meget smuk filosofi bag\, som beskriver formålet med livet og verdens opbygning. \nMeningen og målet med Mazdaznan er at give os den viden\, vi skal bruge for at lære at mestre krop – sind – sjæl- højere selv. Det er en udviklingsvej\, som er grundigt afprøvet gennem århundreder. På møderne vil der foruden oplæg være mange helhedsskabende lette fysiske øvelser\, som vi akkompagnerer med sang for at opnå den gavnlige virkninger af stemmens/ lydens resonans i kroppen. \nSe mere på mazdaznan.dk \n\nInformation og tilmelding:\nIrrenne Peier\nTlf: 23347536\ne-mail irrennepeier@hotmail.com \nPris pr. gang til Mazdaznan Størreforeningen: 60/80 kr. medlemmer/gæster
URL:https://teosofiskforening.dk/begivenhed/mazdaznan-studiegruppe/2025-05-05/
LOCATION:Teosofisk Forening København\, Sankt Knuds Vej 27A\, Frederiksberg C\, København\, 1903\, Danmark
CATEGORIES:Lukket gruppe,Studiegruppe
GEO:55.677929;12.549129
X-APPLE-STRUCTURED-LOCATION;VALUE=URI;X-ADDRESS=Teosofisk Forening København Sankt Knuds Vej 27A Frederiksberg C København 1903 Danmark;X-APPLE-RADIUS=500;X-TITLE=Sankt Knuds Vej 27A:geo:12.549129,55.677929
END:VEVENT
BEGIN:VEVENT
DTSTART;TZID=Europe/Copenhagen:20250506T190000
DTEND;TZID=Europe/Copenhagen:20250506T213000
DTSTAMP:20260423T125940
CREATED:20250131T201937Z
LAST-MODIFIED:20250131T202255Z
UID:10002204-1746558000-1746567000@teosofiskforening.dk
SUMMARY:NATURVIDENSKAB OG ÅNDSVIDENSKAB I FORENING? Foredrag ved Nicolaj Pilgaard Petersen
DESCRIPTION:Den naturvidenskabelige forståelse står overfor et antal uløste problemer\, som kunne åbne vejen frem mod en frugtbar sammenknytning med det åndelige verdensbillede. Foredraget når rundt om de forskellige indfaldsvinkler og mulige måder at supplere hinanden på. \n  \nTraditionelt ses den naturvidenskabelige opfattelse af verden som modsætning til en spirituel eller åndsvidenskabelig forståelse. Men det naturvidenskabelige verdensbillede står overfor væsentlige uløste problemer\, og med afsæt i disse kunne en vis forening af de to opfattelser af virkelighedens beskaffenhed forestilles. I foredraget ses der således på grundtanken i det naturvidenskabelige verdensbillede og dets vanskeligheder i forbindelse med at forklare bl.a. evolution og bevidsthed. Dette sammenholdes med en åndsvidenskabelig forståelse for at se på mulighederne for en frugtbar sammenknytning af de to – frugtbar på både det personlige og det samfundsmæssige plan. \n  \nPris: 90/120 kr. for medlemmer/gæster. Betal ved indgangen. \nDet er muligt at deltage online. Betal ved at klikke på Find billetter: \n\n \n  \nLink til Guide: Bestil billet på Billetto \n \nNikolaj Pilgaard Petersen er ph.d. i filosofi og har formidlet bredt om filosofiske emner\, bl.a. i form af bøger\, foredrag og YouTube-videoer Særligt spørgsmålet om virkelighedens egentlige væsen er i fokus\, og ofte anlægges her en lidt utraditionel og alternativ vinkel. \n  \n#åndsvidenskab \nID:250506NPEffnTFK \n 
URL:https://teosofiskforening.dk/begivenhed/naturvidenskab-og-aandsvidenskab-i-forening-foredrag-ved-nicolaj-pilgaard-petersen/
LOCATION:Teosofisk Forening København\, Sankt Knuds Vej 27A\, Frederiksberg C\, København\, 1903\, Danmark
CATEGORIES:Tirsdagsforedrag
ATTACH;FMTTYPE=image/jpeg:https://teosofiskforening.dk/wp-content/uploads/2024/10/2025.05.06-Nicolaj-Pilegaard-Petersen-illustration-1.jpg
GEO:55.677929;12.549129
X-APPLE-STRUCTURED-LOCATION;VALUE=URI;X-ADDRESS=Teosofisk Forening København Sankt Knuds Vej 27A Frederiksberg C København 1903 Danmark;X-APPLE-RADIUS=500;X-TITLE=Sankt Knuds Vej 27A:geo:12.549129,55.677929
END:VEVENT
BEGIN:VEVENT
DTSTART;TZID=Europe/Copenhagen:20250507T173000
DTEND;TZID=Europe/Copenhagen:20250507T190000
DTSTAMP:20260423T125940
CREATED:20250110T172313Z
LAST-MODIFIED:20250110T172502Z
UID:10001915-1746639000-1746644400@teosofiskforening.dk
SUMMARY:Hearts and Hands Healing
DESCRIPTION:Gratis healing Er du syg\, i krise eller søgende\, er du velkommen til at møde op i Teosofisk Forenings lokaler\, hvor Hearts and Hands terapeuterne er klar til at tage imod hver onsdag fra kl. 18.00 – 19.00 Der er ingen forudbestilling. Healingen er ikke en erstatning for lægehjælp\, men et supplement til denne.  \n\n\n\n\n\nOm Hearts & Hands \n\n\n\nHearts & Hands er en organisation af frivillige\, der tilbyder gratis healing. Alle er velkomne. \n\n\n\n\nVores formål er at tilbyde gratis healing og derigennem hjælp til selvhjælp\n\n\n\nVi er ikke tilknyttet en bestemt religion\, spirituel eller religiøs retning\n\n\n\nVi består af frivillige healere\, der stiller tid og evner til rådighed\n\n\n\nHealerne i Hearts & Hands har tavshedspligt\, arbejder anonymt og i stilhed\n\n\n\nNår du modtager healing i Hearts and Hands\, får du ingen råd\, vejledning\, diagnose eller clairvoyante beskeder. Du modtager blot healing i stilhed\n\n\n\nAlle i Hearts & Hands arbejder ud fra et fælles Code of Conduct og etiske retningslinjer\n\n\n\nHearts & Hands eksisterer på baggrund af donationer\n\n\n\nHearts & Hands blev stiftet i 2003 på initiativ af Lars Muhl\n\n \n\n\n\n\n\n\n  \n\n\n\nFor yderligere oplysninger: Hearts and Hands 
URL:https://teosofiskforening.dk/begivenhed/hearts-and-hands-healing/2025-05-07/
LOCATION:Teosofisk Forening København\, Sankt Knuds Vej 27A\, Frederiksberg C\, København\, 1903\, Danmark
CATEGORIES:Studiegruppe
GEO:55.677929;12.549129
X-APPLE-STRUCTURED-LOCATION;VALUE=URI;X-ADDRESS=Teosofisk Forening København Sankt Knuds Vej 27A Frederiksberg C København 1903 Danmark;X-APPLE-RADIUS=500;X-TITLE=Sankt Knuds Vej 27A:geo:12.549129,55.677929
END:VEVENT
END:VCALENDAR