BEGIN:VCALENDAR
VERSION:2.0
PRODID:-//Teosofisk Forening København - ECPv6.15.20//NONSGML v1.0//EN
CALSCALE:GREGORIAN
METHOD:PUBLISH
X-WR-CALNAME:Teosofisk Forening København
X-ORIGINAL-URL:https://teosofiskforening.dk
X-WR-CALDESC:Begivenheder for Teosofisk Forening København
REFRESH-INTERVAL;VALUE=DURATION:PT1H
X-Robots-Tag:noindex
X-PUBLISHED-TTL:PT1H
BEGIN:VTIMEZONE
TZID:Europe/Copenhagen
BEGIN:DAYLIGHT
TZOFFSETFROM:+0100
TZOFFSETTO:+0200
TZNAME:CEST
DTSTART:20240331T010000
END:DAYLIGHT
BEGIN:STANDARD
TZOFFSETFROM:+0200
TZOFFSETTO:+0100
TZNAME:CET
DTSTART:20241027T010000
END:STANDARD
BEGIN:DAYLIGHT
TZOFFSETFROM:+0100
TZOFFSETTO:+0200
TZNAME:CEST
DTSTART:20250330T010000
END:DAYLIGHT
BEGIN:STANDARD
TZOFFSETFROM:+0200
TZOFFSETTO:+0100
TZNAME:CET
DTSTART:20251026T010000
END:STANDARD
BEGIN:DAYLIGHT
TZOFFSETFROM:+0100
TZOFFSETTO:+0200
TZNAME:CEST
DTSTART:20260329T010000
END:DAYLIGHT
BEGIN:STANDARD
TZOFFSETFROM:+0200
TZOFFSETTO:+0100
TZNAME:CET
DTSTART:20261025T010000
END:STANDARD
END:VTIMEZONE
BEGIN:VEVENT
DTSTART;TZID=Europe/Copenhagen:20250422T160000
DTEND;TZID=Europe/Copenhagen:20250422T180000
DTSTAMP:20260423T033944
CREATED:20250406T213825Z
LAST-MODIFIED:20250416T161340Z
UID:10002257-1745337600-1745344800@teosofiskforening.dk
SUMMARY:INVITATION til BOGRECEPTION med forfatter Benthe Ploug
DESCRIPTION:VI HAR HERMED GLÆDEN af at invitere dig til reception for udgivelsen af bogen: \nMAGELØS MAGI – i nutidens Indien af Benthe Ploug\nHæftet (med flap)\, 222 sider\nRigt illustreret i farver.\nVejl. pris 329\,00 kr. \nInvitationen som pdf – klik her \n  \nUnder receptionen vil forfatter Benthe Ploug præsentere bogen\, og der vil være mulighed for at købe et signeret eksemplar. \nVi ser frem til at byde dig velkommen til en hyggelig og inspirerende eftermiddag. \nDe bedste hilsner\, \nBenthe Ploug og Lemuel Books \n \n  \nOBS. Samme aften kl.19-21.30 vil forfatter Benthe Ploug holde foredraget ”Magisk helbredelse eller Fortrængt viden?”\nSe opslaget. \n  \n  \nID: 250422BPLcafeTFK
URL:https://teosofiskforening.dk/begivenhed/invitation-til-bogreception-med-forfatter-benthe-ploug/
LOCATION:Teosofisk Forening København\, Sankt Knuds Vej 27A\, Frederiksberg C\, København\, 1903\, Danmark
CATEGORIES:CAFÉ – ÅBENT HUS
ATTACH;FMTTYPE=image/jpeg:https://teosofiskforening.dk/wp-content/uploads/2025/04/2025.04.22-Mageloes-Magi-billede-kopier.jpg
GEO:55.677929;12.549129
X-APPLE-STRUCTURED-LOCATION;VALUE=URI;X-ADDRESS=Teosofisk Forening København Sankt Knuds Vej 27A Frederiksberg C København 1903 Danmark;X-APPLE-RADIUS=500;X-TITLE=Sankt Knuds Vej 27A:geo:12.549129,55.677929
END:VEVENT
BEGIN:VEVENT
DTSTART;TZID=Europe/Copenhagen:20250422T190000
DTEND;TZID=Europe/Copenhagen:20250422T213000
DTSTAMP:20260423T033944
CREATED:20250115T171551Z
LAST-MODIFIED:20250418T113636Z
UID:10002165-1745348400-1745357400@teosofiskforening.dk
SUMMARY:Magisk helbredelse eller Fortrængt viden? - Foredrag v/Bente Ploug
DESCRIPTION:Måske er energioverførsel en mulighed – måske er det en illusion – måske er det placeboeffekten – men fakta er\, at et utal af mennesker oplever\, de bliver helbredte på denne vis. \nKan en kraftoverførsel fra en healer/magiker til et sygdomsramt menneske gøre dette menneske rask?\nJeg har rejst rundt gennem flere år i Indien og interviewet healere der besættes af en Guddommelig Kraft.\nDe sygdomsramte er ikke selv involveret i helbredelsen\, de skal ikke gøre andet end at modtage energi tranformationen\, hvorefter sygdommen forsvinder.\nKan det lade sig gøre\, vil den skeptiske og jordbundne menneske spørge om. Er det ikke bare fup og svindel? \nKom denne aften og hør om\, hvilke helbredelsesformer der OGSÅ kan gøre mennesker raske. \nPris: 90/120 kr. for medlemmer/gæster.\nBetaling: Beløbet betales ved indgangen. \nDet er muligt at deltage online. Betal ved at klikke på Find billetter: \n\n \nForedragsholder:\nBenthe Ploug\, uddannet som yoga- og meditationslærer og psykoanalytiker i London. Har praktiseret som sådan i over 40 år. Jeg har rejst meget rundt i verden\, blandt andet deltage i forløb i Auroville i Indien\, Damanhur i Italien\, Esalen instituttet i USA\, m.v. Har besøgt Indien over 10 gange. \n  \n#healing \nID: 250422BPLffnTFK
URL:https://teosofiskforening.dk/begivenhed/magisk-helbredelse-eller-fortraengt-viden-foredrag-v-bente-ploug/
LOCATION:Teosofisk Forening København\, Sankt Knuds Vej 27A\, Frederiksberg C\, København\, 1903\, Danmark
CATEGORIES:Tirsdagsforedrag
ATTACH;FMTTYPE=image/jpeg:https://teosofiskforening.dk/wp-content/uploads/2025/01/2025.04.22-Benthe-Ploug-ilustration-og-portraet-320x214-1.jpg
GEO:55.677929;12.549129
X-APPLE-STRUCTURED-LOCATION;VALUE=URI;X-ADDRESS=Teosofisk Forening København Sankt Knuds Vej 27A Frederiksberg C København 1903 Danmark;X-APPLE-RADIUS=500;X-TITLE=Sankt Knuds Vej 27A:geo:12.549129,55.677929
END:VEVENT
BEGIN:VEVENT
DTSTART;TZID=Europe/Copenhagen:20250423T173000
DTEND;TZID=Europe/Copenhagen:20250423T190000
DTSTAMP:20260423T033944
CREATED:20250110T172313Z
LAST-MODIFIED:20250110T172502Z
UID:10001913-1745429400-1745434800@teosofiskforening.dk
SUMMARY:Hearts and Hands Healing
DESCRIPTION:Gratis healing Er du syg\, i krise eller søgende\, er du velkommen til at møde op i Teosofisk Forenings lokaler\, hvor Hearts and Hands terapeuterne er klar til at tage imod hver onsdag fra kl. 18.00 – 19.00 Der er ingen forudbestilling. Healingen er ikke en erstatning for lægehjælp\, men et supplement til denne.  \n\n\n\n\n\nOm Hearts & Hands \n\n\n\nHearts & Hands er en organisation af frivillige\, der tilbyder gratis healing. Alle er velkomne. \n\n\n\n\nVores formål er at tilbyde gratis healing og derigennem hjælp til selvhjælp\n\n\n\nVi er ikke tilknyttet en bestemt religion\, spirituel eller religiøs retning\n\n\n\nVi består af frivillige healere\, der stiller tid og evner til rådighed\n\n\n\nHealerne i Hearts & Hands har tavshedspligt\, arbejder anonymt og i stilhed\n\n\n\nNår du modtager healing i Hearts and Hands\, får du ingen råd\, vejledning\, diagnose eller clairvoyante beskeder. Du modtager blot healing i stilhed\n\n\n\nAlle i Hearts & Hands arbejder ud fra et fælles Code of Conduct og etiske retningslinjer\n\n\n\nHearts & Hands eksisterer på baggrund af donationer\n\n\n\nHearts & Hands blev stiftet i 2003 på initiativ af Lars Muhl\n\n \n\n\n\n\n\n\n  \n\n\n\nFor yderligere oplysninger: Hearts and Hands 
URL:https://teosofiskforening.dk/begivenhed/hearts-and-hands-healing/2025-04-23/
LOCATION:Teosofisk Forening København\, Sankt Knuds Vej 27A\, Frederiksberg C\, København\, 1903\, Danmark
CATEGORIES:Studiegruppe
GEO:55.677929;12.549129
X-APPLE-STRUCTURED-LOCATION;VALUE=URI;X-ADDRESS=Teosofisk Forening København Sankt Knuds Vej 27A Frederiksberg C København 1903 Danmark;X-APPLE-RADIUS=500;X-TITLE=Sankt Knuds Vej 27A:geo:12.549129,55.677929
END:VEVENT
BEGIN:VEVENT
DTSTART;TZID=Europe/Copenhagen:20250425T160000
DTEND;TZID=Europe/Copenhagen:20250425T180000
DTSTAMP:20260423T033944
CREATED:20250331T114802Z
LAST-MODIFIED:20250425T121559Z
UID:10002256-1745596800-1745604000@teosofiskforening.dk
SUMMARY:Generalforsamling i Teosofisk Forening
DESCRIPTION:Der afholdes ordinær generalforsamling i Teosofisk Forening København \nFredag d. 25. april 2025 kl. 16.00\nSankt Knuds Vej 27A\, 1903 Frederiksberg C. \n  \nENDELIG DAGSORDEN  (i følge vedtægter godkendt 19.04.2024) \n1. Valg af dirigent \n2. Valg af referent og stemmetæller \n3. Konstatering af stemmetal og fuldmagter \n4. Beretning fra formanden \n5. Fremlæggelse af det reviderede regnskab for 2024 og budget til godkendelse 2025 \n6. Behandling af indkomne forslag – se nedenfor et forslag fra bestyrelsen \n7. Valg af bestyrelse og suppleanter \n8. Valg af kasserer \n9. Valg af revisor og revisorsuppleant \n10. Eventuelt \n______________________________________________________ \nFORSLAG TIL VEDTÆGTSÆNDRING \nBestyrelsens forslag til vedtægtsændring vedr. valg af formand jvf. vedtægterne (af 19.4.2024) § 7\, stk. 2. \nNuværende: \nStk. 2: Formanden vælges for en periode på to år og kan genvælges. Kandidater til formandsposten skal have været medlem af Teosofisk Forening København i mindst to år. \nStk. 3: Kandidater til den øvrige bestyrelse skal være medlem af Teosofisk Forening København. To kandidater og Formanden er i ulige årstal på valg for en periode af 2 år. De to andre kandidater vælges i lige årstal\, også for 2 år. Suppleanter vælges hvert år. Genvalg kan finde sted. \n  \nForslag: \nStk. 2: Formanden og kandidater til den øvrige bestyrelse skal være medlemmer af Teosofisk Forening København og vælges for en periode på to år. Formanden og to kandidater er på valg i ulige årstal. De to andre kandidater vælges i lige årstal. Suppleanter vælges hvert år. Genvalg kan finde sted. \nStk. 4 bliver herefter stk. 3.
URL:https://teosofiskforening.dk/begivenhed/generalforsamling-i-teosofisk-forening-2/
LOCATION:Teosofisk Forening København\, Sankt Knuds Vej 27A\, Frederiksberg C\, København\, 1903\, Danmark
CATEGORIES:Andet
ATTACH;FMTTYPE=image/jpeg:https://teosofiskforening.dk/wp-content/uploads/2025/03/paaskeliljer.jpg
GEO:55.677929;12.549129
X-APPLE-STRUCTURED-LOCATION;VALUE=URI;X-ADDRESS=Teosofisk Forening København Sankt Knuds Vej 27A Frederiksberg C København 1903 Danmark;X-APPLE-RADIUS=500;X-TITLE=Sankt Knuds Vej 27A:geo:12.549129,55.677929
END:VEVENT
BEGIN:VEVENT
DTSTART;TZID=Europe/Copenhagen:20250426T080000
DTEND;TZID=Europe/Copenhagen:20250427T170000
DTSTAMP:20260423T033944
CREATED:20250126T192025Z
LAST-MODIFIED:20250425T121402Z
UID:10002202-1745654400-1745773200@teosofiskforening.dk
SUMMARY:”Forstå den spirituelle verden” TEOSOFI – DEN TIDLØSE VISDOM #4\, kursusforløb ved Lene Pape
DESCRIPTION:Kursusrække med 4 weekender ved Lene Pape\n1. weekend: Lørdag den 18. Januar  og søndag den 19. Januar 2025 kl. 10.00 – 16.30\n2. weekend: Lørdag den 15. Februar og søndag den 16. Februar 2025 kl. 10.00 – 16.30\n3. weekend: Lørdag den 29. Marts og søndag den 30. Marts 2025 kl. 10.00 – 16.30\n4. weekend:  Lørdag den 26. April og søndag den 27. April 2025 kl. 10.00 – 16.30 \n  \nPris: Kr. 750/ 950 pr. weekend for medlemmer/gæster.\nI prisen indgår kaffe\, the og lette traktementer. Frokosten sørger man selv for. \nTilmelding og Betaling til tredie weekend – klik på Find billetter: \n\n  \nLink til Guide: Bestil billet på Billetto \nMax 20 deltagere. \n  \nVed framelding tilbageholdes 100 kr. til administration.\nBemærk: Din plads er først reserveret\, når beløbet er modtaget. \nDette er den fjerde weekend\, hvor vi håber\, at disse weekender kan bringe os i en dybere kontakt med den tidløse visdom. Ved at dykke ned i disse 18 temaer i teosofien\, vil vi bygge et grundlag\, som du kan gøre brug af og tage med ind i andre åndsvidenskabelige temaer. \nUnder kurset benytter vi mystikken fra kristendommen\, jødedommen\, buddhismen og hinduismen som informationskilder. Vi høster viden fra Østens\, Ægyptens og Vestens kulturhistorie og filosofier og tager udgangspunkt i åndsvidenskaben\, som den er formuleret af de teosofiske pionerer og nutidige lærer. Vi kommer til at bruge litteratur af Martinus\, Rudolf Steiner\, Alice A. Bailey\, Lucille Cedercrans\, Asger Lorentsen\, J.J. Hurtak med flere. \nKurset er bygget på natur- og religionsvidenskab samt symbollære.\nVær med til at skabe en god oplevelse\, at få åndelig dybde\, mening og skønhed ind i din bevidsthed\, og at se din verden fra en ny vinkel.\nDer vil være meditationer indlagt i forløbet. \nDer kræves ingen forudsætninger for at deltage i kurset. \n  \nPROGRAM\n\n\n\nLørdag d. 26. april – 10:00 – 16:30 \nSøndag d. 27. april – 10.00 – 16:30\n\n\n Bevidsthedens udvikling: Vi gennemgår de syv mennesketyper: Lemurisk\, Atlantisk og de kommende mennesketyper.\nDen nye verdenstjenergruppe: Verdenstjeneste – hvad er det\, og hvordan håndteres det? De ti sædgrupper og deres verdenstjeneste. Meditation\, integration af vore legemer\, åndedræt\, sjælskontakt. Psykiske evner og kanalisering.\n De syv stråler: Er der en ottende stråle og hvordan virker de syv universelle energier i Kosmos og i alle menneskers legemer og chakraer?\n3. Logos’ virke gennem engle ordenerne.\nEngle og deres hierarki – hvad ved vi om dem? Og om englenes samarbejde med menneskeheden.\n\n\n\nHele programmet kan hentes her.\n\n\n\n\n\n\nOm Lene Pape:\nForedragsholderen har gennem mange år arbejdet og interesseret sig for den indre side af livet. Studeret mange forskellige traditioner\, der beskriver den sjælelige og åndelige side af Verden. Oplevet mange spændende energifyldte åndelige steder i Europa på lys/energi rejser. Er fortrolig med ritual arbejde gennem mange år i forskellige grupper og loger samt en barndom med glæde for kirke ritualer. Underviser og foredragsholder\, blandt andet i Esoterisk astrologi\, Herkules myte forståelse\, englehierakier\, menneskets indvielses rejse\, menneskets kultur historie\, den skjulte visdom\, m.v. samt grundforståelse af Teosofi. \n\n#teosofi \nID: 250426LPPkfyTFK \n 
URL:https://teosofiskforening.dk/begivenhed/forstaa-den-spirituelle-verden-teosofi-den-tidloese-visdom-4-kursusforloeb-ved-lene-pape/
LOCATION:Teosofisk Forening København\, Sankt Knuds Vej 27A\, Frederiksberg C\, København\, 1903\, Danmark
CATEGORIES:Kursus
ATTACH;FMTTYPE=image/jpeg:https://teosofiskforening.dk/wp-content/uploads/2024/12/2025.01.18-19-Illustration-Lene-Pape-320x210-1.jpg
GEO:55.677929;12.549129
X-APPLE-STRUCTURED-LOCATION;VALUE=URI;X-ADDRESS=Teosofisk Forening København Sankt Knuds Vej 27A Frederiksberg C København 1903 Danmark;X-APPLE-RADIUS=500;X-TITLE=Sankt Knuds Vej 27A:geo:12.549129,55.677929
END:VEVENT
END:VCALENDAR