BEGIN:VCALENDAR
VERSION:2.0
PRODID:-//Teosofisk Forening København - ECPv6.15.20//NONSGML v1.0//EN
CALSCALE:GREGORIAN
METHOD:PUBLISH
X-WR-CALNAME:Teosofisk Forening København
X-ORIGINAL-URL:https://teosofiskforening.dk
X-WR-CALDESC:Begivenheder for Teosofisk Forening København
REFRESH-INTERVAL;VALUE=DURATION:PT1H
X-Robots-Tag:noindex
X-PUBLISHED-TTL:PT1H
BEGIN:VTIMEZONE
TZID:Europe/Copenhagen
BEGIN:DAYLIGHT
TZOFFSETFROM:+0100
TZOFFSETTO:+0200
TZNAME:CEST
DTSTART:20240331T010000
END:DAYLIGHT
BEGIN:STANDARD
TZOFFSETFROM:+0200
TZOFFSETTO:+0100
TZNAME:CET
DTSTART:20241027T010000
END:STANDARD
BEGIN:DAYLIGHT
TZOFFSETFROM:+0100
TZOFFSETTO:+0200
TZNAME:CEST
DTSTART:20250330T010000
END:DAYLIGHT
BEGIN:STANDARD
TZOFFSETFROM:+0200
TZOFFSETTO:+0100
TZNAME:CET
DTSTART:20251026T010000
END:STANDARD
BEGIN:DAYLIGHT
TZOFFSETFROM:+0100
TZOFFSETTO:+0200
TZNAME:CEST
DTSTART:20260329T010000
END:DAYLIGHT
BEGIN:STANDARD
TZOFFSETFROM:+0200
TZOFFSETTO:+0100
TZNAME:CET
DTSTART:20261025T010000
END:STANDARD
END:VTIMEZONE
BEGIN:VEVENT
DTSTART;TZID=Europe/Copenhagen:20250414T180000
DTEND;TZID=Europe/Copenhagen:20250414T184500
DTSTAMP:20260423T091544
CREATED:20250210T163558Z
LAST-MODIFIED:20250211T162907Z
UID:10002227-1744653600-1744656300@teosofiskforening.dk
SUMMARY:DANSEMEDITATION ved Den Indre Sol
DESCRIPTION:Hjertets Dansemeditation i fuldmånens kærlighedsstrøm\n  \nÅben dig for fuldmånens kærlighedsstrøm gennem dans og dans dig dybere og dybere ind i dig selv\, din krop og dansens univers.\nTidspunkt: kl. 18.00-18.45\nEntre: 25 kr.\nSted: Teosofisk Forening\, Sankt Knuds Vej 27 A\, 1903 Frederiksberg\nDatoer:\nMandag den 14/4/ 2025: Fuldmåne i Vædderen (Vægten) - (Påskefestivalen)\nMandag den 12/5 2025: Fuldmåne i Tyren (Skorpionen) – (Wesakfestivalen)\nFredag den 13/6 2025: Fuldmåne i Tvillingerne (Skytten) (Den Gode Viljes Fest)\nFredag den 11/7 2024: Fuldmåne i Krebsen (Stenbukke)\nFredag den 8/8 2025: Fuldmåne i Løven (Vandmanden)\nMandag den 8/9 2025: Fuldmåne i Jomfruen (Fiskene)\nMandag den 6/10 2025: Fuldmåne i Vægten (Vædderen)\nMandag den 3/11 2025 Fuldmåne i Skorpionen (Tyren)\nFredag den 5/12 2025: Fuldmåne i Skytten (Tvillingerne) (Julefuldmånen)\nFredag den 2/1 2026: Fuldmåne i Stenbukken (Krebsen)\nMandag den 2/2 2026: Fuldmåne i Vandmanden (Løven)\nMandag den 2/3 2026: Fuldmåne i Fiskene (Jomfruen)\n\nTilmelding: Ingen tilmelding – bare kom – Alle er velkomne!\n 
URL:https://teosofiskforening.dk/begivenhed/dansemeditation-ved-den-indre-sol/2025-04-14/
LOCATION:Teosofisk Forening København\, Sankt Knuds Vej 27A\, Frederiksberg C\, København\, 1903\, Danmark
CATEGORIES:Lukket gruppe,Meditation
ATTACH;FMTTYPE=image/jpeg:https://teosofiskforening.dk/wp-content/uploads/2025/02/2025-Dansemeditation-Den-Indre-Sol-320x214-1.jpg
GEO:55.677929;12.549129
X-APPLE-STRUCTURED-LOCATION;VALUE=URI;X-ADDRESS=Teosofisk Forening København Sankt Knuds Vej 27A Frederiksberg C København 1903 Danmark;X-APPLE-RADIUS=500;X-TITLE=Sankt Knuds Vej 27A:geo:12.549129,55.677929
END:VEVENT
BEGIN:VEVENT
DTSTART;TZID=Europe/Copenhagen:20250414T190000
DTEND;TZID=Europe/Copenhagen:20250414T203000
DTSTAMP:20260423T091544
CREATED:20250205T230536Z
LAST-MODIFIED:20250414T145549Z
UID:10002206-1744657200-1744662600@teosofiskforening.dk
SUMMARY:FULDMÅNEMEDITATION I VÆDDERENS TEGN ved DEN INDRE SOL
DESCRIPTION:Inden meditationen er der DANSEMEDITATION ved den Indre Sol:\nHjertets dansemeditation i fuldmånens kærlighedsstrøm\nkl. 18-18.45. Betaling: 25 kr. Se nærmere beskrivelse:  link  \n\n\n\n  \nFuldmåneceremonien består af: \nÅndedrætsmeditation\, Meditativ cirkeldans\, Mantrasang og Jordhealingsmeditation. \nVi åbner os for Fuldmånens Kærlighedsstrøm fra de planeter der påvirker os på både personlighedsplanet og sjælsplanet i den pågældende måned.\nInden vi går i gang\, vil du blive introduceret i fuldmåneenergiens muligheder og problemstillinger/udfordringer\, som vi bliver påvirket af i den pågældende måned.\nEfter meditationen vil du modtage inspiration fra et englekort. \n\n\n\nEksakt fuldmånetidspunkt er søndag d. 13. april 2025 02:23:56 (Påskefestivalen) \nMånedens spirituelle mantra: ”Jeg træder frem\, og fra tankens plan hersker jeg” \n  \nArrangementet er gratis\, og kræver ingen tilmelding. Du møder bare op. \nDu er velkommen til at give en donation til hjælp til betaling af huslejen.\nVi anbefaler 50 kr. men alt er velkomment.\nDu kan lægge donationen i fletkurven ved indgangen eller indbetale på mobilpay nr. 91597 \n  \n\n\nVed Fuldmåne og Nymåne er der en særlig planetarisk indstrømning til jorden\, som påvirker os alle kollektivt to dage før\, på selve dagen og to dage efter. Ved fuldmånen er det optimalt at lave jordhealingsmeditation og uselvisk lysarbejde for Jorden\, og ved nymåne er det optimalt at lave kanalisering- og healingsmeditation\, og personligt forvandlingsarbejde. \n\n\n\n\nDen Indre Sol: Ziadria og Michael\n\nEmail: denindresol@gmail.com\ntlf. 61330508\nwww.facebook.com/denindresol \n\n  \nID: 250414MED
URL:https://teosofiskforening.dk/begivenhed/fuldmaanemeditation-i-vaedderens-tegn-ved-den-indre-sol-2/
LOCATION:Teosofisk Forening København\, Sankt Knuds Vej 27A\, Frederiksberg C\, København\, 1903\, Danmark
CATEGORIES:Meditation
ATTACH;FMTTYPE=image/jpeg:https://teosofiskforening.dk/wp-content/uploads/2024/02/aries.jpg
GEO:55.677929;12.549129
X-APPLE-STRUCTURED-LOCATION;VALUE=URI;X-ADDRESS=Teosofisk Forening København Sankt Knuds Vej 27A Frederiksberg C København 1903 Danmark;X-APPLE-RADIUS=500;X-TITLE=Sankt Knuds Vej 27A:geo:12.549129,55.677929
END:VEVENT
BEGIN:VEVENT
DTSTART;TZID=Europe/Copenhagen:20250415T143000
DTEND;TZID=Europe/Copenhagen:20250415T170000
DTSTAMP:20260423T091544
CREATED:20250116T105930Z
LAST-MODIFIED:20250116T110611Z
UID:10002176-1744727400-1744736400@teosofiskforening.dk
SUMMARY:Lucille studiegruppe
DESCRIPTION:  \n\nForåret 2025 sæsonstart: Tirsdag den 7. januar kl. 14:30 – 17:00\nHerefter hver anden tirsdag i lige uger.\nSidste dato er tirsdag d. 24. juni. \n  \nI foråret 2025 læser vi sammen “Skabende tænkning” af Lucille Cederkrans. \nInformation og tilmelding:\nKatja Mørkeberg\nTlf: 28791536\ne-mail: katjaliv@gmail.com \nPris pr. gang: 25/40 kr. for medlemmer/gæster \n  \n“Den menneskelige familie står i dag på tærsklen til en ny erfaring\, nemlig sjælsbevidsthed.\nSjælens Natur er skrevet for at hjælpe mennesket i dets søgen efter sin sjæl.\nTankeformen kan kontaktes som en abstraktion gennem meditation\, og må derefter omsættes til konkret form af den mediterende.” \n\n\n\n\n 
URL:https://teosofiskforening.dk/begivenhed/lucille-studiegruppe-2/2025-04-15/
LOCATION:Teosofisk Forening København\, Sankt Knuds Vej 27A\, Frederiksberg C\, København\, 1903\, Danmark
CATEGORIES:Lukket gruppe,Studiegruppe
GEO:55.677929;12.549129
X-APPLE-STRUCTURED-LOCATION;VALUE=URI;X-ADDRESS=Teosofisk Forening København Sankt Knuds Vej 27A Frederiksberg C København 1903 Danmark;X-APPLE-RADIUS=500;X-TITLE=Sankt Knuds Vej 27A:geo:12.549129,55.677929
END:VEVENT
BEGIN:VEVENT
DTSTART;TZID=Europe/Copenhagen:20250415T190000
DTEND;TZID=Europe/Copenhagen:20250415T213000
DTSTAMP:20260423T091544
CREATED:20250125T175012Z
LAST-MODIFIED:20250319T224459Z
UID:10002198-1744743600-1744752600@teosofiskforening.dk
SUMMARY:Grundlaget for alt - den evige visdom - foredrag ved Sune Andersen
DESCRIPTION:  \nMennesker har til alle tider og alle steder spurgt sig selv – især når der er modgang i livet: \n\nHvem er jeg?\nHvad er meningen? Hvorfor er jeg her?\nHvordan kan jeg leve et godt liv i harmoni og fremgang?\n\nI det gamle Grækenland kaldte de sådanne spørgsmål filosofi.\nI det gamle Indien søgte vismænd svarene i yoga ved at forene sig med Atman – det højeste.\nBuddha havde svarene i de 4 ædle sandheder. \nReligionerne siger\, at du skal bare tro på det\, vi tror på\, så ordner Gud resten. \nDer er skrevet mange bøger om\, hvordan man kan blive lykkelig og få et godt liv.\nAftenens foredrag kaster lys over disse spørgsmål\, så du bliver mere afklaret om ”det hele”. \n  \nPris: 90/120 kr. for medlemmer/gæster.\nBetaling: Beløbet betales ved indgangen. \nDer er muligt at deltage online. Betal ved at klikke på Find billetter:\n\n \n\nSune Andersen er psykolog og astrolog. Hans store interesse er spiritualitet og åndelig udvikling. Han har gennemført 15 års meditations- og studieforløb i esoterisk filosofi\, psykologi og sociologi ved Arcane School i London og har i mange år undervist i meditation\, healing og personlig og åndelig udvikling. Han mediterer dagligt og er primært inspireret af visdomslæren i Alice Bailey bøgerne. www.lysetskilde.dk\n \n#visdom \n  \n  \nID: 250415SANffnTFK
URL:https://teosofiskforening.dk/begivenhed/grundlaget-for-alt-den-evige-visdom-foredrag-v-sune-andersen/
LOCATION:Teosofisk Forening København\, Sankt Knuds Vej 27A\, Frederiksberg C\, København\, 1903\, Danmark
CATEGORIES:Tirsdagsforedrag
ATTACH;FMTTYPE=image/jpeg:https://teosofiskforening.dk/wp-content/uploads/2025/01/2025.04.15-Sune-Andersen-Illustration-320x214-1.jpg
GEO:55.677929;12.549129
X-APPLE-STRUCTURED-LOCATION;VALUE=URI;X-ADDRESS=Teosofisk Forening København Sankt Knuds Vej 27A Frederiksberg C København 1903 Danmark;X-APPLE-RADIUS=500;X-TITLE=Sankt Knuds Vej 27A:geo:12.549129,55.677929
END:VEVENT
BEGIN:VEVENT
DTSTART;TZID=Europe/Copenhagen:20250416T173000
DTEND;TZID=Europe/Copenhagen:20250416T190000
DTSTAMP:20260423T091544
CREATED:20250110T172313Z
LAST-MODIFIED:20250110T172502Z
UID:10001912-1744824600-1744830000@teosofiskforening.dk
SUMMARY:Hearts and Hands Healing
DESCRIPTION:Gratis healing Er du syg\, i krise eller søgende\, er du velkommen til at møde op i Teosofisk Forenings lokaler\, hvor Hearts and Hands terapeuterne er klar til at tage imod hver onsdag fra kl. 18.00 – 19.00 Der er ingen forudbestilling. Healingen er ikke en erstatning for lægehjælp\, men et supplement til denne.  \n\n\n\n\n\nOm Hearts & Hands \n\n\n\nHearts & Hands er en organisation af frivillige\, der tilbyder gratis healing. Alle er velkomne. \n\n\n\n\nVores formål er at tilbyde gratis healing og derigennem hjælp til selvhjælp\n\n\n\nVi er ikke tilknyttet en bestemt religion\, spirituel eller religiøs retning\n\n\n\nVi består af frivillige healere\, der stiller tid og evner til rådighed\n\n\n\nHealerne i Hearts & Hands har tavshedspligt\, arbejder anonymt og i stilhed\n\n\n\nNår du modtager healing i Hearts and Hands\, får du ingen råd\, vejledning\, diagnose eller clairvoyante beskeder. Du modtager blot healing i stilhed\n\n\n\nAlle i Hearts & Hands arbejder ud fra et fælles Code of Conduct og etiske retningslinjer\n\n\n\nHearts & Hands eksisterer på baggrund af donationer\n\n\n\nHearts & Hands blev stiftet i 2003 på initiativ af Lars Muhl\n\n \n\n\n\n\n\n\n  \n\n\n\nFor yderligere oplysninger: Hearts and Hands 
URL:https://teosofiskforening.dk/begivenhed/hearts-and-hands-healing/2025-04-16/
LOCATION:Teosofisk Forening København\, Sankt Knuds Vej 27A\, Frederiksberg C\, København\, 1903\, Danmark
CATEGORIES:Studiegruppe
GEO:55.677929;12.549129
X-APPLE-STRUCTURED-LOCATION;VALUE=URI;X-ADDRESS=Teosofisk Forening København Sankt Knuds Vej 27A Frederiksberg C København 1903 Danmark;X-APPLE-RADIUS=500;X-TITLE=Sankt Knuds Vej 27A:geo:12.549129,55.677929
END:VEVENT
BEGIN:VEVENT
DTSTART;TZID=Europe/Copenhagen:20250417T183000
DTEND;TZID=Europe/Copenhagen:20250417T210000
DTSTAMP:20260423T091544
CREATED:20241218T153039Z
LAST-MODIFIED:20241218T153321Z
UID:10001850-1744914600-1744923600@teosofiskforening.dk
SUMMARY:Esoterisk meditation - studiegruppe
DESCRIPTION:Vi starter forårssæsonen hos TFK torsdag den 9. januar kl. 18:30 – 21. \nVi mødes i lige uger følgende torsdage: 23.1.\, 6. + 20.2.\, 6. + 20.3\, 3. + 17.4.\, 1. + 15. + 29.5.\, 12. + 26.6 2025   \n\n\n\n  \n\n\n\n\nForløs dit fulde spirituelle potentiale er overskriften for det arbejde denne gruppe har sat sig for at være med til at realisere.  \n\n\nI en hektisk og informations fyldt hverdag\, der ofte kræver menneskets fulde opmærksomhed\, kan det være svært at finde tid og ro til at fordybe sig i – og ikke mindst pleje den indre udvikling\, som kan være med til at etablere en indre rolig balance\, der er et vigtigt redskab til at håndtere den travle hverdag.  \n\n\nGennem en vifte af forskellige meditations typer: Mindfulness\, Raja yoga\, og ikke mindst den nye tids meditationsform Agni Yoga\, søger vi at finde ind til et indre mentalt og følelsesmæssigt spændings- og balancepunkt\, der kan være med til at forløse det spirituelle potentiale\, der ligger gemt som et blomsterfrø i alle mennesker\, og få det til at blomstre og folde sig ud i et rigt kreativt liv\, der inspirer omgivelserne på ny og overraskende vis.   \n\n\nAlice Ann Bailey har udgivet en række bøger om esoterisk filosofi\, der kommer med praktiske forslag og inspiration til hvordan sådan en opgave kan gribes an.  \n\n\nNogle af de bøger der kan hentes dyb inspiration og viden i er:   \n\n\n\nBreve om okkult meditation \n\n\n\n\n\nHvid magi  \n\n\n\n\n\n\nStrålerne og indvielserne  \n\n\n\n\n\n\nBlændværk et verdensproblem  \n\n\n\n\nBøgerne kan erhverves i Teosofisk Forenings boghandel / medlemmer af Teosofisk Forening kan låne bøgerne i vores bibliotek. \n  \n\n\n\n\nInformation og tilmelding\, kontakt enten Hanne eller Carsten: \n\n\n\nHanne Thorhauge Tlf: 21 35 84 66 e-mail: hannethorhauge@mail.dk \n\n\n\nCarsten Hald Tlf: 51 17 05 97 e-mail: chald.live@gmail.com \n\n\n\nPris pr. gang: 25/40 kr. for medlemmer/gæster \n\n\n\n\n \nAntakharana videnskaben er videnskaben om den tredobbelte tråd\, som har eksisteret fra tidernes morgen og forbinder det individuelle menneske med dets monadiske kilde. Erkendelsen af denne tråd og dens bevidste anvendelse\, som Vejen og metoden til stadig ekspanderende kontakter kommer relativt sent i udviklingsprocessen. Djwhal Khul\n\n\n\n 
URL:https://teosofiskforening.dk/begivenhed/esoterisk-meditation-studiegruppe-2/2025-04-17/
LOCATION:Teosofisk Forening København\, Sankt Knuds Vej 27A\, Frederiksberg C\, København\, 1903\, Danmark
CATEGORIES:Studiegruppe
ATTACH;FMTTYPE=image/jpeg:https://teosofiskforening.dk/wp-content/uploads/2020/12/52-Om-tegn-Esoterisk-meditation.jpg
GEO:55.677929;12.549129
X-APPLE-STRUCTURED-LOCATION;VALUE=URI;X-ADDRESS=Teosofisk Forening København Sankt Knuds Vej 27A Frederiksberg C København 1903 Danmark;X-APPLE-RADIUS=500;X-TITLE=Sankt Knuds Vej 27A:geo:12.549129,55.677929
END:VEVENT
BEGIN:VEVENT
DTSTART;TZID=Europe/Copenhagen:20250420T110000
DTEND;TZID=Europe/Copenhagen:20250420T123000
DTSTAMP:20260423T091544
CREATED:20250104T210553Z
LAST-MODIFIED:20250104T211449Z
UID:10001890-1745146800-1745152200@teosofiskforening.dk
SUMMARY:Center for Levende Teosofi
DESCRIPTION:Påskedag / Kosmisk Tjeneste\nMeditation\, healing og verdenstjeneste \nCenter for Levende Teosofi er et spirituelt fokus med særlig vægt på verdenstjeneste og udvikling af sjælens potentiale. \nGennem dynamisk meditation bliver mennesket bedre i stand til at kontrollere personligheden\, udfolde de højere talenter og opleve enhed i livet. Og det kan afdække aspekter af den indre sande natur\, det Højere Selv eller bevidsthed\, som det kan bruge til gavn i eget liv og andres liv. \nHealing kan afbalancere de finere legemer og energier\, og gennem sand healing sker der en overførsel af Helligånden og højere åndelige energier. Healing er en af de bedste måder at perfektionere sjæl og personlighed. Sand healing styrker ligesom meditation forbindelsen til sjælen og det Højere Selv. \nVerdenstjeneste er et åndeligt esoterisk arbejde\, som har til formål at heale Jorden og menneskeheden\, og enhver tjeneste bygger på principperne fra den Ædle Ottefoldige Vej og Rette Menneskelige Forbindelser. En tjeneste er uselvisk arbejde\, at vise viljen til det gode\, at udfolde livets indre formål\, at blive en lysbærer og at oplyse Jorden og menneskeheden. Dette arbejde er en del af den nye tidsalders ceremonielle praksis for verdenstjenere. \nDerudover afholdes der meditationer\, tjenester og healing via Zoom. \nFysiske tjenester afholdes hos Teosofisk Forening København på følgende datoer forår 2025: \nSøndag d. 26. januar 2025 kl. 11:00: Den Guddommelige Sandheds Tjeneste \nSøndag d. 23. februar 2025 kl. 11:00: Hjertehealingstjeneste \nSøndag d. 23. marts 2025 kl. 11:00: Den Hellige Moders Tjeneste \nSøndag d. 20. april 2025 kl. 11:00: Påskedag / Kosmisk Tjeneste \nMandag d. 9. juni 2025 kl. 11:00: Asala / Det Opstandne Livs Tjeneste \n  \nFor yderligere oplysninger besøg hjemmesiden: https://www.levendeteosofi.dk/da/ \n\nCenter for Levende Teosofi\n\n 
URL:https://teosofiskforening.dk/begivenhed/28916/
LOCATION:Teosofisk Forening København\, Sankt Knuds Vej 27A\, Frederiksberg C\, København\, 1903\, Danmark
CATEGORIES:Lukket gruppe,Meditation
GEO:55.677929;12.549129
X-APPLE-STRUCTURED-LOCATION;VALUE=URI;X-ADDRESS=Teosofisk Forening København Sankt Knuds Vej 27A Frederiksberg C København 1903 Danmark;X-APPLE-RADIUS=500;X-TITLE=Sankt Knuds Vej 27A:geo:12.549129,55.677929
END:VEVENT
END:VCALENDAR