BEGIN:VCALENDAR
VERSION:2.0
PRODID:-//Teosofisk Forening København - ECPv6.15.20//NONSGML v1.0//EN
CALSCALE:GREGORIAN
METHOD:PUBLISH
X-ORIGINAL-URL:https://teosofiskforening.dk
X-WR-CALDESC:Begivenheder for Teosofisk Forening København
REFRESH-INTERVAL;VALUE=DURATION:PT1H
X-Robots-Tag:noindex
X-PUBLISHED-TTL:PT1H
BEGIN:VTIMEZONE
TZID:Europe/Copenhagen
BEGIN:DAYLIGHT
TZOFFSETFROM:+0100
TZOFFSETTO:+0200
TZNAME:CEST
DTSTART:20240331T010000
END:DAYLIGHT
BEGIN:STANDARD
TZOFFSETFROM:+0200
TZOFFSETTO:+0100
TZNAME:CET
DTSTART:20241027T010000
END:STANDARD
BEGIN:DAYLIGHT
TZOFFSETFROM:+0100
TZOFFSETTO:+0200
TZNAME:CEST
DTSTART:20250330T010000
END:DAYLIGHT
BEGIN:STANDARD
TZOFFSETFROM:+0200
TZOFFSETTO:+0100
TZNAME:CET
DTSTART:20251026T010000
END:STANDARD
BEGIN:DAYLIGHT
TZOFFSETFROM:+0100
TZOFFSETTO:+0200
TZNAME:CEST
DTSTART:20260329T010000
END:DAYLIGHT
BEGIN:STANDARD
TZOFFSETFROM:+0200
TZOFFSETTO:+0100
TZNAME:CET
DTSTART:20261025T010000
END:STANDARD
END:VTIMEZONE
BEGIN:VEVENT
DTSTART;TZID=Europe/Copenhagen:20250401T143000
DTEND;TZID=Europe/Copenhagen:20250401T170000
DTSTAMP:20260423T192447
CREATED:20250116T105930Z
LAST-MODIFIED:20250116T110611Z
UID:10002175-1743517800-1743526800@teosofiskforening.dk
SUMMARY:Lucille studiegruppe
DESCRIPTION:  \n\nForåret 2025 sæsonstart: Tirsdag den 7. januar kl. 14:30 – 17:00\nHerefter hver anden tirsdag i lige uger.\nSidste dato er tirsdag d. 24. juni. \n  \nI foråret 2025 læser vi sammen “Skabende tænkning” af Lucille Cederkrans. \nInformation og tilmelding:\nKatja Mørkeberg\nTlf: 28791536\ne-mail: katjaliv@gmail.com \nPris pr. gang: 25/40 kr. for medlemmer/gæster \n  \n“Den menneskelige familie står i dag på tærsklen til en ny erfaring\, nemlig sjælsbevidsthed.\nSjælens Natur er skrevet for at hjælpe mennesket i dets søgen efter sin sjæl.\nTankeformen kan kontaktes som en abstraktion gennem meditation\, og må derefter omsættes til konkret form af den mediterende.” \n\n\n\n\n 
URL:https://teosofiskforening.dk/begivenhed/lucille-studiegruppe-2/2025-04-01/
LOCATION:Teosofisk Forening København\, Sankt Knuds Vej 27A\, Frederiksberg C\, København\, 1903\, Danmark
CATEGORIES:Lukket gruppe,Studiegruppe
GEO:55.677929;12.549129
X-APPLE-STRUCTURED-LOCATION;VALUE=URI;X-ADDRESS=Teosofisk Forening København Sankt Knuds Vej 27A Frederiksberg C København 1903 Danmark;X-APPLE-RADIUS=500;X-TITLE=Sankt Knuds Vej 27A:geo:12.549129,55.677929
END:VEVENT
BEGIN:VEVENT
DTSTART;TZID=Europe/Copenhagen:20250401T190000
DTEND;TZID=Europe/Copenhagen:20250401T213000
DTSTAMP:20260423T192447
CREATED:20250125T171527Z
LAST-MODIFIED:20250329T142354Z
UID:10002197-1743534000-1743543000@teosofiskforening.dk
SUMMARY:VEDISK ASTROLOGI - foredrag v/ Nicolay Marcus Zederlinn
DESCRIPTION:Vedisk astrologi\, også kaldet Jyotish\, er en ældgammel videnskab\, der er erkendt af indiske vismænd og indgår som en vigtig del af den vediske viden sammen med ayurveda\, yoga og meditation. Den er kendt for sine tidløse og præcise tolkningsmetoder\, der stort set har været uændrede gennem tusindvis af år. \nTil sidst i foredraget vil der være mulighed for en kort tolkning af enkelte af deltagernes horoskoper på tavlen\, så medbring evt. dit præcise fødselstidspunkt og fødested. \nPris: 90/120 kr. for medlemmer/gæster.\nBetaling: Beløbet betales ved indgangen. \nDer er muligt at deltage online.Betal ved at klikke på Find billetter: \n \n\n\n  \nNicolay Marcus Zederlinn er en erfaren astrolog\, forfatter og underviser\, der har arbejdet med vedisk astrologi i over 30 år. Han har studeret livsvisdom hos nogle af Indiens mest anerkendte guruer. Blandt andet boede han i tre år sammen med Maharishi Mahesh Yogi og har tillige haft lange ophold i Amma’s ashram i Kerala. \nwww.flowfood.dk \n#astrologi \nID: 250401NMCffnTFK
URL:https://teosofiskforening.dk/begivenhed/vedsik-astrologi-foredrag-v-nicolay-marcus-zederlinn/
LOCATION:Teosofisk Forening København\, Sankt Knuds Vej 27A\, Frederiksberg C\, København\, 1903\, Danmark
CATEGORIES:Tirsdagsforedrag
ATTACH;FMTTYPE=image/jpeg:https://teosofiskforening.dk/wp-content/uploads/2025/01/Nicolay-Zederlinn_illustration-320x214-1.jpg
GEO:55.677929;12.549129
X-APPLE-STRUCTURED-LOCATION;VALUE=URI;X-ADDRESS=Teosofisk Forening København Sankt Knuds Vej 27A Frederiksberg C København 1903 Danmark;X-APPLE-RADIUS=500;X-TITLE=Sankt Knuds Vej 27A:geo:12.549129,55.677929
END:VEVENT
BEGIN:VEVENT
DTSTART;TZID=Europe/Copenhagen:20250402T173000
DTEND;TZID=Europe/Copenhagen:20250402T190000
DTSTAMP:20260423T192447
CREATED:20250110T172313Z
LAST-MODIFIED:20250110T172502Z
UID:10001910-1743615000-1743620400@teosofiskforening.dk
SUMMARY:Hearts and Hands Healing
DESCRIPTION:Gratis healing Er du syg\, i krise eller søgende\, er du velkommen til at møde op i Teosofisk Forenings lokaler\, hvor Hearts and Hands terapeuterne er klar til at tage imod hver onsdag fra kl. 18.00 – 19.00 Der er ingen forudbestilling. Healingen er ikke en erstatning for lægehjælp\, men et supplement til denne.  \n\n\n\n\n\nOm Hearts & Hands \n\n\n\nHearts & Hands er en organisation af frivillige\, der tilbyder gratis healing. Alle er velkomne. \n\n\n\n\nVores formål er at tilbyde gratis healing og derigennem hjælp til selvhjælp\n\n\n\nVi er ikke tilknyttet en bestemt religion\, spirituel eller religiøs retning\n\n\n\nVi består af frivillige healere\, der stiller tid og evner til rådighed\n\n\n\nHealerne i Hearts & Hands har tavshedspligt\, arbejder anonymt og i stilhed\n\n\n\nNår du modtager healing i Hearts and Hands\, får du ingen råd\, vejledning\, diagnose eller clairvoyante beskeder. Du modtager blot healing i stilhed\n\n\n\nAlle i Hearts & Hands arbejder ud fra et fælles Code of Conduct og etiske retningslinjer\n\n\n\nHearts & Hands eksisterer på baggrund af donationer\n\n\n\nHearts & Hands blev stiftet i 2003 på initiativ af Lars Muhl\n\n \n\n\n\n\n\n\n  \n\n\n\nFor yderligere oplysninger: Hearts and Hands 
URL:https://teosofiskforening.dk/begivenhed/hearts-and-hands-healing/2025-04-02/
LOCATION:Teosofisk Forening København\, Sankt Knuds Vej 27A\, Frederiksberg C\, København\, 1903\, Danmark
CATEGORIES:Studiegruppe
GEO:55.677929;12.549129
X-APPLE-STRUCTURED-LOCATION;VALUE=URI;X-ADDRESS=Teosofisk Forening København Sankt Knuds Vej 27A Frederiksberg C København 1903 Danmark;X-APPLE-RADIUS=500;X-TITLE=Sankt Knuds Vej 27A:geo:12.549129,55.677929
END:VEVENT
BEGIN:VEVENT
DTSTART;TZID=Europe/Copenhagen:20250403T140000
DTEND;TZID=Europe/Copenhagen:20250403T160000
DTSTAMP:20260423T192447
CREATED:20241218T154205Z
LAST-MODIFIED:20241218T154243Z
UID:10001862-1743688800-1743696000@teosofiskforening.dk
SUMMARY:Kabbalah - Livets træ - Studiegruppe
DESCRIPTION:Foråret 2025 sæsonstart: Torsdag den 9. januar kl. 14:00 – 16:00  Herefter torsdag i lige uger til og med den 26. juni 2025.\n \n\n\n\n\n\n\nTag med på en rejse i dit eget indre univers med mulighed for at opleve Kabbalah’ens mangfoldigheder. Vær med til at opleve Livets Træ\, som er et billede af dig selv\, dit eget indre spirituelle univers. Livets Træ rummer så mange erkendelser\, at det har givet anledning til intens forskning af spirituel søgende mennesker gennem tiderne. Livets træ indeholder både planeter\, tarotkort\, farver\, symboler\, hebraiske bogstaver\, ærkeengle\, numerologi og kroppen.\n\n\n\n\nVi starter dagen med at meditere i træet. Vi deler oplevelserne fra meditationen – og ser så sammen på den enkelte Sti`s aspekter fra mange sider i livets træ. I dette forår går vi i dybden med en sti pr. gang tillige med det tilhørende hebraiske bogstav m.m. \n\n\n\nVi tager udgangspunkt i alle bøger\, der omhandler Kabbalah\, – sammen med tarotkortene A.E. Waites Rider Tarot og Crowley Tarot ABC. Alt materiale vedr. Kabbalah kan inddrages i studiet sammen med søgning på nettet. \n\n\n\nAlle er velkomne! \n\n\n\nInformation og tilmelding: Jette Hottenroth Jensen Tlf.: 29726694 e-mail: jette@hottenroth.com Pris pr. gang: 25/40 kr. for medlemmer/gæster.
URL:https://teosofiskforening.dk/begivenhed/kabbalah-livets-trae-studiegruppe-2/2025-04-03/
LOCATION:Teosofisk Forening København\, Sankt Knuds Vej 27A\, Frederiksberg C\, København\, 1903\, Danmark
CATEGORIES:Studiegruppe
ATTACH;FMTTYPE=image/png:https://teosofiskforening.dk/wp-content/uploads/2023/12/2024.03.23.24-Kim-Pedersen-illustration-Kabbala-320x214-1.png
GEO:55.677929;12.549129
X-APPLE-STRUCTURED-LOCATION;VALUE=URI;X-ADDRESS=Teosofisk Forening København Sankt Knuds Vej 27A Frederiksberg C København 1903 Danmark;X-APPLE-RADIUS=500;X-TITLE=Sankt Knuds Vej 27A:geo:12.549129,55.677929
END:VEVENT
BEGIN:VEVENT
DTSTART;TZID=Europe/Copenhagen:20250403T183000
DTEND;TZID=Europe/Copenhagen:20250403T210000
DTSTAMP:20260423T192447
CREATED:20241218T153039Z
LAST-MODIFIED:20241218T153321Z
UID:10001849-1743705000-1743714000@teosofiskforening.dk
SUMMARY:Esoterisk meditation - studiegruppe
DESCRIPTION:Vi starter forårssæsonen hos TFK torsdag den 9. januar kl. 18:30 – 21. \nVi mødes i lige uger følgende torsdage: 23.1.\, 6. + 20.2.\, 6. + 20.3\, 3. + 17.4.\, 1. + 15. + 29.5.\, 12. + 26.6 2025   \n\n\n\n  \n\n\n\n\nForløs dit fulde spirituelle potentiale er overskriften for det arbejde denne gruppe har sat sig for at være med til at realisere.  \n\n\nI en hektisk og informations fyldt hverdag\, der ofte kræver menneskets fulde opmærksomhed\, kan det være svært at finde tid og ro til at fordybe sig i – og ikke mindst pleje den indre udvikling\, som kan være med til at etablere en indre rolig balance\, der er et vigtigt redskab til at håndtere den travle hverdag.  \n\n\nGennem en vifte af forskellige meditations typer: Mindfulness\, Raja yoga\, og ikke mindst den nye tids meditationsform Agni Yoga\, søger vi at finde ind til et indre mentalt og følelsesmæssigt spændings- og balancepunkt\, der kan være med til at forløse det spirituelle potentiale\, der ligger gemt som et blomsterfrø i alle mennesker\, og få det til at blomstre og folde sig ud i et rigt kreativt liv\, der inspirer omgivelserne på ny og overraskende vis.   \n\n\nAlice Ann Bailey har udgivet en række bøger om esoterisk filosofi\, der kommer med praktiske forslag og inspiration til hvordan sådan en opgave kan gribes an.  \n\n\nNogle af de bøger der kan hentes dyb inspiration og viden i er:   \n\n\n\nBreve om okkult meditation \n\n\n\n\n\nHvid magi  \n\n\n\n\n\n\nStrålerne og indvielserne  \n\n\n\n\n\n\nBlændværk et verdensproblem  \n\n\n\n\nBøgerne kan erhverves i Teosofisk Forenings boghandel / medlemmer af Teosofisk Forening kan låne bøgerne i vores bibliotek. \n  \n\n\n\n\nInformation og tilmelding\, kontakt enten Hanne eller Carsten: \n\n\n\nHanne Thorhauge Tlf: 21 35 84 66 e-mail: hannethorhauge@mail.dk \n\n\n\nCarsten Hald Tlf: 51 17 05 97 e-mail: chald.live@gmail.com \n\n\n\nPris pr. gang: 25/40 kr. for medlemmer/gæster \n\n\n\n\n \nAntakharana videnskaben er videnskaben om den tredobbelte tråd\, som har eksisteret fra tidernes morgen og forbinder det individuelle menneske med dets monadiske kilde. Erkendelsen af denne tråd og dens bevidste anvendelse\, som Vejen og metoden til stadig ekspanderende kontakter kommer relativt sent i udviklingsprocessen. Djwhal Khul\n\n\n\n 
URL:https://teosofiskforening.dk/begivenhed/esoterisk-meditation-studiegruppe-2/2025-04-03/
LOCATION:Teosofisk Forening København\, Sankt Knuds Vej 27A\, Frederiksberg C\, København\, 1903\, Danmark
CATEGORIES:Studiegruppe
ATTACH;FMTTYPE=image/jpeg:https://teosofiskforening.dk/wp-content/uploads/2020/12/52-Om-tegn-Esoterisk-meditation.jpg
GEO:55.677929;12.549129
X-APPLE-STRUCTURED-LOCATION;VALUE=URI;X-ADDRESS=Teosofisk Forening København Sankt Knuds Vej 27A Frederiksberg C København 1903 Danmark;X-APPLE-RADIUS=500;X-TITLE=Sankt Knuds Vej 27A:geo:12.549129,55.677929
END:VEVENT
BEGIN:VEVENT
DTSTART;TZID=Europe/Copenhagen:20250403T183000
DTEND;TZID=Europe/Copenhagen:20250403T210000
DTSTAMP:20260423T192447
CREATED:20250103T224146Z
LAST-MODIFIED:20250103T224734Z
UID:10001882-1743705000-1743714000@teosofiskforening.dk
SUMMARY:NY TIDS VISDOM – GUDDOMMELIG INDSIGT studiegruppe
DESCRIPTION:Vi starter forårssæsonen 2025 hos TFK torsdag den 9 januar kl. 18:30 – 21. og mødes i lige uger følgende torsdage\n23. jan.\, 6.&20.feb.\, 6.&20.marts\, 3.april\, 1.&15.maj\, og endelig 12.juni. \n \nAlle er Velkomne og alle kan være med. \nGruppen er færdige med de første tre små bind af Grevens bøger\, – og starter nu 4. bind ”Hierakiet”.\nGennem bogen får vi lov til at opleve hvor kompliceret og samtidig enkelt at universet er opbygget og hvordan vi kan samarbejde med dem.\nBøgerne er kanaliseret af Inge Olsen fra en gruppe af højtudviklede mennesker fra 7.stråle-ashramen. \nVi starter og læser side 7-21 i bind 4\, som handler om Jordens Indre Styre Shamballa og universernes sammenhæng. Vi tager 10-15 sider ad gangen\, læser\, undersøger\, mediterer og taler om teksten og glæder os over energierne.\nAlle kan følge med og alle er meget velkomne\, også hvis du starter her med bind 4 uden at kende de første 3 bind. \nVi kører det online\, men hvis du gerne vil mødes fysisk gør vi bare det. \n\nPris pr. gang: 25/40 kr. for medlemmer/gæster. \nYderligere Information hos Andreas Stampe-Villadsen\, 2711 2841 eller mail andreas.villadsen@gmail.com. \n 
URL:https://teosofiskforening.dk/begivenhed/ny-tids-visdom-guddommelig-indsigt-studiegruppe-2/2025-04-03/
LOCATION:Teosofisk Forening København\, Sankt Knuds Vej 27A\, Frederiksberg C\, København\, 1903\, Danmark
CATEGORIES:Lukket gruppe,Studiegruppe
GEO:55.677929;12.549129
X-APPLE-STRUCTURED-LOCATION;VALUE=URI;X-ADDRESS=Teosofisk Forening København Sankt Knuds Vej 27A Frederiksberg C København 1903 Danmark;X-APPLE-RADIUS=500;X-TITLE=Sankt Knuds Vej 27A:geo:12.549129,55.677929
END:VEVENT
BEGIN:VEVENT
DTSTART;TZID=Europe/Copenhagen:20250405T100000
DTEND;TZID=Europe/Copenhagen:20250406T170000
DTSTAMP:20260423T192447
CREATED:20250112T112017Z
LAST-MODIFIED:20250401T115636Z
UID:10002163-1743847200-1743958800@teosofiskforening.dk
SUMMARY:AFLYST! Terapeutisk Tarot - kursus v/Derek Seagrief
DESCRIPTION:Note: The course will be held in English. \nPris: Kr. 1200/ 1500 for medlemmer/gæster.\nI prisen indgår kaffe\, the og lette traktementer. Frokosten sørger man selv for. \nTilmelding og Betaling til kurset – klik på Find billetter: \n \nWe can use the archetypal symbols on the Tarot cards to create a conversation with your unconscious\, to gain access to the wisdom & guidance of your deeper Self. Therapeutic Tarot can help you gain a different perspective on an issue that is troubling you\, to help you process the issue in a new way.\n\n* Are you excited by working with the TAROT cards but want to add a new dimension to your readings? \n* Do you wish to explore the many deeper psychological aspects that the imagery of the cards invite you to do? \n* Are you ready to open to Tarot’s magical world & so make greater contact with your own hidden resources and see new possibilities? \n  \n* Does the goal of communicating with these inner figures & symbols on the cards excite you? \nIf you have responded YES to the above\, then you know what kind of creative Tarot training you can enter into. The cards “choose us”\, rather than us choosing them\, which illustrates every experienced TAROT readers experience that they are a Magic Mirror\, reflecting our internal states of being. \nDifferent TAROT decks carry different energy or emphasis. We shall be working with Crowley’s Thoth deck\, Universal Waite\, BOTA\, Arthurian Tarot\, Inner Child deck etc. So please remember\, all TAROT decks will work! Derek has been pioneering THERAPEUTIC TAROT in Scandinavia for many years and training students in Tarot for 40 years. \nTAROT is accessible to everyone. It is a simple\, direct and rapid means of receiving guidance. It is an old system of knowing the Divine. But THERAPEUTIC TAROT is NOT fortune-telling. It is both inspirational & healing. Your experience of TAROT will be revolutionized upon this unique Workshop. THERAPEUTIC TAROT will empower you. \n  \nDerek has been working with Tarot & Astrology since 1969 and came to Denmark in 1978. Since then he has educated many hundreds of students in the creative use of symbol systems. Psychosynthesis & Art Therapist\, Teacher of a wide range of personal development disciplines & Focaliser of Western Mystery Traditions. Derek has a full-time international Astrological practice for more than 40 years. See website: www.seagrief.com for current Online Courses. \n#tarot \nID: 250405DSEkfyTFK
URL:https://teosofiskforening.dk/begivenhed/terapeutisk-tarot-kursus-v-derek-seagrief/
LOCATION:Teosofisk Forening København\, Sankt Knuds Vej 27A\, Frederiksberg C\, København\, 1903\, Danmark
CATEGORIES:Kursus
ATTACH;FMTTYPE=image/jpeg:https://teosofiskforening.dk/wp-content/uploads/2025/01/2025.04.05-06-Derek-Seagrief-320x214-1.jpg
GEO:55.677929;12.549129
X-APPLE-STRUCTURED-LOCATION;VALUE=URI;X-ADDRESS=Teosofisk Forening København Sankt Knuds Vej 27A Frederiksberg C København 1903 Danmark;X-APPLE-RADIUS=500;X-TITLE=Sankt Knuds Vej 27A:geo:12.549129,55.677929
END:VEVENT
END:VCALENDAR