BEGIN:VCALENDAR
VERSION:2.0
PRODID:-//Teosofisk Forening København - ECPv6.15.20//NONSGML v1.0//EN
CALSCALE:GREGORIAN
METHOD:PUBLISH
X-WR-CALNAME:Teosofisk Forening København
X-ORIGINAL-URL:https://teosofiskforening.dk
X-WR-CALDESC:Begivenheder for Teosofisk Forening København
REFRESH-INTERVAL;VALUE=DURATION:PT1H
X-Robots-Tag:noindex
X-PUBLISHED-TTL:PT1H
BEGIN:VTIMEZONE
TZID:Europe/Copenhagen
BEGIN:DAYLIGHT
TZOFFSETFROM:+0100
TZOFFSETTO:+0200
TZNAME:CEST
DTSTART:20240331T010000
END:DAYLIGHT
BEGIN:STANDARD
TZOFFSETFROM:+0200
TZOFFSETTO:+0100
TZNAME:CET
DTSTART:20241027T010000
END:STANDARD
BEGIN:DAYLIGHT
TZOFFSETFROM:+0100
TZOFFSETTO:+0200
TZNAME:CEST
DTSTART:20250330T010000
END:DAYLIGHT
BEGIN:STANDARD
TZOFFSETFROM:+0200
TZOFFSETTO:+0100
TZNAME:CET
DTSTART:20251026T010000
END:STANDARD
BEGIN:DAYLIGHT
TZOFFSETFROM:+0100
TZOFFSETTO:+0200
TZNAME:CEST
DTSTART:20260329T010000
END:DAYLIGHT
BEGIN:STANDARD
TZOFFSETFROM:+0200
TZOFFSETTO:+0100
TZNAME:CET
DTSTART:20261025T010000
END:STANDARD
END:VTIMEZONE
BEGIN:VEVENT
DTSTART;TZID=Europe/Copenhagen:20250304T143000
DTEND;TZID=Europe/Copenhagen:20250304T170000
DTSTAMP:20260425T164124
CREATED:20250116T105930Z
LAST-MODIFIED:20250116T110611Z
UID:10002173-1741098600-1741107600@teosofiskforening.dk
SUMMARY:Lucille studiegruppe
DESCRIPTION:  \n\nForåret 2025 sæsonstart: Tirsdag den 7. januar kl. 14:30 – 17:00\nHerefter hver anden tirsdag i lige uger.\nSidste dato er tirsdag d. 24. juni. \n  \nI foråret 2025 læser vi sammen “Skabende tænkning” af Lucille Cederkrans. \nInformation og tilmelding:\nKatja Mørkeberg\nTlf: 28791536\ne-mail: katjaliv@gmail.com \nPris pr. gang: 25/40 kr. for medlemmer/gæster \n  \n“Den menneskelige familie står i dag på tærsklen til en ny erfaring\, nemlig sjælsbevidsthed.\nSjælens Natur er skrevet for at hjælpe mennesket i dets søgen efter sin sjæl.\nTankeformen kan kontaktes som en abstraktion gennem meditation\, og må derefter omsættes til konkret form af den mediterende.” \n\n\n\n\n 
URL:https://teosofiskforening.dk/begivenhed/lucille-studiegruppe-2/2025-03-04/
LOCATION:Teosofisk Forening København\, Sankt Knuds Vej 27A\, Frederiksberg C\, København\, 1903\, Danmark
CATEGORIES:Lukket gruppe,Studiegruppe
GEO:55.677929;12.549129
X-APPLE-STRUCTURED-LOCATION;VALUE=URI;X-ADDRESS=Teosofisk Forening København Sankt Knuds Vej 27A Frederiksberg C København 1903 Danmark;X-APPLE-RADIUS=500;X-TITLE=Sankt Knuds Vej 27A:geo:12.549129,55.677929
END:VEVENT
BEGIN:VEVENT
DTSTART;TZID=Europe/Copenhagen:20250304T190000
DTEND;TZID=Europe/Copenhagen:20250304T213000
DTSTAMP:20260425T164124
CREATED:20241208T213854Z
LAST-MODIFIED:20250301T154153Z
UID:10001841-1741114800-1741123800@teosofiskforening.dk
SUMMARY:VEJEN TIL MIT INDRE LYS OG MIN SJÆLS FRIHED\, foredrag ved Azadeh
DESCRIPTION:KÆRLIGHEDEN ER BAG ALT  \n  \nHvordan Azadeh overvandt så meget mørke igennem sit liv ved at finde lyset i sig selv og sine omgivelser igennem terapeutisk arbejde. Hvordan Azadeh intuitivt fandt en vej ud af sit indre mørkelandskab og ud i lyset. Denne pilgrimsrejse medførte hendes spirituelle opvågning. Lyset ledte vejen!  \n  \nAzadehs livshistorie indeholder stor lærdom. Hun har tilbagelagt mange mil både igennem tragedierne siden barndommen\, hvor hun som 7-årig kom til Danmark sammen med sin familie.   \nAzadeh gennemgik et alvorligt sygdomsforløb der medførte\, at hun påbegyndte sin ”sygdomsrejse”\, hvor hun fik modet til at gå indad i søgen efter sit sjælspotentiale.  \nGennem dette forløb startede den transformation der medførte\, at hun fik en spirituel opvågning\, hvor hun turde følge den lyst til at forandre verdenen\, hun altid har haft.   \nLysten til at forandre verden er medfødt\, trods Azadeh det meste af sit liv har måttet kæmpe for at finde sin plads som et spirituelt menneske. Dette brændende ønske om at være fri til at være sig selv var en del af den transformation\, hun nåede gennem sin spirituelle opvågning.   \n  \nPris: 90/120 kr. for medlemmer/gæster.\nBetaling: Beløbet betales ved indgangen. \nDet er muligt at deltage online. Betal ved at klikke på Find billetter: \n\n \nLink til Guide: Bestil billet på Billetto \n  \n  \n \nAzadeh kom til Danmark som 7årig sammen med sin familie. Azadeh har taget en uddannelse som farmaceut\, er gift og mor til 2. Azadeh har holdt foredrag indenfor psykiatrien siden 2017 med udgangspunkt i sine livserfaringer og recovery fra sygdom.  \n  \n#spiritualitet  \nID: 250304AZAffnTFK
URL:https://teosofiskforening.dk/begivenhed/vejen-til-mit-indre-lys-og-min-sjaels-frihed-foredrag-ved-azadeh/
LOCATION:Teosofisk Forening København\, Sankt Knuds Vej 27A\, Frederiksberg C\, København\, 1903\, Danmark
CATEGORIES:Tirsdagsforedrag
ATTACH;FMTTYPE=image/jpeg:https://teosofiskforening.dk/wp-content/uploads/2024/12/2025.03.04-Azadeh-illustration-2048x1365-320x214-1.jpg
GEO:55.677929;12.549129
X-APPLE-STRUCTURED-LOCATION;VALUE=URI;X-ADDRESS=Teosofisk Forening København Sankt Knuds Vej 27A Frederiksberg C København 1903 Danmark;X-APPLE-RADIUS=500;X-TITLE=Sankt Knuds Vej 27A:geo:12.549129,55.677929
END:VEVENT
BEGIN:VEVENT
DTSTART;TZID=Europe/Copenhagen:20250305T173000
DTEND;TZID=Europe/Copenhagen:20250305T190000
DTSTAMP:20260425T164124
CREATED:20250110T172313Z
LAST-MODIFIED:20250110T172502Z
UID:10001906-1741195800-1741201200@teosofiskforening.dk
SUMMARY:Hearts and Hands Healing
DESCRIPTION:Gratis healing Er du syg\, i krise eller søgende\, er du velkommen til at møde op i Teosofisk Forenings lokaler\, hvor Hearts and Hands terapeuterne er klar til at tage imod hver onsdag fra kl. 18.00 – 19.00 Der er ingen forudbestilling. Healingen er ikke en erstatning for lægehjælp\, men et supplement til denne.  \n\n\n\n\n\nOm Hearts & Hands \n\n\n\nHearts & Hands er en organisation af frivillige\, der tilbyder gratis healing. Alle er velkomne. \n\n\n\n\nVores formål er at tilbyde gratis healing og derigennem hjælp til selvhjælp\n\n\n\nVi er ikke tilknyttet en bestemt religion\, spirituel eller religiøs retning\n\n\n\nVi består af frivillige healere\, der stiller tid og evner til rådighed\n\n\n\nHealerne i Hearts & Hands har tavshedspligt\, arbejder anonymt og i stilhed\n\n\n\nNår du modtager healing i Hearts and Hands\, får du ingen råd\, vejledning\, diagnose eller clairvoyante beskeder. Du modtager blot healing i stilhed\n\n\n\nAlle i Hearts & Hands arbejder ud fra et fælles Code of Conduct og etiske retningslinjer\n\n\n\nHearts & Hands eksisterer på baggrund af donationer\n\n\n\nHearts & Hands blev stiftet i 2003 på initiativ af Lars Muhl\n\n \n\n\n\n\n\n\n  \n\n\n\nFor yderligere oplysninger: Hearts and Hands 
URL:https://teosofiskforening.dk/begivenhed/hearts-and-hands-healing/2025-03-05/
LOCATION:Teosofisk Forening København\, Sankt Knuds Vej 27A\, Frederiksberg C\, København\, 1903\, Danmark
CATEGORIES:Studiegruppe
GEO:55.677929;12.549129
X-APPLE-STRUCTURED-LOCATION;VALUE=URI;X-ADDRESS=Teosofisk Forening København Sankt Knuds Vej 27A Frederiksberg C København 1903 Danmark;X-APPLE-RADIUS=500;X-TITLE=Sankt Knuds Vej 27A:geo:12.549129,55.677929
END:VEVENT
BEGIN:VEVENT
DTSTART;TZID=Europe/Copenhagen:20250306T140000
DTEND;TZID=Europe/Copenhagen:20250306T160000
DTSTAMP:20260425T164124
CREATED:20241218T154205Z
LAST-MODIFIED:20241218T154243Z
UID:10001860-1741269600-1741276800@teosofiskforening.dk
SUMMARY:Kabbalah - Livets træ - Studiegruppe
DESCRIPTION:Foråret 2025 sæsonstart: Torsdag den 9. januar kl. 14:00 – 16:00  Herefter torsdag i lige uger til og med den 26. juni 2025.\n \n\n\n\n\n\n\nTag med på en rejse i dit eget indre univers med mulighed for at opleve Kabbalah’ens mangfoldigheder. Vær med til at opleve Livets Træ\, som er et billede af dig selv\, dit eget indre spirituelle univers. Livets Træ rummer så mange erkendelser\, at det har givet anledning til intens forskning af spirituel søgende mennesker gennem tiderne. Livets træ indeholder både planeter\, tarotkort\, farver\, symboler\, hebraiske bogstaver\, ærkeengle\, numerologi og kroppen.\n\n\n\n\nVi starter dagen med at meditere i træet. Vi deler oplevelserne fra meditationen – og ser så sammen på den enkelte Sti`s aspekter fra mange sider i livets træ. I dette forår går vi i dybden med en sti pr. gang tillige med det tilhørende hebraiske bogstav m.m. \n\n\n\nVi tager udgangspunkt i alle bøger\, der omhandler Kabbalah\, – sammen med tarotkortene A.E. Waites Rider Tarot og Crowley Tarot ABC. Alt materiale vedr. Kabbalah kan inddrages i studiet sammen med søgning på nettet. \n\n\n\nAlle er velkomne! \n\n\n\nInformation og tilmelding: Jette Hottenroth Jensen Tlf.: 29726694 e-mail: jette@hottenroth.com Pris pr. gang: 25/40 kr. for medlemmer/gæster.
URL:https://teosofiskforening.dk/begivenhed/kabbalah-livets-trae-studiegruppe-2/2025-03-06/
LOCATION:Teosofisk Forening København\, Sankt Knuds Vej 27A\, Frederiksberg C\, København\, 1903\, Danmark
CATEGORIES:Studiegruppe
ATTACH;FMTTYPE=image/png:https://teosofiskforening.dk/wp-content/uploads/2023/12/2024.03.23.24-Kim-Pedersen-illustration-Kabbala-320x214-1.png
GEO:55.677929;12.549129
X-APPLE-STRUCTURED-LOCATION;VALUE=URI;X-ADDRESS=Teosofisk Forening København Sankt Knuds Vej 27A Frederiksberg C København 1903 Danmark;X-APPLE-RADIUS=500;X-TITLE=Sankt Knuds Vej 27A:geo:12.549129,55.677929
END:VEVENT
BEGIN:VEVENT
DTSTART;TZID=Europe/Copenhagen:20250306T183000
DTEND;TZID=Europe/Copenhagen:20250306T210000
DTSTAMP:20260425T164124
CREATED:20241218T153039Z
LAST-MODIFIED:20241218T153321Z
UID:10001847-1741285800-1741294800@teosofiskforening.dk
SUMMARY:Esoterisk meditation - studiegruppe
DESCRIPTION:Vi starter forårssæsonen hos TFK torsdag den 9. januar kl. 18:30 – 21. \nVi mødes i lige uger følgende torsdage: 23.1.\, 6. + 20.2.\, 6. + 20.3\, 3. + 17.4.\, 1. + 15. + 29.5.\, 12. + 26.6 2025   \n\n\n\n  \n\n\n\n\nForløs dit fulde spirituelle potentiale er overskriften for det arbejde denne gruppe har sat sig for at være med til at realisere.  \n\n\nI en hektisk og informations fyldt hverdag\, der ofte kræver menneskets fulde opmærksomhed\, kan det være svært at finde tid og ro til at fordybe sig i – og ikke mindst pleje den indre udvikling\, som kan være med til at etablere en indre rolig balance\, der er et vigtigt redskab til at håndtere den travle hverdag.  \n\n\nGennem en vifte af forskellige meditations typer: Mindfulness\, Raja yoga\, og ikke mindst den nye tids meditationsform Agni Yoga\, søger vi at finde ind til et indre mentalt og følelsesmæssigt spændings- og balancepunkt\, der kan være med til at forløse det spirituelle potentiale\, der ligger gemt som et blomsterfrø i alle mennesker\, og få det til at blomstre og folde sig ud i et rigt kreativt liv\, der inspirer omgivelserne på ny og overraskende vis.   \n\n\nAlice Ann Bailey har udgivet en række bøger om esoterisk filosofi\, der kommer med praktiske forslag og inspiration til hvordan sådan en opgave kan gribes an.  \n\n\nNogle af de bøger der kan hentes dyb inspiration og viden i er:   \n\n\n\nBreve om okkult meditation \n\n\n\n\n\nHvid magi  \n\n\n\n\n\n\nStrålerne og indvielserne  \n\n\n\n\n\n\nBlændværk et verdensproblem  \n\n\n\n\nBøgerne kan erhverves i Teosofisk Forenings boghandel / medlemmer af Teosofisk Forening kan låne bøgerne i vores bibliotek. \n  \n\n\n\n\nInformation og tilmelding\, kontakt enten Hanne eller Carsten: \n\n\n\nHanne Thorhauge Tlf: 21 35 84 66 e-mail: hannethorhauge@mail.dk \n\n\n\nCarsten Hald Tlf: 51 17 05 97 e-mail: chald.live@gmail.com \n\n\n\nPris pr. gang: 25/40 kr. for medlemmer/gæster \n\n\n\n\n \nAntakharana videnskaben er videnskaben om den tredobbelte tråd\, som har eksisteret fra tidernes morgen og forbinder det individuelle menneske med dets monadiske kilde. Erkendelsen af denne tråd og dens bevidste anvendelse\, som Vejen og metoden til stadig ekspanderende kontakter kommer relativt sent i udviklingsprocessen. Djwhal Khul\n\n\n\n 
URL:https://teosofiskforening.dk/begivenhed/esoterisk-meditation-studiegruppe-2/2025-03-06/
LOCATION:Teosofisk Forening København\, Sankt Knuds Vej 27A\, Frederiksberg C\, København\, 1903\, Danmark
CATEGORIES:Studiegruppe
ATTACH;FMTTYPE=image/jpeg:https://teosofiskforening.dk/wp-content/uploads/2020/12/52-Om-tegn-Esoterisk-meditation.jpg
GEO:55.677929;12.549129
X-APPLE-STRUCTURED-LOCATION;VALUE=URI;X-ADDRESS=Teosofisk Forening København Sankt Knuds Vej 27A Frederiksberg C København 1903 Danmark;X-APPLE-RADIUS=500;X-TITLE=Sankt Knuds Vej 27A:geo:12.549129,55.677929
END:VEVENT
BEGIN:VEVENT
DTSTART;TZID=Europe/Copenhagen:20250306T183000
DTEND;TZID=Europe/Copenhagen:20250306T210000
DTSTAMP:20260425T164124
CREATED:20250103T224146Z
LAST-MODIFIED:20250103T224734Z
UID:10001880-1741285800-1741294800@teosofiskforening.dk
SUMMARY:NY TIDS VISDOM – GUDDOMMELIG INDSIGT studiegruppe
DESCRIPTION:Vi starter forårssæsonen 2025 hos TFK torsdag den 9 januar kl. 18:30 – 21. og mødes i lige uger følgende torsdage\n23. jan.\, 6.&20.feb.\, 6.&20.marts\, 3.april\, 1.&15.maj\, og endelig 12.juni. \n \nAlle er Velkomne og alle kan være med. \nGruppen er færdige med de første tre små bind af Grevens bøger\, – og starter nu 4. bind ”Hierakiet”.\nGennem bogen får vi lov til at opleve hvor kompliceret og samtidig enkelt at universet er opbygget og hvordan vi kan samarbejde med dem.\nBøgerne er kanaliseret af Inge Olsen fra en gruppe af højtudviklede mennesker fra 7.stråle-ashramen. \nVi starter og læser side 7-21 i bind 4\, som handler om Jordens Indre Styre Shamballa og universernes sammenhæng. Vi tager 10-15 sider ad gangen\, læser\, undersøger\, mediterer og taler om teksten og glæder os over energierne.\nAlle kan følge med og alle er meget velkomne\, også hvis du starter her med bind 4 uden at kende de første 3 bind. \nVi kører det online\, men hvis du gerne vil mødes fysisk gør vi bare det. \n\nPris pr. gang: 25/40 kr. for medlemmer/gæster. \nYderligere Information hos Andreas Stampe-Villadsen\, 2711 2841 eller mail andreas.villadsen@gmail.com. \n 
URL:https://teosofiskforening.dk/begivenhed/ny-tids-visdom-guddommelig-indsigt-studiegruppe-2/2025-03-06/
LOCATION:Teosofisk Forening København\, Sankt Knuds Vej 27A\, Frederiksberg C\, København\, 1903\, Danmark
CATEGORIES:Lukket gruppe,Studiegruppe
GEO:55.677929;12.549129
X-APPLE-STRUCTURED-LOCATION;VALUE=URI;X-ADDRESS=Teosofisk Forening København Sankt Knuds Vej 27A Frederiksberg C København 1903 Danmark;X-APPLE-RADIUS=500;X-TITLE=Sankt Knuds Vej 27A:geo:12.549129,55.677929
END:VEVENT
BEGIN:VEVENT
DTSTART;TZID=Europe/Copenhagen:20250307T190000
DTEND;TZID=Europe/Copenhagen:20250307T213000
DTSTAMP:20260425T164124
CREATED:20250104T223921Z
LAST-MODIFIED:20250226T215732Z
UID:10001893-1741374000-1741383000@teosofiskforening.dk
SUMMARY:Det 13. univers. Hvad sker der med menneskene på Jorden? Foredrag ved Marina Munk
DESCRIPTION:Marina Munk kommer igen og opdaterer os om de nye kollektive energier i universet. De energier der påvirker os lige nu. Det sker i samarbejde med ærkeengle og opstegne mestre\, som hjælper Jorden i denne tid\, hvor vi nu afslutter en 24.000-årig cyklus og begynder på en ny i det 13. univers. \n  \nDe kanaliserede visioner indeholder informationer om den nye tid på vejen til enhed og positive totale forandringer her på Jorden. Marina Munk fortæller også om sin vej til dette åndelige arbejde\, og der vil være tid til spørgsmål og svar. \nEmnet uddybes på den efterfølgende endags-workshop lørdag 8. marts i TFK. \n  \nPris: 100/140 kr. for medlemmer/gæster.\nBetaling: Beløbet betales ved indgangen. \nDet er muligt at deltage online. Betal ved at klikke på Find billetter: \n\n \n  \nLink til Guide: Bestil billet på Billetto \n  \n  \n \nMarina Munk er clairvoyant og en internationalt kendt lysarbejder\, som har til opgave at vække menneskers højere bevidsthedskanaler. Hun arbejder samtidig praktisk med udgangspunkt i hverdagslivets behov – herunder hendes årelange engagement i WRO (World Rainforest Organization) for Amazonas indianere. Marina afholder desuden intergalaktiske møder og arrangerer rejser med åndeligt indhold. Danske Marina bor vest for Uppsala.  \nhttps://wrodk.weebly.com/marina-munk.html \n  \n#energi #univers \nID: 250307MMUffnTFK \n 
URL:https://teosofiskforening.dk/begivenhed/det-13-univers-hvad-sker-der-med-menneskene-paa-jorden-foredrag-ved-marina-munk/
LOCATION:Teosofisk Forening København\, Sankt Knuds Vej 27A\, Frederiksberg C\, København\, 1903\, Danmark
CATEGORIES:Tirsdagsforedrag
ATTACH;FMTTYPE=image/jpeg:https://teosofiskforening.dk/wp-content/uploads/2025/01/2024.02.24-Marina-Munk-illustration_Sommerfugl-blaa-320x214-1.jpg
GEO:55.677929;12.549129
X-APPLE-STRUCTURED-LOCATION;VALUE=URI;X-ADDRESS=Teosofisk Forening København Sankt Knuds Vej 27A Frederiksberg C København 1903 Danmark;X-APPLE-RADIUS=500;X-TITLE=Sankt Knuds Vej 27A:geo:12.549129,55.677929
END:VEVENT
BEGIN:VEVENT
DTSTART;TZID=Europe/Copenhagen:20250308T100000
DTEND;TZID=Europe/Copenhagen:20250308T170000
DTSTAMP:20260425T164124
CREATED:20250104T222439Z
LAST-MODIFIED:20250306T213220Z
UID:10001892-1741428000-1741453200@teosofiskforening.dk
SUMMARY:Intergalaktisk møde. Vejen til frihed. Vi bliver opgraderet for at tilpasse os vores nye realitet\, workshop ved Marina Munk
DESCRIPTION:Marina Munk vil igen opdatere os om de nye kollektive energier i universet. De energier der påvirker os lige nu. Det sker i samarbejde med ærkeengle og opstegne mestre\, som hjælper Jorden i denne tid\, hvor vi nu afslutter en 24.000-årig cyklus og begynder på en ny i det 13. univers.  Marina har samarbejdet med disse væsener gennem hele sit liv\, og hun kanaliserer dem lige så naturligt\, som hun taler om jordnære forhold i hverdagslivet. \nUniverset kommer direkte ind til os gennem Marina. Kodeordet er kærlighed til alt skabt. Det er kærligheden\, som leder os gennem dimensionsportene til ekspanderende bevidsthed. De kanaliserede visioner formidler informationer om den nye tid på vejen til enhed og positive totale forandringer her på Jorden. \nGennem kraftfulde energitransformerende meditationer\, ledet af Marinas åndelige kontakter\, finder hver enkelt deltager sin egen vej og samler sine egne erfaringer under workshoppen. Vi har alle hver vores egen måde at arbejde på og vores forskellige opgaver her på Jorden\, men fælles for alle er energiopkoblingen og samarbejdet med de højere væsener. Det bliver de store perspektivers dag. \n  \n  \nPris: Kr. 950/ 1150  for medlemmer/gæster.\nI prisen indgår kaffe\, the og lette traktementer. Frokosten sørger man selv for. \nTilmelding og Betaling – klik på Find billetter: \n\n\n  \n \nMarina Munk er clairvoyant og en internationalt kendt lysarbejder\, som har til opgave at vække menneskers højere bevidsthedskanaler. Hun arbejder samtidig praktisk med udgangspunkt i hverdagslivets behov – herunder hendes årelange engagement i WRO (World Rainforest Organization) for Amazonas indianere. Marina afholder desuden intergalaktiske møder og arrangerer rejser med åndeligt indhold. Danske Marina bor vest for Uppsala.  \nhttps://wrodk.weebly.com/marina-munk.html \n  \n#energi #univers \nID: 250308MMUkfyTFK
URL:https://teosofiskforening.dk/begivenhed/intergalaktisk-moede-vejen-til-frihed-vi-bliver-opgraderet-for-at-tilpasse-os-vores-nye-realitet-workshop-ved-marina-munk/
LOCATION:Teosofisk Forening København\, Sankt Knuds Vej 27A\, Frederiksberg C\, København\, 1903\, Danmark
CATEGORIES:Kursus,Workshop
ATTACH;FMTTYPE=image/jpeg:https://teosofiskforening.dk/wp-content/uploads/2025/01/2024.02.24-Marina-Munk-illustration_Sommerfugl-blaa-320x214-1.jpg
GEO:55.677929;12.549129
X-APPLE-STRUCTURED-LOCATION;VALUE=URI;X-ADDRESS=Teosofisk Forening København Sankt Knuds Vej 27A Frederiksberg C København 1903 Danmark;X-APPLE-RADIUS=500;X-TITLE=Sankt Knuds Vej 27A:geo:12.549129,55.677929
END:VEVENT
END:VCALENDAR