BEGIN:VCALENDAR
VERSION:2.0
PRODID:-//Teosofisk Forening København - ECPv6.15.20//NONSGML v1.0//EN
CALSCALE:GREGORIAN
METHOD:PUBLISH
X-WR-CALNAME:Teosofisk Forening København
X-ORIGINAL-URL:https://teosofiskforening.dk
X-WR-CALDESC:Begivenheder for Teosofisk Forening København
REFRESH-INTERVAL;VALUE=DURATION:PT1H
X-Robots-Tag:noindex
X-PUBLISHED-TTL:PT1H
BEGIN:VTIMEZONE
TZID:Europe/Copenhagen
BEGIN:DAYLIGHT
TZOFFSETFROM:+0100
TZOFFSETTO:+0200
TZNAME:CEST
DTSTART:20240331T010000
END:DAYLIGHT
BEGIN:STANDARD
TZOFFSETFROM:+0200
TZOFFSETTO:+0100
TZNAME:CET
DTSTART:20241027T010000
END:STANDARD
BEGIN:DAYLIGHT
TZOFFSETFROM:+0100
TZOFFSETTO:+0200
TZNAME:CEST
DTSTART:20250330T010000
END:DAYLIGHT
BEGIN:STANDARD
TZOFFSETFROM:+0200
TZOFFSETTO:+0100
TZNAME:CET
DTSTART:20251026T010000
END:STANDARD
BEGIN:DAYLIGHT
TZOFFSETFROM:+0100
TZOFFSETTO:+0200
TZNAME:CEST
DTSTART:20260329T010000
END:DAYLIGHT
BEGIN:STANDARD
TZOFFSETFROM:+0200
TZOFFSETTO:+0100
TZNAME:CET
DTSTART:20261025T010000
END:STANDARD
END:VTIMEZONE
BEGIN:VEVENT
DTSTART;TZID=Europe/Copenhagen:20250527T143000
DTEND;TZID=Europe/Copenhagen:20250527T170000
DTSTAMP:20260422T133842
CREATED:20250116T105930Z
LAST-MODIFIED:20250116T110611Z
UID:10002179-1748356200-1748365200@teosofiskforening.dk
SUMMARY:Lucille studiegruppe
DESCRIPTION:  \n\nForåret 2025 sæsonstart: Tirsdag den 7. januar kl. 14:30 – 17:00\nHerefter hver anden tirsdag i lige uger.\nSidste dato er tirsdag d. 24. juni. \n  \nI foråret 2025 læser vi sammen “Skabende tænkning” af Lucille Cederkrans. \nInformation og tilmelding:\nKatja Mørkeberg\nTlf: 28791536\ne-mail: katjaliv@gmail.com \nPris pr. gang: 25/40 kr. for medlemmer/gæster \n  \n“Den menneskelige familie står i dag på tærsklen til en ny erfaring\, nemlig sjælsbevidsthed.\nSjælens Natur er skrevet for at hjælpe mennesket i dets søgen efter sin sjæl.\nTankeformen kan kontaktes som en abstraktion gennem meditation\, og må derefter omsættes til konkret form af den mediterende.” \n\n\n\n\n 
URL:https://teosofiskforening.dk/begivenhed/lucille-studiegruppe-2/2025-05-27/
LOCATION:Teosofisk Forening København\, Sankt Knuds Vej 27A\, Frederiksberg C\, København\, 1903\, Danmark
CATEGORIES:Lukket gruppe,Studiegruppe
GEO:55.677929;12.549129
X-APPLE-STRUCTURED-LOCATION;VALUE=URI;X-ADDRESS=Teosofisk Forening København Sankt Knuds Vej 27A Frederiksberg C København 1903 Danmark;X-APPLE-RADIUS=500;X-TITLE=Sankt Knuds Vej 27A:geo:12.549129,55.677929
END:VEVENT
BEGIN:VEVENT
DTSTART;TZID=Europe/Copenhagen:20250528T173000
DTEND;TZID=Europe/Copenhagen:20250528T190000
DTSTAMP:20260422T133842
CREATED:20250110T172313Z
LAST-MODIFIED:20250110T172502Z
UID:10001918-1748453400-1748458800@teosofiskforening.dk
SUMMARY:Hearts and Hands Healing
DESCRIPTION:Gratis healing Er du syg\, i krise eller søgende\, er du velkommen til at møde op i Teosofisk Forenings lokaler\, hvor Hearts and Hands terapeuterne er klar til at tage imod hver onsdag fra kl. 18.00 – 19.00 Der er ingen forudbestilling. Healingen er ikke en erstatning for lægehjælp\, men et supplement til denne.  \n\n\n\n\n\nOm Hearts & Hands \n\n\n\nHearts & Hands er en organisation af frivillige\, der tilbyder gratis healing. Alle er velkomne. \n\n\n\n\nVores formål er at tilbyde gratis healing og derigennem hjælp til selvhjælp\n\n\n\nVi er ikke tilknyttet en bestemt religion\, spirituel eller religiøs retning\n\n\n\nVi består af frivillige healere\, der stiller tid og evner til rådighed\n\n\n\nHealerne i Hearts & Hands har tavshedspligt\, arbejder anonymt og i stilhed\n\n\n\nNår du modtager healing i Hearts and Hands\, får du ingen råd\, vejledning\, diagnose eller clairvoyante beskeder. Du modtager blot healing i stilhed\n\n\n\nAlle i Hearts & Hands arbejder ud fra et fælles Code of Conduct og etiske retningslinjer\n\n\n\nHearts & Hands eksisterer på baggrund af donationer\n\n\n\nHearts & Hands blev stiftet i 2003 på initiativ af Lars Muhl\n\n \n\n\n\n\n\n\n  \n\n\n\nFor yderligere oplysninger: Hearts and Hands 
URL:https://teosofiskforening.dk/begivenhed/hearts-and-hands-healing/2025-05-28/
LOCATION:Teosofisk Forening København\, Sankt Knuds Vej 27A\, Frederiksberg C\, København\, 1903\, Danmark
CATEGORIES:Studiegruppe
GEO:55.677929;12.549129
X-APPLE-STRUCTURED-LOCATION;VALUE=URI;X-ADDRESS=Teosofisk Forening København Sankt Knuds Vej 27A Frederiksberg C København 1903 Danmark;X-APPLE-RADIUS=500;X-TITLE=Sankt Knuds Vej 27A:geo:12.549129,55.677929
END:VEVENT
BEGIN:VEVENT
DTSTART;TZID=Europe/Copenhagen:20250529T183000
DTEND;TZID=Europe/Copenhagen:20250529T210000
DTSTAMP:20260422T133842
CREATED:20241218T153039Z
LAST-MODIFIED:20241218T153321Z
UID:10001853-1748543400-1748552400@teosofiskforening.dk
SUMMARY:Esoterisk meditation - studiegruppe
DESCRIPTION:Vi starter forårssæsonen hos TFK torsdag den 9. januar kl. 18:30 – 21. \nVi mødes i lige uger følgende torsdage: 23.1.\, 6. + 20.2.\, 6. + 20.3\, 3. + 17.4.\, 1. + 15. + 29.5.\, 12. + 26.6 2025   \n\n\n\n  \n\n\n\n\nForløs dit fulde spirituelle potentiale er overskriften for det arbejde denne gruppe har sat sig for at være med til at realisere.  \n\n\nI en hektisk og informations fyldt hverdag\, der ofte kræver menneskets fulde opmærksomhed\, kan det være svært at finde tid og ro til at fordybe sig i – og ikke mindst pleje den indre udvikling\, som kan være med til at etablere en indre rolig balance\, der er et vigtigt redskab til at håndtere den travle hverdag.  \n\n\nGennem en vifte af forskellige meditations typer: Mindfulness\, Raja yoga\, og ikke mindst den nye tids meditationsform Agni Yoga\, søger vi at finde ind til et indre mentalt og følelsesmæssigt spændings- og balancepunkt\, der kan være med til at forløse det spirituelle potentiale\, der ligger gemt som et blomsterfrø i alle mennesker\, og få det til at blomstre og folde sig ud i et rigt kreativt liv\, der inspirer omgivelserne på ny og overraskende vis.   \n\n\nAlice Ann Bailey har udgivet en række bøger om esoterisk filosofi\, der kommer med praktiske forslag og inspiration til hvordan sådan en opgave kan gribes an.  \n\n\nNogle af de bøger der kan hentes dyb inspiration og viden i er:   \n\n\n\nBreve om okkult meditation \n\n\n\n\n\nHvid magi  \n\n\n\n\n\n\nStrålerne og indvielserne  \n\n\n\n\n\n\nBlændværk et verdensproblem  \n\n\n\n\nBøgerne kan erhverves i Teosofisk Forenings boghandel / medlemmer af Teosofisk Forening kan låne bøgerne i vores bibliotek. \n  \n\n\n\n\nInformation og tilmelding\, kontakt enten Hanne eller Carsten: \n\n\n\nHanne Thorhauge Tlf: 21 35 84 66 e-mail: hannethorhauge@mail.dk \n\n\n\nCarsten Hald Tlf: 51 17 05 97 e-mail: chald.live@gmail.com \n\n\n\nPris pr. gang: 25/40 kr. for medlemmer/gæster \n\n\n\n\n \nAntakharana videnskaben er videnskaben om den tredobbelte tråd\, som har eksisteret fra tidernes morgen og forbinder det individuelle menneske med dets monadiske kilde. Erkendelsen af denne tråd og dens bevidste anvendelse\, som Vejen og metoden til stadig ekspanderende kontakter kommer relativt sent i udviklingsprocessen. Djwhal Khul\n\n\n\n 
URL:https://teosofiskforening.dk/begivenhed/esoterisk-meditation-studiegruppe-2/2025-05-29/
LOCATION:Teosofisk Forening København\, Sankt Knuds Vej 27A\, Frederiksberg C\, København\, 1903\, Danmark
CATEGORIES:Studiegruppe
ATTACH;FMTTYPE=image/jpeg:https://teosofiskforening.dk/wp-content/uploads/2020/12/52-Om-tegn-Esoterisk-meditation.jpg
GEO:55.677929;12.549129
X-APPLE-STRUCTURED-LOCATION;VALUE=URI;X-ADDRESS=Teosofisk Forening København Sankt Knuds Vej 27A Frederiksberg C København 1903 Danmark;X-APPLE-RADIUS=500;X-TITLE=Sankt Knuds Vej 27A:geo:12.549129,55.677929
END:VEVENT
END:VCALENDAR