BEGIN:VCALENDAR
VERSION:2.0
PRODID:-//Teosofisk Forening København - ECPv6.15.20//NONSGML v1.0//EN
CALSCALE:GREGORIAN
METHOD:PUBLISH
X-ORIGINAL-URL:https://teosofiskforening.dk
X-WR-CALDESC:Begivenheder for Teosofisk Forening København
REFRESH-INTERVAL;VALUE=DURATION:PT1H
X-Robots-Tag:noindex
X-PUBLISHED-TTL:PT1H
BEGIN:VTIMEZONE
TZID:Europe/Copenhagen
BEGIN:DAYLIGHT
TZOFFSETFROM:+0100
TZOFFSETTO:+0200
TZNAME:CEST
DTSTART:20240331T010000
END:DAYLIGHT
BEGIN:STANDARD
TZOFFSETFROM:+0200
TZOFFSETTO:+0100
TZNAME:CET
DTSTART:20241027T010000
END:STANDARD
BEGIN:DAYLIGHT
TZOFFSETFROM:+0100
TZOFFSETTO:+0200
TZNAME:CEST
DTSTART:20250330T010000
END:DAYLIGHT
BEGIN:STANDARD
TZOFFSETFROM:+0200
TZOFFSETTO:+0100
TZNAME:CET
DTSTART:20251026T010000
END:STANDARD
BEGIN:DAYLIGHT
TZOFFSETFROM:+0100
TZOFFSETTO:+0200
TZNAME:CEST
DTSTART:20260329T010000
END:DAYLIGHT
BEGIN:STANDARD
TZOFFSETFROM:+0200
TZOFFSETTO:+0100
TZNAME:CET
DTSTART:20261025T010000
END:STANDARD
END:VTIMEZONE
BEGIN:VEVENT
DTSTART;TZID=Europe/Copenhagen:20250624T143000
DTEND;TZID=Europe/Copenhagen:20250624T170000
DTSTAMP:20260422T014636
CREATED:20250116T105930Z
LAST-MODIFIED:20250116T110611Z
UID:10002181-1750775400-1750784400@teosofiskforening.dk
SUMMARY:Lucille studiegruppe
DESCRIPTION:  \n\nForåret 2025 sæsonstart: Tirsdag den 7. januar kl. 14:30 – 17:00\nHerefter hver anden tirsdag i lige uger.\nSidste dato er tirsdag d. 24. juni. \n  \nI foråret 2025 læser vi sammen “Skabende tænkning” af Lucille Cederkrans. \nInformation og tilmelding:\nKatja Mørkeberg\nTlf: 28791536\ne-mail: katjaliv@gmail.com \nPris pr. gang: 25/40 kr. for medlemmer/gæster \n  \n“Den menneskelige familie står i dag på tærsklen til en ny erfaring\, nemlig sjælsbevidsthed.\nSjælens Natur er skrevet for at hjælpe mennesket i dets søgen efter sin sjæl.\nTankeformen kan kontaktes som en abstraktion gennem meditation\, og må derefter omsættes til konkret form af den mediterende.” \n\n\n\n\n 
URL:https://teosofiskforening.dk/begivenhed/lucille-studiegruppe-2/2025-06-24/
LOCATION:Teosofisk Forening København\, Sankt Knuds Vej 27A\, Frederiksberg C\, København\, 1903\, Danmark
CATEGORIES:Lukket gruppe,Studiegruppe
GEO:55.677929;12.549129
X-APPLE-STRUCTURED-LOCATION;VALUE=URI;X-ADDRESS=Teosofisk Forening København Sankt Knuds Vej 27A Frederiksberg C København 1903 Danmark;X-APPLE-RADIUS=500;X-TITLE=Sankt Knuds Vej 27A:geo:12.549129,55.677929
END:VEVENT
END:VCALENDAR