BEGIN:VCALENDAR
VERSION:2.0
PRODID:-//Teosofisk Forening København - ECPv6.15.20//NONSGML v1.0//EN
CALSCALE:GREGORIAN
METHOD:PUBLISH
X-ORIGINAL-URL:https://teosofiskforening.dk
X-WR-CALDESC:Begivenheder for Teosofisk Forening København
REFRESH-INTERVAL;VALUE=DURATION:PT1H
X-Robots-Tag:noindex
X-PUBLISHED-TTL:PT1H
BEGIN:VTIMEZONE
TZID:Europe/Copenhagen
BEGIN:DAYLIGHT
TZOFFSETFROM:+0100
TZOFFSETTO:+0200
TZNAME:CEST
DTSTART:20250330T010000
END:DAYLIGHT
BEGIN:STANDARD
TZOFFSETFROM:+0200
TZOFFSETTO:+0100
TZNAME:CET
DTSTART:20251026T010000
END:STANDARD
BEGIN:DAYLIGHT
TZOFFSETFROM:+0100
TZOFFSETTO:+0200
TZNAME:CEST
DTSTART:20260329T010000
END:DAYLIGHT
BEGIN:STANDARD
TZOFFSETFROM:+0200
TZOFFSETTO:+0100
TZNAME:CET
DTSTART:20261025T010000
END:STANDARD
BEGIN:DAYLIGHT
TZOFFSETFROM:+0100
TZOFFSETTO:+0200
TZNAME:CEST
DTSTART:20270328T010000
END:DAYLIGHT
BEGIN:STANDARD
TZOFFSETFROM:+0200
TZOFFSETTO:+0100
TZNAME:CET
DTSTART:20271031T010000
END:STANDARD
END:VTIMEZONE
BEGIN:VEVENT
DTSTART;TZID=Europe/Copenhagen:20260102T180000
DTEND;TZID=Europe/Copenhagen:20260102T184500
DTSTAMP:20260421T233130
CREATED:20250210T163558Z
LAST-MODIFIED:20250211T162907Z
UID:10002236-1767376800-1767379500@teosofiskforening.dk
SUMMARY:DANSEMEDITATION ved Den Indre Sol
DESCRIPTION:Hjertets Dansemeditation i fuldmånens kærlighedsstrøm\n  \nÅben dig for fuldmånens kærlighedsstrøm gennem dans og dans dig dybere og dybere ind i dig selv\, din krop og dansens univers.\nTidspunkt: kl. 18.00-18.45\nEntre: 25 kr.\nSted: Teosofisk Forening\, Sankt Knuds Vej 27 A\, 1903 Frederiksberg\nDatoer:\nMandag den 14/4/ 2025: Fuldmåne i Vædderen (Vægten) - (Påskefestivalen)\nMandag den 12/5 2025: Fuldmåne i Tyren (Skorpionen) – (Wesakfestivalen)\nFredag den 13/6 2025: Fuldmåne i Tvillingerne (Skytten) (Den Gode Viljes Fest)\nFredag den 11/7 2024: Fuldmåne i Krebsen (Stenbukke)\nFredag den 8/8 2025: Fuldmåne i Løven (Vandmanden)\nMandag den 8/9 2025: Fuldmåne i Jomfruen (Fiskene)\nMandag den 6/10 2025: Fuldmåne i Vægten (Vædderen)\nMandag den 3/11 2025 Fuldmåne i Skorpionen (Tyren)\nFredag den 5/12 2025: Fuldmåne i Skytten (Tvillingerne) (Julefuldmånen)\nFredag den 2/1 2026: Fuldmåne i Stenbukken (Krebsen)\nMandag den 2/2 2026: Fuldmåne i Vandmanden (Løven)\nMandag den 2/3 2026: Fuldmåne i Fiskene (Jomfruen)\n\nTilmelding: Ingen tilmelding – bare kom – Alle er velkomne!\n 
URL:https://teosofiskforening.dk/begivenhed/dansemeditation-ved-den-indre-sol/2026-01-02/
LOCATION:Teosofisk Forening København\, Sankt Knuds Vej 27A\, Frederiksberg C\, København\, 1903\, Danmark
CATEGORIES:Lukket gruppe,Meditation
ATTACH;FMTTYPE=image/jpeg:https://teosofiskforening.dk/wp-content/uploads/2025/02/2025-Dansemeditation-Den-Indre-Sol-320x214-1.jpg
GEO:55.677929;12.549129
X-APPLE-STRUCTURED-LOCATION;VALUE=URI;X-ADDRESS=Teosofisk Forening København Sankt Knuds Vej 27A Frederiksberg C København 1903 Danmark;X-APPLE-RADIUS=500;X-TITLE=Sankt Knuds Vej 27A:geo:12.549129,55.677929
END:VEVENT
BEGIN:VEVENT
DTSTART;TZID=Europe/Copenhagen:20260102T190000
DTEND;TZID=Europe/Copenhagen:20260102T203000
DTSTAMP:20260421T233130
CREATED:20251203T221641Z
LAST-MODIFIED:20260103T205727Z
UID:10002343-1767380400-1767385800@teosofiskforening.dk
SUMMARY:FULDMÅNEMEDITATION I STENBUKKENS TEGN ved Den Indre Sol
DESCRIPTION:Dansemeditation i fuldmånens kærlighedsstrøm.\nInden meditationen er det muligt at åbne dig for fuldmånen gennem frigørende dans.\nkl. 18-18.45. Betaling: 25 kr. Se nærmere beskrivelse:  link  \n  \nFuldmåneceremonien består af: \nÅndedrætsmeditation\, Meditativ cirkeldans\, Mantrasang og Jordhealingsmeditation. \nVi åbner os for Fuldmånens Kærlighedsstrøm fra de planeter der påvirker os på både personlighedsplanet og sjælsplanet i den pågældende måned.\nInden vi går i gang\, vil du blive introduceret i fuldmåneenergiens muligheder og problemstillinger/udfordringer\, som vi bliver påvirket af i den pågældende måned.\nEfter meditationen vil du modtage inspiration fra et englekort. \n  \nEksakt fuldmånetidspunkt er lørdag d. 3. januar 2026 11:03 \nMånedens spirituelle mantra: ”Hensunken er jeg i overjordisk lys og vender dog dette lys ryggen” \n  \nArrangementet er gratis\, og kræver ingen tilmelding. Du møder bare op. \nDu er velkommen til at give en donation til hjælp til betaling af huslejen.\nVi anbefaler 50 kr. men alt er velkomment.\nDu kan lægge donationen i fletkurven ved indgangen eller indbetale på mobilpay nr. 91597 \n  \nVed Fuldmåne og Nymåne er der en særlig planetarisk indstrømning til jorden\, som påvirker os alle kollektivt to dage før\, på selve dagen og to dage efter. Ved fuldmånen er det optimalt at lave jordhealingsmeditation og uselvisk lysarbejde for Jorden\, og ved nymåne er det optimalt at lave kanalisering- og healingsmeditation\, og personligt forvandlingsarbejde. \n  \n \n  \n  \nDen Indre Sol: Ziadria og Michael\nEmail: denindresol@gmail.com\ntlf. 61330508\nwww.facebook.com/denindresol \n  \n  \n  \nID: 260102MED \n 
URL:https://teosofiskforening.dk/begivenhed/fuldmaanemeditation-i-stenbukkens-tegn-ved-den-indre-sol-2/
LOCATION:Teosofisk Forening København\, Sankt Knuds Vej 27A\, Frederiksberg C\, København\, 1903\, Danmark
CATEGORIES:Meditation
ATTACH;FMTTYPE=image/jpeg:https://teosofiskforening.dk/wp-content/uploads/2024/02/capricorn.jpg
GEO:55.677929;12.549129
X-APPLE-STRUCTURED-LOCATION;VALUE=URI;X-ADDRESS=Teosofisk Forening København Sankt Knuds Vej 27A Frederiksberg C København 1903 Danmark;X-APPLE-RADIUS=500;X-TITLE=Sankt Knuds Vej 27A:geo:12.549129,55.677929
END:VEVENT
END:VCALENDAR