BEGIN:VCALENDAR
VERSION:2.0
PRODID:-//Teosofisk Forening København - ECPv6.15.20//NONSGML v1.0//EN
CALSCALE:GREGORIAN
METHOD:PUBLISH
X-ORIGINAL-URL:https://teosofiskforening.dk
X-WR-CALDESC:Begivenheder for Teosofisk Forening København
REFRESH-INTERVAL;VALUE=DURATION:PT1H
X-Robots-Tag:noindex
X-PUBLISHED-TTL:PT1H
BEGIN:VTIMEZONE
TZID:Europe/Copenhagen
BEGIN:DAYLIGHT
TZOFFSETFROM:+0100
TZOFFSETTO:+0200
TZNAME:CEST
DTSTART:20240331T010000
END:DAYLIGHT
BEGIN:STANDARD
TZOFFSETFROM:+0200
TZOFFSETTO:+0100
TZNAME:CET
DTSTART:20241027T010000
END:STANDARD
BEGIN:DAYLIGHT
TZOFFSETFROM:+0100
TZOFFSETTO:+0200
TZNAME:CEST
DTSTART:20250330T010000
END:DAYLIGHT
BEGIN:STANDARD
TZOFFSETFROM:+0200
TZOFFSETTO:+0100
TZNAME:CET
DTSTART:20251026T010000
END:STANDARD
BEGIN:DAYLIGHT
TZOFFSETFROM:+0100
TZOFFSETTO:+0200
TZNAME:CEST
DTSTART:20260329T010000
END:DAYLIGHT
BEGIN:STANDARD
TZOFFSETFROM:+0200
TZOFFSETTO:+0100
TZNAME:CET
DTSTART:20261025T010000
END:STANDARD
END:VTIMEZONE
BEGIN:VEVENT
DTSTART;TZID=Europe/Copenhagen:20250919T190000
DTEND;TZID=Europe/Copenhagen:20250919T210000
DTSTAMP:20260423T131953
CREATED:20250210T214525Z
LAST-MODIFIED:20250917T155830Z
UID:10002251-1758308400-1758315600@teosofiskforening.dk
SUMMARY:SPIRITUEL EFTERÅRS-JÆVNDØGNSFEST ved Den Indre Sol
DESCRIPTION:Efterårsjævndøgnsceremoni \n Dans\, sang\, meditation og healing \nDen Åndelige Begivenhed ved Efterårsjævndøgn \nKom og vær med til at fejre efterårets komme! \nVed jævndøgn og solhverv er der nogle særligt stærke kosmiske indstrømninger på Jorden\, som gør det særligt gavnligt for Lysarbejdere at meditere på disse tidspunkter. \nVed Efterårsjævndøgn Lader Karmas Herre Tilgivelsens Flamme strømme særligt aktivt ind i Jorden\, for at forløse og frigøre Jordens aura og alt levende\, fra de karmiske ophobninger og bindinger som er kommet op i lyset i løbet af sommeren.\nOg som nu er klar til at blive forvandlet som en del af den åndelige udvikling i overensstemmelse med den guddommelige vilje og Plan og Den Karmiske Lov. \nDette giver Jorden og alt levende på Jorden en særlig mulighed for at gennemgå en ny og dybdegående forvandlingsproces\, der skaber plads til en endnu dybere integration med Den Guddommelige Kærlighedsstrøm. \nUd over dette lader Efterårets Solengel sin kærlighed strømme ind i Jorden\, hvilket virker hele efteråret igennem indtil vintersolhverv. \n  \nProgram \nKom og vær med til at fejre kærlighedsindstrømningen ved efterårsjævndøgn \n\ngennem Hellig Dans (meditativ cirkeldans)\, fri dans\, sang\,\nkanaliseringsmeditation\, jordhealingsmeditation og healing.\n\nVi glæder os til at fejre efterårsjævndøgn sammen med dig/jer! \n  \nEntré: 50 kr. \n Ingen tilmelding – bare kom – alle er velkomne! \n  \n \nDen Indre Sol: Ziadria og Michael\n\nEmail: denindresol@gmail.com\ntlf. 61330508\nwww.facebook.com/denindresol \n\n250919MED \n 
URL:https://teosofiskforening.dk/begivenhed/spirituel-efteraars-jaevndoegnsfest-ved-den-indre-sol/
LOCATION:Teosofisk Forening København\, Sankt Knuds Vej 27A\, Frederiksberg C\, København\, 1903\, Danmark
CATEGORIES:Meditation
ATTACH;FMTTYPE=image/jpeg:https://teosofiskforening.dk/wp-content/uploads/2025/02/2025.09.19-Efteraarsjaevndoegn-illustration-320x214-1.jpg
GEO:55.677929;12.549129
X-APPLE-STRUCTURED-LOCATION;VALUE=URI;X-ADDRESS=Teosofisk Forening København Sankt Knuds Vej 27A Frederiksberg C København 1903 Danmark;X-APPLE-RADIUS=500;X-TITLE=Sankt Knuds Vej 27A:geo:12.549129,55.677929
END:VEVENT
END:VCALENDAR