BEGIN:VCALENDAR
VERSION:2.0
PRODID:-//Teosofisk Forening København - ECPv6.15.20//NONSGML v1.0//EN
CALSCALE:GREGORIAN
METHOD:PUBLISH
X-ORIGINAL-URL:https://teosofiskforening.dk
X-WR-CALDESC:Begivenheder for Teosofisk Forening København
REFRESH-INTERVAL;VALUE=DURATION:PT1H
X-Robots-Tag:noindex
X-PUBLISHED-TTL:PT1H
BEGIN:VTIMEZONE
TZID:Europe/Copenhagen
BEGIN:DAYLIGHT
TZOFFSETFROM:+0100
TZOFFSETTO:+0200
TZNAME:CEST
DTSTART:20240331T010000
END:DAYLIGHT
BEGIN:STANDARD
TZOFFSETFROM:+0200
TZOFFSETTO:+0100
TZNAME:CET
DTSTART:20241027T010000
END:STANDARD
BEGIN:DAYLIGHT
TZOFFSETFROM:+0100
TZOFFSETTO:+0200
TZNAME:CEST
DTSTART:20250330T010000
END:DAYLIGHT
BEGIN:STANDARD
TZOFFSETFROM:+0200
TZOFFSETTO:+0100
TZNAME:CET
DTSTART:20251026T010000
END:STANDARD
BEGIN:DAYLIGHT
TZOFFSETFROM:+0100
TZOFFSETTO:+0200
TZNAME:CEST
DTSTART:20260329T010000
END:DAYLIGHT
BEGIN:STANDARD
TZOFFSETFROM:+0200
TZOFFSETTO:+0100
TZNAME:CET
DTSTART:20261025T010000
END:STANDARD
END:VTIMEZONE
BEGIN:VEVENT
DTSTART;TZID=Europe/Copenhagen:20251205T180000
DTEND;TZID=Europe/Copenhagen:20251205T184500
DTSTAMP:20260421T174331
CREATED:20250210T163558Z
LAST-MODIFIED:20250211T162907Z
UID:10002235-1764957600-1764960300@teosofiskforening.dk
SUMMARY:DANSEMEDITATION ved Den Indre Sol
DESCRIPTION:Hjertets Dansemeditation i fuldmånens kærlighedsstrøm\n  \nÅben dig for fuldmånens kærlighedsstrøm gennem dans og dans dig dybere og dybere ind i dig selv\, din krop og dansens univers.\nTidspunkt: kl. 18.00-18.45\nEntre: 25 kr.\nSted: Teosofisk Forening\, Sankt Knuds Vej 27 A\, 1903 Frederiksberg\nDatoer:\nMandag den 14/4/ 2025: Fuldmåne i Vædderen (Vægten) - (Påskefestivalen)\nMandag den 12/5 2025: Fuldmåne i Tyren (Skorpionen) – (Wesakfestivalen)\nFredag den 13/6 2025: Fuldmåne i Tvillingerne (Skytten) (Den Gode Viljes Fest)\nFredag den 11/7 2024: Fuldmåne i Krebsen (Stenbukke)\nFredag den 8/8 2025: Fuldmåne i Løven (Vandmanden)\nMandag den 8/9 2025: Fuldmåne i Jomfruen (Fiskene)\nMandag den 6/10 2025: Fuldmåne i Vægten (Vædderen)\nMandag den 3/11 2025 Fuldmåne i Skorpionen (Tyren)\nFredag den 5/12 2025: Fuldmåne i Skytten (Tvillingerne) (Julefuldmånen)\nFredag den 2/1 2026: Fuldmåne i Stenbukken (Krebsen)\nMandag den 2/2 2026: Fuldmåne i Vandmanden (Løven)\nMandag den 2/3 2026: Fuldmåne i Fiskene (Jomfruen)\n\nTilmelding: Ingen tilmelding – bare kom – Alle er velkomne!\n 
URL:https://teosofiskforening.dk/begivenhed/dansemeditation-ved-den-indre-sol/2025-12-05/
LOCATION:Teosofisk Forening København\, Sankt Knuds Vej 27A\, Frederiksberg C\, København\, 1903\, Danmark
CATEGORIES:Lukket gruppe,Meditation
ATTACH;FMTTYPE=image/jpeg:https://teosofiskforening.dk/wp-content/uploads/2025/02/2025-Dansemeditation-Den-Indre-Sol-320x214-1.jpg
GEO:55.677929;12.549129
X-APPLE-STRUCTURED-LOCATION;VALUE=URI;X-ADDRESS=Teosofisk Forening København Sankt Knuds Vej 27A Frederiksberg C København 1903 Danmark;X-APPLE-RADIUS=500;X-TITLE=Sankt Knuds Vej 27A:geo:12.549129,55.677929
END:VEVENT
BEGIN:VEVENT
DTSTART;TZID=Europe/Copenhagen:20251205T190000
DTEND;TZID=Europe/Copenhagen:20251205T203000
DTSTAMP:20260421T174331
CREATED:20250209T191714Z
LAST-MODIFIED:20251202T161217Z
UID:10002214-1764961200-1764966600@teosofiskforening.dk
SUMMARY:FULDMÅNEMEDITATION I SKYTTENS TEGN ved DEN INDRE SOL
DESCRIPTION:Dansemeditation i fuldmånens kærlighedsstrøm.\nInden meditationen er det muligt at åbne dig for fuldmånen gennem frigørende dans.\nkl. 18-18.45. Betaling: 25 kr. Se nærmere beskrivelse:  link  \n  \nFuldmåneceremonien består af: \nÅndedrætsmeditation\, Meditativ cirkeldans\, Mantrasang og Jordhealingsmeditation. \nVi åbner os for Fuldmånens Kærlighedsstrøm fra de planeter der påvirker os på både personlighedsplanet og sjælsplanet i den pågældende måned.\nInden vi går i gang\, vil du blive introduceret i fuldmåneenergiens muligheder og problemstillinger/udfordringer\, som vi bliver påvirket af i den pågældende måned.\nEfter meditationen vil du modtage inspiration fra et englekort. \n  \nEksakt fuldmånetidspunkt er fredag d. 5. december 2025 00:15:18 (Supermåne) \nMånedens spirituelle mantra: ”Jeg ser målet. Jeg når dette mål\, og derefter ser jeg et andet” \n  \nArrangementet er gratis\, og kræver ingen tilmelding. Du møder bare op. \nDu er velkommen til at give en donation til hjælp til betaling af huslejen.\nVi anbefaler 50 kr. men alt er velkomment.\nDu kan lægge donationen i fletkurven ved indgangen eller indbetale på mobilpay nr. 91597 \n  \nVed Fuldmåne og Nymåne er der en særlig planetarisk indstrømning til jorden\, som påvirker os alle kollektivt to dage før\, på selve dagen og to dage efter. Ved fuldmånen er det optimalt at lave jordhealingsmeditation og uselvisk lysarbejde for Jorden\, og ved nymåne er det optimalt at lave kanalisering- og healingsmeditation\, og personligt forvandlingsarbejde. \n  \n \nDen Indre Sol: Ziadria og Michael \nEmail: denindresol@gmail.com\ntlf. 61330508\nwww.facebook.com/denindresol \n  \n\n251205MED
URL:https://teosofiskforening.dk/begivenhed/fuldmaanemeditation-i-skyttens-tegn-ved-den-indre-sol-2/
LOCATION:Teosofisk Forening København\, Sankt Knuds Vej 27A\, Frederiksberg C\, København\, 1903\, Danmark
CATEGORIES:Meditation
ATTACH;FMTTYPE=image/jpeg:https://teosofiskforening.dk/wp-content/uploads/2024/02/sagittaurius.jpg
GEO:55.677929;12.549129
X-APPLE-STRUCTURED-LOCATION;VALUE=URI;X-ADDRESS=Teosofisk Forening København Sankt Knuds Vej 27A Frederiksberg C København 1903 Danmark;X-APPLE-RADIUS=500;X-TITLE=Sankt Knuds Vej 27A:geo:12.549129,55.677929
END:VEVENT
BEGIN:VEVENT
DTSTART;TZID=Europe/Copenhagen:20251208T170000
DTEND;TZID=Europe/Copenhagen:20251208T174500
DTSTAMP:20260421T174331
CREATED:20250630T213718Z
LAST-MODIFIED:20260110T160535Z
UID:10002307-1765213200-1765215900@teosofiskforening.dk
SUMMARY:HOLISTISK MOTION før foredrag ved Den Indre Sol
DESCRIPTION:Gør noget godt for dig selv!\nGør noget godt for din krop\, psyke og ånd! \nQi gong\, åndedræt og lyd\nTidspunkt: Kl. 17:00 – 17:45 (inden Foredrag\, kanalisering og meditation) \nSted: TFK’s lokaler på Frederiksberg\nPris pr. gang: 25 kr.\nDer er ingen tilmelding – bare kom og vær med! \n\nQi gong – En kinesisk bevægelseskunst\nKinesisk bevægelse til stille rytmisk musik\nLangsom bevægelse med bevidst åndedræt\, hvor krop\, psyke og ånd forenes\, og som herigennem bliver til en aktiv form for meditation i samklang med musikken. Qi gong er en kinesisk bevægelsesform\, som består af stille bevægelse samtidig med et bevidst åndedræt\, og dette skaber en aktiv form for meditation\, der giver både motion\, jordforbindelse og mulighed for at komme i en meditativ tilstand. Qi gong\, er forløberen for Tai Chi og den bliver brugt som forebyggende behandling og behandling på kinesiske hospitaler. Så det er både sundt og åndeligt udviklende at praktisere Qi gong. \nÅndedræt\, mantrasang og lyd på chakraerne\nHjerteåndedræt\, bijamantraer og tonesang på de 7 hovedchakraer\nNår vi laver hjerteåndedræt på chakraerne\, bliver chakraerne åbnet. Når vi synger Bija mantraer på chakraerne får vi en god kontakt med chakraerne gennem kroppen. Og når vi synger tonesang på chakraerne\, bliver chakraerne aktiveret\, renset\, balanceret og healet. \n \nDen Indre Sol: Ziadria og Michael\n\nEmail: denindresol@gmail.com\ntlf. 61330508\nwww.facebook.com/denindresol \n\n 
URL:https://teosofiskforening.dk/begivenhed/holistisk-motion-foer-foredrag-ved-den-indre-sol-2/2025-12-08/
CATEGORIES:Lukket gruppe,Meditation
ATTACH;FMTTYPE=image/png:https://teosofiskforening.dk/wp-content/uploads/2025/06/Den-Indre-Sol-Holistisk-motion-320x214-1.png
END:VEVENT
BEGIN:VEVENT
DTSTART;TZID=Europe/Copenhagen:20251214T110000
DTEND;TZID=Europe/Copenhagen:20251214T123000
DTSTAMP:20260421T174331
CREATED:20250728T204157Z
LAST-MODIFIED:20250729T211538Z
UID:10002335-1765710000-1765715400@teosofiskforening.dk
SUMMARY:Tjeneste (via Zoom) ved Center for Levende Teosofi
DESCRIPTION:Meditation\, healing og verdenstjeneste\nCenter for Levende Teosofi er et spirituelt fokus med særlig vægt på verdenstjeneste og udvikling af sjælens potentiale. \nGennem dynamisk meditation bliver mennesket bedre i stand til at kontrollere personligheden\, udfolde de højere talenter og opleve enhed i livet. Og det kan afdække aspekter af den indre sande natur\, det Højere Selv eller bevidsthed\, som det kan bruge til gavn i eget liv og andres liv. \nHealing kan afbalancere de finere legemer og energier\, og gennem sand healing sker der en overførsel af Helligånden og højere åndelige energier. Healing er en af de bedste måder at perfektionere sjæl og personlighed. Sand healing styrker ligesom meditation forbindelsen til sjælen og det Højere Selv. \nVerdenstjeneste er et åndeligt esoterisk arbejde\, som har til formål at heale Jorden og menneskeheden\, og enhver tjeneste bygger på principperne fra den Ædle Ottefoldige Vej og Rette Menneskelige Forbindelser. En tjeneste er uselvisk arbejde\, at vise viljen til det gode\, at udfolde livets indre formål\, at blive en lysbærer og at oplyse Jorden og menneskeheden. Dette arbejde er en del af den nye tidsalders ceremonielle praksis for verdenstjenere. \n  \nTjenester via “Zoom” afholdes online via konferenceværktøjet Zoom: \nSøndag d. 7. september 2025 kl. 11:00 ZOOM – Maitreya Tjeneste \nSøndag d. 21. september 2025 kl. 11:00 ZOOM – Heart Flow Healingstjeneste II \nSøndag d. 12. oktober 2025 kl. 11:00 ZOOM – Opstandelsestjeneste \nSøndag d. 9. november 2025 kl. 11:00 ZOOM – Alle Engles Tjeneste \nSøndag d. 14. december 2025 kl. 11:00 ZOOM – Maitreya Tjeneste \nSøndag d. 11. januar 2026 kl. 11:00 ZOOM – Buddha Tjeneste \n  \nLink til deltagelse findes under den relevante aktivitet i kalenderen på hjemmesiden: https://www.levendeteosofi.dk/da/ \n  \nFor yderligere oplysninger besøg vores hjemmeside: https://www.levendeteosofi.dk/da/ \n\n                                                                                                        Center for Levende Teosofi \nID. 250907CFLTmedTFK
URL:https://teosofiskforening.dk/begivenhed/center-for-levende-teosofi-tjenester-via-zoom/2025-12-14/
LOCATION:Teosofisk Forening København\, Sankt Knuds Vej 27A\, Frederiksberg C\, København\, 1903\, Danmark
CATEGORIES:Lukket gruppe,Meditation
GEO:55.677929;12.549129
X-APPLE-STRUCTURED-LOCATION;VALUE=URI;X-ADDRESS=Teosofisk Forening København Sankt Knuds Vej 27A Frederiksberg C København 1903 Danmark;X-APPLE-RADIUS=500;X-TITLE=Sankt Knuds Vej 27A:geo:12.549129,55.677929
END:VEVENT
BEGIN:VEVENT
DTSTART;TZID=Europe/Copenhagen:20251222T190000
DTEND;TZID=Europe/Copenhagen:20251222T210000
DTSTAMP:20260421T174331
CREATED:20250210T220726Z
LAST-MODIFIED:20250211T204920Z
UID:10002252-1766430000-1766437200@teosofiskforening.dk
SUMMARY:SPIRITUEL VINTERJÆVNDØGNSFEST ved Den Indre Sol
DESCRIPTION:Vintersolhvervsceremoni \nDans\, sang\, meditation og healing \nDen Åndelige Begivenhed ved Vintersolhverv \nKom og vær med til at fejre Vinterens komme! \n  \nVed jævndøgn og solhverv er der nogle særligt stærke kosmiske indstrømninger på Jorden\, som gør det særligt gavnligt for Lysarbejdere at meditere på disse tidspunkter. \nVed Vintersolhverv lader Kristus Maitreya\, som er Lederen af Jordens Store Hvide Broderskab\, Kærlighedens Flamme strømme særligt aktivt ind i Jorden\, for at forene Jorden og alt levende med den guddommelige kærlighedsstrøm på et endnu dybere plan end året før. \nDet der er blevet forløst\, frigjort og forvandlet gennem efterårets indre forvandlingsprocesser\, kan nu slippes og erstattes af en endnu dybere integration med Den guddommelige kærlighedsstrøm. \nOg gennem denne proces har hele menneskeheden mulighed for at blive endnu mere forenet med deres sjælslys\, deres solengel og den guddommelige kærlighed\, vilje og visdom.\nDenne integrationsproces kulminerer endeligt i forbindelse med Påskens Opstandelsesproces. Og den gentager sig hvert år på et stadigt højere vibrationsniveau. \nUd over dette lader Vinterens Solengel sin kærlighed strømme ind i Jorden\, hvilket virker hele Vinteren igennem indtil Forårsjævndøgn. \n  \nProgram \nKom og vær med til at fejre kærlighedsindstrømningen ved sommersolhverv \n\ngennem Hellig Dans (meditativ cirkeldans)\, fri dans\, sang\,\nkanaliseringsmeditation\, jordhealingsmeditation og healing.\n\nVi glæder os til at fejre Vintersolhverv sammen med dig/jer! \n  \nEntré: 50 kr. \nIngen tilmelding – bare kom – alle er velkomne. \n  \n \nDen Indre Sol: Ziadria og Michael\nEmail: denindresol@gmail.com\ntlf. 61330508\nwww.facebook.com/denindresol\n\n  \n\n251222MED \n 
URL:https://teosofiskforening.dk/begivenhed/spirituel-vinterjaevndoegnsfest-ved-den-indre-sol/
LOCATION:Teosofisk Forening København\, Sankt Knuds Vej 27A\, Frederiksberg C\, København\, 1903\, Danmark
CATEGORIES:Meditation
ATTACH;FMTTYPE=image/jpeg:https://teosofiskforening.dk/wp-content/uploads/2025/02/2025.12.22-Vintersolhverv-jaevndoegn-illustration-320x214-1.jpg
GEO:55.677929;12.549129
X-APPLE-STRUCTURED-LOCATION;VALUE=URI;X-ADDRESS=Teosofisk Forening København Sankt Knuds Vej 27A Frederiksberg C København 1903 Danmark;X-APPLE-RADIUS=500;X-TITLE=Sankt Knuds Vej 27A:geo:12.549129,55.677929
END:VEVENT
BEGIN:VEVENT
DTSTART;TZID=Europe/Copenhagen:20251224T110000
DTEND;TZID=Europe/Copenhagen:20251224T123000
DTSTAMP:20260421T174331
CREATED:20250723T211635Z
LAST-MODIFIED:20250729T211242Z
UID:10002329-1766574000-1766579400@teosofiskforening.dk
SUMMARY:Tjeneste (Fysisk) ved Center for Levende Teosofi
DESCRIPTION:Meditation\, healing og verdenstjeneste\nCenter for Levende Teosofi er et spirituelt fokus med særlig vægt på verdenstjeneste og udvikling af sjælens potentiale. \nGennem dynamisk meditation bliver mennesket bedre i stand til at kontrollere personligheden\, udfolde de højere talenter og opleve enhed i livet. Og det kan afdække aspekter af den indre sande natur\, det Højere Selv eller bevidsthed\, som det kan bruge til gavn i eget liv og andres liv. \nHealing kan afbalancere de finere legemer og energier\, og gennem sand healing sker der en overførsel af Helligånden og højere åndelige energier. Healing er en af de bedste måder at perfektionere sjæl og personlighed. Sand healing styrker ligesom meditation forbindelsen til sjælen og det Højere Selv. \nVerdenstjeneste er et åndeligt esoterisk arbejde\, som har til formål at heale Jorden og menneskeheden\, og enhver tjeneste bygger på principperne fra den Ædle Ottefoldige Vej og Rette Menneskelige Forbindelser. En tjeneste er uselvisk arbejde\, at vise viljen til det gode\, at udfolde livets indre formål\, at blive en lysbærer og at oplyse Jorden og menneskeheden. Dette arbejde er en del af den nye tidsalders ceremonielle praksis for verdenstjenere. \nDerudover afholdes der meditationer\, tjenester og healing via Zoom. \nFysiske tjenester afholdes hos Teosofisk Forening København på følgende datoer i efteråret 2025: \n  \nSøndag d. 24. august 2025 kl. 11:00 Frederiksberg – Hjertehealingstjeneste \nSøndag d. 26. oktober 2025 kl. 11:00 Frederiksberg – Den Hellige Moders Tjeneste \nSøndag d. 30. november 2025 kl. 11:00 Frederiksberg – Det Opstandne Livs Tjeneste \nOnsdag d. 24. december 2025 kl. 11:00 Frederiksberg – Juletjeneste / Hjertehealingstjeneste \nOnsdag d. 31. december 2025 kl. 11:00 Frederiksberg – Nytårstjeneste / Kosmisk Tjeneste \n  \nVi anbefaler at komme i god tid\, da tjenesterne begynder præcist\, og dørene lukkes ved start. \nFor yderligere oplysninger besøg vores hjemmeside: https://www.levendeteosofi.dk/da/ \nCenter for Levende TeosofiID: 250824CFLTmedTFK
URL:https://teosofiskforening.dk/begivenhed/center-for-levende-teosofi-5/2025-12-24/
LOCATION:Teosofisk Forening København\, Sankt Knuds Vej 27A\, Frederiksberg C\, København\, 1903\, Danmark
CATEGORIES:Lukket gruppe,Meditation
GEO:55.677929;12.549129
X-APPLE-STRUCTURED-LOCATION;VALUE=URI;X-ADDRESS=Teosofisk Forening København Sankt Knuds Vej 27A Frederiksberg C København 1903 Danmark;X-APPLE-RADIUS=500;X-TITLE=Sankt Knuds Vej 27A:geo:12.549129,55.677929
END:VEVENT
BEGIN:VEVENT
DTSTART;TZID=Europe/Copenhagen:20251231T110000
DTEND;TZID=Europe/Copenhagen:20251231T123000
DTSTAMP:20260421T174331
CREATED:20250723T211635Z
LAST-MODIFIED:20250729T211242Z
UID:10002330-1767178800-1767184200@teosofiskforening.dk
SUMMARY:Tjeneste (Fysisk) ved Center for Levende Teosofi
DESCRIPTION:Meditation\, healing og verdenstjeneste\nCenter for Levende Teosofi er et spirituelt fokus med særlig vægt på verdenstjeneste og udvikling af sjælens potentiale. \nGennem dynamisk meditation bliver mennesket bedre i stand til at kontrollere personligheden\, udfolde de højere talenter og opleve enhed i livet. Og det kan afdække aspekter af den indre sande natur\, det Højere Selv eller bevidsthed\, som det kan bruge til gavn i eget liv og andres liv. \nHealing kan afbalancere de finere legemer og energier\, og gennem sand healing sker der en overførsel af Helligånden og højere åndelige energier. Healing er en af de bedste måder at perfektionere sjæl og personlighed. Sand healing styrker ligesom meditation forbindelsen til sjælen og det Højere Selv. \nVerdenstjeneste er et åndeligt esoterisk arbejde\, som har til formål at heale Jorden og menneskeheden\, og enhver tjeneste bygger på principperne fra den Ædle Ottefoldige Vej og Rette Menneskelige Forbindelser. En tjeneste er uselvisk arbejde\, at vise viljen til det gode\, at udfolde livets indre formål\, at blive en lysbærer og at oplyse Jorden og menneskeheden. Dette arbejde er en del af den nye tidsalders ceremonielle praksis for verdenstjenere. \nDerudover afholdes der meditationer\, tjenester og healing via Zoom. \nFysiske tjenester afholdes hos Teosofisk Forening København på følgende datoer i efteråret 2025: \n  \nSøndag d. 24. august 2025 kl. 11:00 Frederiksberg – Hjertehealingstjeneste \nSøndag d. 26. oktober 2025 kl. 11:00 Frederiksberg – Den Hellige Moders Tjeneste \nSøndag d. 30. november 2025 kl. 11:00 Frederiksberg – Det Opstandne Livs Tjeneste \nOnsdag d. 24. december 2025 kl. 11:00 Frederiksberg – Juletjeneste / Hjertehealingstjeneste \nOnsdag d. 31. december 2025 kl. 11:00 Frederiksberg – Nytårstjeneste / Kosmisk Tjeneste \n  \nVi anbefaler at komme i god tid\, da tjenesterne begynder præcist\, og dørene lukkes ved start. \nFor yderligere oplysninger besøg vores hjemmeside: https://www.levendeteosofi.dk/da/ \nCenter for Levende TeosofiID: 250824CFLTmedTFK
URL:https://teosofiskforening.dk/begivenhed/center-for-levende-teosofi-5/2025-12-31/
LOCATION:Teosofisk Forening København\, Sankt Knuds Vej 27A\, Frederiksberg C\, København\, 1903\, Danmark
CATEGORIES:Lukket gruppe,Meditation
GEO:55.677929;12.549129
X-APPLE-STRUCTURED-LOCATION;VALUE=URI;X-ADDRESS=Teosofisk Forening København Sankt Knuds Vej 27A Frederiksberg C København 1903 Danmark;X-APPLE-RADIUS=500;X-TITLE=Sankt Knuds Vej 27A:geo:12.549129,55.677929
END:VEVENT
END:VCALENDAR