BEGIN:VCALENDAR
VERSION:2.0
PRODID:-//Teosofisk Forening København - ECPv6.15.20//NONSGML v1.0//EN
CALSCALE:GREGORIAN
METHOD:PUBLISH
X-ORIGINAL-URL:https://teosofiskforening.dk
X-WR-CALDESC:Begivenheder for Teosofisk Forening København
REFRESH-INTERVAL;VALUE=DURATION:PT1H
X-Robots-Tag:noindex
X-PUBLISHED-TTL:PT1H
BEGIN:VTIMEZONE
TZID:Europe/Copenhagen
BEGIN:DAYLIGHT
TZOFFSETFROM:+0100
TZOFFSETTO:+0200
TZNAME:CEST
DTSTART:20250330T010000
END:DAYLIGHT
BEGIN:STANDARD
TZOFFSETFROM:+0200
TZOFFSETTO:+0100
TZNAME:CET
DTSTART:20251026T010000
END:STANDARD
BEGIN:DAYLIGHT
TZOFFSETFROM:+0100
TZOFFSETTO:+0200
TZNAME:CEST
DTSTART:20260329T010000
END:DAYLIGHT
BEGIN:STANDARD
TZOFFSETFROM:+0200
TZOFFSETTO:+0100
TZNAME:CET
DTSTART:20261025T010000
END:STANDARD
BEGIN:DAYLIGHT
TZOFFSETFROM:+0100
TZOFFSETTO:+0200
TZNAME:CEST
DTSTART:20270328T010000
END:DAYLIGHT
BEGIN:STANDARD
TZOFFSETFROM:+0200
TZOFFSETTO:+0100
TZNAME:CET
DTSTART:20271031T010000
END:STANDARD
END:VTIMEZONE
BEGIN:VEVENT
DTSTART;TZID=Europe/Copenhagen:20260425T140000
DTEND;TZID=Europe/Copenhagen:20260425T173000
DTSTAMP:20260423T191630
CREATED:20260110T154613Z
LAST-MODIFIED:20260113T140502Z
UID:10002412-1777125600-1777138200@teosofiskforening.dk
SUMMARY:Logos-inspired Movement – kroppen som vores primære sociale medie! - kursus v/ Morten Klinkvort
DESCRIPTION:Under overskriften >Eurytmiske metamorfoser< tilgår vi kroppen som vores primære og unikke social-kompetente medie\, vores værksted og værested. I konkret og udvidet forståelse. En undersøgelse af Logoskræfterne i mig – græsk: Eurythmia Sophia. \nVi søger med inspireret bevægelse og eurytmi at åbne\, at ’dynamisere’ os selv kropsligt og æterisk i inddragende forbindelse med de højere væsensled. \nDagen vil handle om metoder til at styrke individet og fællesskabet gennem balancerende og forankrende kropsligt-kunstnerisk arbejde. Dette også i konteksten af øget digitalisering og fravær af bevægelse i dagligdagen\, stress og udfordrede virkelighedsoplevelser. Vi kan bevidstgøre os de indstrømmende kræfter fra den åndelige verden ift. at styrke legemlig jordisk ‘bæredygtighed’. Dette inkluderer fysiske og æterisk-livsformende kræfter og arbejder konkret og levende med dem. \nI arbejdet inddrages relevant faglighed såsom hjerneforskning\, mindful-meditative teknikker i retning af bevægelsespædagogik og -terapi. På et udvidet plan kan arbejdet med inspireret bevægelse skabe indsigt og kompetencer indenfor tidens bevægelsesrelaterede sygdoms-tendenser\, motoriske udfordringer\, diagnoser og perspektiver for sundhed og helbredelse. \nEurytmi udvikledes i et spirituelt nytænkende og kunstnerisk miljø omkring Rudolf Steiner som inspiration og åndspraktisk kunst og værktøj til samfunds-\, lærings- og kulturfornyende aktiviteter. \nVi vil på dagen bevæge os i individuelle\, i par- og gruppesekvenser\, i geometriske\, strømmende og improviserende frie former. Vi kan arbejde barfodet – ellers medbring sko så du ikke glider på gulvet\, samt løst tøj. \nTilmelding og betaling: \nPris for hele kurset: 350 kr./ 450 kr. for medlemmer/gæster.\nI prisen indgår kaffe\, the og lette traktementer. Frokosten sørger man selv for.\nVed framelding tilbageholdes 100 kr. til administration.\nBemærk: Din plads er først reserveret\, når beløbet er modtaget. \nBestil billet i god tid inden kurset! – Se nederst på siden. \n  \nOm foredragsholderen: \nMorten Klinkvort er eurytmi-uddannet i Sverige og i Schweiz i 90érne. Desuden er han uddannet kraniosakral terapeut samt har en ledelsesuddannelse med Teori-U\, NorthLightVisions-Mindful gardening&Societies. Han driver Bevægelsesuddannelsen Flow&U for Inspired Movement\, CPH. \nhttps://www.instagram.com/i.i.m_eurytmi_cph/ \n  \n#eurytmi \nid: 260425MKLkfyTFK
URL:https://teosofiskforening.dk/begivenhed/logos-inspired-movement-kroppen-som-vores-primaere-sociale-medie-kursus-v-morten-klinkvort/
LOCATION:Teosofisk Forening København\, Sankt Knuds Vej 27A\, Frederiksberg C\, København\, 1903\, Danmark
CATEGORIES:Kursus
ATTACH;FMTTYPE=image/png:https://teosofiskforening.dk/wp-content/uploads/2026/01/2026.03.31-Morten-Klinkvort-Illustration-320x214-1.png
GEO:55.677929;12.549129
X-APPLE-STRUCTURED-LOCATION;VALUE=URI;X-ADDRESS=Teosofisk Forening København Sankt Knuds Vej 27A Frederiksberg C København 1903 Danmark;X-APPLE-RADIUS=500;X-TITLE=Sankt Knuds Vej 27A:geo:12.549129,55.677929
END:VEVENT
END:VCALENDAR