BEGIN:VCALENDAR
VERSION:2.0
PRODID:-//Teosofisk Forening København - ECPv6.15.20//NONSGML v1.0//EN
CALSCALE:GREGORIAN
METHOD:PUBLISH
X-WR-CALNAME:Teosofisk Forening København
X-ORIGINAL-URL:https://teosofiskforening.dk
X-WR-CALDESC:Begivenheder for Teosofisk Forening København
REFRESH-INTERVAL;VALUE=DURATION:PT1H
X-Robots-Tag:noindex
X-PUBLISHED-TTL:PT1H
BEGIN:VTIMEZONE
TZID:Europe/Copenhagen
BEGIN:DAYLIGHT
TZOFFSETFROM:+0100
TZOFFSETTO:+0200
TZNAME:CEST
DTSTART:20250330T010000
END:DAYLIGHT
BEGIN:STANDARD
TZOFFSETFROM:+0200
TZOFFSETTO:+0100
TZNAME:CET
DTSTART:20251026T010000
END:STANDARD
BEGIN:DAYLIGHT
TZOFFSETFROM:+0100
TZOFFSETTO:+0200
TZNAME:CEST
DTSTART:20260329T010000
END:DAYLIGHT
BEGIN:STANDARD
TZOFFSETFROM:+0200
TZOFFSETTO:+0100
TZNAME:CET
DTSTART:20261025T010000
END:STANDARD
BEGIN:DAYLIGHT
TZOFFSETFROM:+0100
TZOFFSETTO:+0200
TZNAME:CEST
DTSTART:20270328T010000
END:DAYLIGHT
BEGIN:STANDARD
TZOFFSETFROM:+0200
TZOFFSETTO:+0100
TZNAME:CET
DTSTART:20271031T010000
END:STANDARD
END:VTIMEZONE
BEGIN:VEVENT
DTSTART;TZID=Europe/Copenhagen:20260207T100000
DTEND;TZID=Europe/Copenhagen:20260208T170000
DTSTAMP:20260425T194255
CREATED:20251224T225841Z
LAST-MODIFIED:20251224T225841Z
UID:10002355-1770458400-1770570000@teosofiskforening.dk
SUMMARY:MAGIKERSKOLE #9\, kursus ved Kim Pedersen
DESCRIPTION:Lørdag og søndag d. 7.-8. februar 2026 kl. 10:00-17:00. \nKursusrække over 5 år\, hver weekend har tilknyttet en online opfølgningsaften. \n  \nPris: 1 weekend. Medlemmer/gæster: 1.350/1.550 kr.\nI prisen indgår kaffe\, the og lette traktementer. Frokosten sørger man selv for. \nTilmelding og Betaling til kurset: BESTIL BILLET (se nederst på siden) \n  \nMagiker skolens forløb er inspireret af Alice A. Baileys bog HVID MAGI og dens 15 regler for den hvide\nmagi. De 6 af reglerne er udformet til at udbygge vores mentale evne\, 5 regler er knyttet til den astrale\ndimension\, og de sidste 4 regler er knyttet til den æteriske og fysiske dimension. Nye deltagere er\nvelkomne. \nNiende weekend 7.-8. februar 2026\n1. Den niende regel. Renhed en nødvendighed og grundlæggende former. Side 269-284.\n2. Den ottende stråle og syntese Ashrammen\n3. Ild og Rose ceremoni. \nDatoer aftales med deltagerne for opfølgningsaften. Nye deltagere er velkomne i hele forløbet! \n  \n \n  \nKim Pedersen er en blændende foredragsholder og har arbejdet som medie i 25 år. Han har beskæftiget sig med en bred vifte af åndsvidenskabelige områder\, oprettet astrologiskolen Attitude Astrologi og Kabbalah-skolen Qibel samt Meditation for Esoterisk Norden. Se nærmere på hjemmesiden: www.bkimpedersen.dk \n  \n  \nProgram for hele kursusrækken kan hentes her \n  \nMagiker skole: Inspirationskilde: ”Hvid Magi” (Alice A. Bailey)\nI den nye tid hører vi om\, at der er flere nye stråler (udover de kendte 7)\, som vil give os en dybere relation både til magi og ligeledes også til ceremonielt virke. Vi kommer nok til se nye måder at organiserer os på i grupper. Dette forløb er inspireret af Alice A. Baileys forfatterskab gennem bogen HVID MAGI og dens 15 regler for den hvide magi. De 6 af reglerne er udformet til at udbygge vores mentale evne\, 5 regler er knyttet til den astrale dimension\, og de sidste 4 regler er knyttet til den æteriske og fysiske dimension. I forløbet\, som strækker sig over en femårig periode med tre weekender om året (hver med en opfølgende aften\, som ligger mellem reglerne) kommer vi igennem de 15 regler med 1 regel pr. weekend. De opfølgende aftener kommer til at foregå online\, men weekenderne vil foregå fysisk i Teosofisk forening København i tiden fra kl. 10-17. Vi kommer til at klarlægge den menneskelige sjæls natur og dens samhørighed med solsystemet og kosmos. Dette omfatter grupperelationer som et indledende skridt til at anskueliggøre forholdet mellem det Højere Selv og legemerne\, som dette selv kan anvende og derved bringe klarhed i almindelig opfattelse af menneskenes konstitution. Vi kommer til at belyse problemer om ovennævnte evner og anvise regler for at sikre brugbare udviklinger. Bogen afsluttes med en appel til sjælen hos alle aspiranter\, som læser disse instruktioner\, om at samle deres kraft og forny deres løfte om at tjene menneskeheden. De nye stråler vil blive brugt i det ceremonielle arbejde\, så hver weekend kommer til at indeholde en ceremoni\, som igen er knyttet på de tre store fundamentale søjler: Viljen (til at udvide bevidstheden)\, Visdomsstrålen (til integration) Bevægelsesceremonien (som kommer til at ske igennem roser og ild).\nVi vil bruge temaer i Kabbalah til indvielses-arbejde. Du vil derfor blive introduceret til Kabbalah igennem ceremonielt arbejde og dens relation til Livets Træ\, men Kabbalah-visdommen forventes at være et selvstudie. Vi kommer til at gå dybere ind i de 8 stråler og deres veje til indvielse til syntese-ashrammen.\nOnline-aftenerne vil vi bruge til samtale. Hvor er du henne? Hvad oplever du i forbindelse med dit studie eller forløbet? I disse runder kan vi lære at se\, hvordan ashrammen påvirker gruppen og den enkelte. Disse opfølgende online-aftener vil være i tidsrummet fra klokken 18.30 til klokken 21.30. Også her vil der være meditation og en opfølgning på\, hvad der skete i den sidste weekend\, vi var sammen. \nÅr 2023 og 2024 vil primært være knyttet til reglerne og deres arbejde på det mentale plan. I 2025 og en del af 2026 vil vi glide igennem astral-planets forunderlige\, spændende verdener. Sidst i 2026 og 2027 vil vi komme ind på det fysiske og æteriske plan. \nOg vi vil lade den indre Magiker bliver mere aktiv. Også i relation til engle- og devarigerne\, Sol-engle og Nærværelsens-engle\, ”Ånd og stof”. \n#magiker\nID: 260207BKPkfyTFK\n  \n 
URL:https://teosofiskforening.dk/begivenhed/magikerskole-9-kursus-ved-kim-pedersen/
LOCATION:Teosofisk Forening København\, Sankt Knuds Vej 27A\, Frederiksberg C\, København\, 1903\, Danmark
CATEGORIES:Kursus
ATTACH;FMTTYPE=image/jpeg:https://teosofiskforening.dk/wp-content/uploads/2023/12/2024.03.0203-Kim-Pedersen-Illustration-Hvid-magi-320x214-1.jpg
GEO:55.677929;12.549129
X-APPLE-STRUCTURED-LOCATION;VALUE=URI;X-ADDRESS=Teosofisk Forening København Sankt Knuds Vej 27A Frederiksberg C København 1903 Danmark;X-APPLE-RADIUS=500;X-TITLE=Sankt Knuds Vej 27A:geo:12.549129,55.677929
END:VEVENT
BEGIN:VEVENT
DTSTART;TZID=Europe/Copenhagen:20260209T101500
DTEND;TZID=Europe/Copenhagen:20260209T151500
DTSTAMP:20260425T194255
CREATED:20251225T234430Z
LAST-MODIFIED:20260110T160317Z
UID:10002356-1770632100-1770650100@teosofiskforening.dk
SUMMARY:TILSYNEKOMSTEN: NÅR SJÆLEN INKARNERER Modul 1\, studiekreds ved Kim Pedersen
DESCRIPTION:En studiekreds i Bevidsthed\, Stråler og Den Nye Tid\nForår 2026 \nStår vi ved tærsklen til en ny virkelighed\, hvor menneskeheden ikke længere blot søger sjælen\, men begynder at være den? \nI denne dybdegående studiekreds stiller vi de store nødvendige spørgsmål til den tid\, vi lever i. Vi dykker ned i spændingsfeltet mellem teosofiens tidløse visdom og den nye tids videnskabelige spiritualitet. Med afsæt i Lucille Cedercrans’ “Sjælens Natur” og J.J. Hurtaks “Enoks Nøgler”\, vil vi undersøge\, hvad det vil sige\, når “Sjælsriget” begynder at inkarnere fysisk på Jorden – det\, teosofien kalder Tilsynekomsten. \nGennem fire intensive moduler vil vi bevæge os fra det abstrakte til det konkrete\, fra hjernen til bevidsthed\, og vi vil endvidere undersøge ansvaret for sygdom. \nLink til de fire moduler \n  \nModul 1: Bevidsthedens Mysterium – Hjerne eller Felt? \nMandag den 9. februar kl. 10:15 – 15:15\nHvad er sjælen egentlig? Er det en abstrakt tåge\, eller er det en konkret energikilde? Vi udfordrer den gængse opfattelse af bevidsthed. Ligger bevidstheden i hjernen\, eller er hjernen blot en modtager for et langt større felt i auraen? \n\nVi definerer forskellen på intellekt og sjælsbevidsthed.\nVi ser på hjernen som et instrument for indstrømning.\nIntroduktion til studiekredsens litterære fundament: Koblingen mellem Lucille Cedercrans’ psykologiske indsigter og Enoks kosmiske nøgler.\n\n  \nPris: 350/450 kr. for medlemmer/gæster. \nI prisen indgår kaffe\, the og lette traktementer. Frokosten sørger man selv for. \nBestil billet i god tid inden studiekredsen! – Se nederst på siden.\n \n  \nLitteratur: Vi arbejder primært med uddrag fra: \n\nSjælens Natur af Lucille Cedercrans\nEnoks Nøgler (The Keys of Enoch) af J.J. Hurtak\n\n  \n \n  \nKim Pedersen er en blændende foredragsholder og har arbejdet som medie i 25 år. Han har beskæftiget sig med en bred vifte af åndsvidenskabelige områder\, oprettet astrologiskolen Attitude Astrologi og Kabbalah-skolen Qibel samt Meditation for Esoterisk Norden. Se nærmere på hjemmesiden: www.bkimpedersen.dk \n  \n  \n#sjæl\nID: 20260209BKPkfyTFK
URL:https://teosofiskforening.dk/begivenhed/tilsynekomsten-naar-sjaelen-inkarnerer-modul-1-studiekreds-ved-kim-pedersen/
LOCATION:Teosofisk Forening København\, Sankt Knuds Vej 27A\, Frederiksberg C\, København\, 1903\, Danmark
CATEGORIES:Kursus
ATTACH;FMTTYPE=image/png:https://teosofiskforening.dk/wp-content/uploads/2026/01/2026.02.09-Kim-P-studiekreds-illustration-320x214-1.png
GEO:55.677929;12.549129
X-APPLE-STRUCTURED-LOCATION;VALUE=URI;X-ADDRESS=Teosofisk Forening København Sankt Knuds Vej 27A Frederiksberg C København 1903 Danmark;X-APPLE-RADIUS=500;X-TITLE=Sankt Knuds Vej 27A:geo:12.549129,55.677929
END:VEVENT
BEGIN:VEVENT
DTSTART;TZID=Europe/Copenhagen:20260212T190000
DTEND;TZID=Europe/Copenhagen:20260212T210000
DTSTAMP:20260425T194255
CREATED:20260211T173813Z
LAST-MODIFIED:20260211T220137Z
UID:10002369-1770922800-1770930000@teosofiskforening.dk
SUMMARY:AFLYST 12. feb. 2026  ---- HELBREDELSESTJENESTE 2026 ved Jørgen Skov fra Liberal Katolsk Kirke
DESCRIPTION:En helbredelsestjeneste i LKK er på mange måder en dyb personlig ting – både for præsten og personen der ønsker den.\nSelve ønsket om at få en helbredelsestjeneste\, er i de indledende stadier den helt centrale ting – for ingen hverken kan\, vil eller må påtvinge nogen noget.\nLiberal Katolsk kirke er som alle Katolske kirker\, bygget op på et åndeligt/mekanisk system der distribuerer energi – administreret af formbyggerne i naturen – devaerne eller englene.\nJeg vil i denne introduktion ikke gå ind i alle de teknikaliteter hele dette åndelige maskineri består af – men henvise til CW Leadbeaters bog der nu er oversat til dansk: Videnskaben om sakramenterne.\nSelve ritualet sigter indledningsvist på at få personen op på tæerne – rent åndelig set. Denne øvelse er i virkeligheden temmelig svær – især for personer der ikke er vant til hverken kirkelige ritualer\, eller det at skulle præstere noget ”åndeligt” på få minutter. \n\n\n  \nForestiller man sig at man mentalt kan bevæge sig ”opad”\, efterladende alle sine småligheder og menneskelige fejl\, – men stå i sin egen ret og som det bedste man tror om sig selv\, – så er man placeret det ideelle sted for at modtage den fulde energi i en helbredelsestjeneste. \nRitualet er derfor formet på en sådan måde\, at man bliver hjulpet til at komme så ”højt op” som muligt – det er fra dette udsigtspunkt personen får det største udbytte af den ”nedsendte” energi \nRitualet\nPræsten er via sin ordination koblet til et globalt katolsk system der kanaliserer energierne i sakramenterne. \nPÅKALDELSEN\nNår præsten indledningsvis starter med at påkalde den kristne treenighed\, er det som at tænde for en computer\, en radio\, en bil eller hvad der nu ellers aktiveres.\nPræsten medbringer vievand (hvis han ikke vælger at lave det foran deltagerne) der er forberedt inden tjenesten.\nDette vievand\, der er en blanding af højmagnetiseret salt og vand\, spiller en yderst central rolle i tjenesten.\nPræsten sætter indledningsvist et mærke af vievand på personens pande for at englen der påkaldes et øjeblik senere\, magnetisk kan forbinde sig med vedkommende.\nLokalet hvori man befinder sig\, bestænkes derefter med det formål at forme en midlertidig æterisk afsondring fra den ydre verden – en slags indelukke eller kuppel hvori selve ceremonien foregår og som hæver energiniveauet indenfor. \nPÅKALDELSEN AF ENGLEN\nVed sin ordination er præsten magnetisk forbundet med forskellige dele af den evolutionslinje vi kalder engle – heriblandt helbredende engle.\nHan påkalder derfor disse engle som manifesterer sig i det forberedte rum/område. Præsten introducerer personen for englen\, der kan se mærket på panden og således véd at lige dér\, er vedkommende det drejer sig om. \nCONFITEOR\nNu starter processen der er en forberedelse til at modtage selve healingen.\nIdeen er at forsøge\, midlertidigt\, at forlade alle sine lavere aspekter for at komme så ”højt op” i sin egen bevidsthed og der modtage healingen.\nPræsten læser nu en smuk og opbyggelig tekst op\, på personens vegne. Denne tekst taler om at vi altid er urolige indtil vi finder hvile i Gud og beder om altid at blive set på med kærlighed trods vore vildfarelser osv. osv. \nABSOLUTION\nPræsten giver herefter Absolutionen\, populært kaldet syndsforladelsen.\nAbsolutionen har i LKK-regi ikke noget at gøre med at forladelse af synder. I kirkens øjne er de ”synder” man begår højst individuelle – og derfor defineret som handlinger man i virkeligheden er vokset fra at gøre.\nDet er disse overtrædelser af egne bud\, der giver personen oplevelsen af at have ”syndet”.\nDen syndsbevidsthed man således pålægger sig selv har en negativ virkning på det elektrisk felt der omgiver den fysiske krop og som vi normalt kalder auraen.\nAbsolutions-energien genoplader dette elektriske felt\, hvilket gør personen i stand til helt at absorbere de energier helbredelsestjenesten kanaliserer. \nSALVNINGEN\nI begyndelsen af Salvningen beder man om\, at personen der om lidt skal modtage healingen\, må have gavn af handlingen.\nDenne formulering skal forstås således at LKK anerkender inkarnationsprincippet som en realitet og som følge deraf\, har en forståelse af at alle nuværende fysiske\, såvel som mentale tilstande\, kan være et resultat af handlinger foretaget i tidligere liv og derfor karmiske.\nDet skal forstås således at helbredelse ikke altid er positivt for den person der er nu kommet tilbage på det fysiske plan for at lære\, eller høste konsekvenserne af handlinger foretaget i tidligere liv.\nKritikere vil selvfølgelig sig at så er man dækket ind når healingen ikke virker – men\, so be it.\nI det næste led af salvningsprocessen\, påkaldes treenigheden kraftfuldt over personen med tre korstegn. Dette for at fjerne de sidste rester af negative elektriske strømninger der må have overlevet Absolutionen.\nHerefter komme selve salvningen.\nDen udføres med en speciel sygeolie\, der er konsekreret af en biskop. Med denne olie tegner præsten et korstegn på personens pande.\nSamtidig påkalder han ærkeenglen Rafaels kraft og energi. Denne Rafaels-kraft bruges af den i begyndelsen påkaldte engel til at forbinde personen med det sted\, kraften om lidt skal komme fra – nemlig den guddommelige verden.\nHerefter tegner præsten yderligere tre korstegn\, et på halsen\, et på issen og et i nakken.\nDisse i alt fire korstegn markerer stederne hvor de æteriske centre sidder i hovedregionen – populært kaldet chakraer.\nMarkeringen betyder at centrene nu er åbne i et beskyttet miljø og klar til at modtage den nedstrømmende energi.\nPræsten lægger derefter begge hænder på personens hoved og påkalder den helbredende kraft. \nVELSIGNELSEN\nTil sidst afsluttes helbredelsestjenesten med en universel velsignelse. \n————————————————————————————————– \nDet anbefales at man modtager tre helbredelsestjenester med et vist mellemrum\, da det viser sig at man som deltager\, den tredje gang\, har forstået forløbet og derfor selv kan navigere i ritualet.\nErfaringen viser også\, at det er muligt tredje gang at komme så langt “op”\, at man fra det sted selv kan kommunikere med englen\, tale sin sag og bede om det\, der betyder allermest. \n  \nDet er gratis at deltage.
URL:https://teosofiskforening.dk/begivenhed/helbredelsestjeneste-2026-ved-joergen-skov-fra-liberal-katolsk-kirke-2/
LOCATION:Teosofisk Forening København\, Sankt Knuds Vej 27A\, Frederiksberg C\, København\, 1903\, Danmark
CATEGORIES:Kursus,Workshop
ATTACH;FMTTYPE=image/jpeg:https://teosofiskforening.dk/wp-content/uploads/2023/09/Helbredelsestjeneste-320x214-1.jpg
GEO:55.677929;12.549129
X-APPLE-STRUCTURED-LOCATION;VALUE=URI;X-ADDRESS=Teosofisk Forening København Sankt Knuds Vej 27A Frederiksberg C København 1903 Danmark;X-APPLE-RADIUS=500;X-TITLE=Sankt Knuds Vej 27A:geo:12.549129,55.677929
END:VEVENT
BEGIN:VEVENT
DTSTART;TZID=Europe/Copenhagen:20260221T100000
DTEND;TZID=Europe/Copenhagen:20260221T160000
DTSTAMP:20260425T194255
CREATED:20260101T193814Z
LAST-MODIFIED:20260219T185916Z
UID:10002362-1771668000-1771689600@teosofiskforening.dk
SUMMARY:AFLYST PGA SYGDOM:      Healingsarbejde med de åndelige læger\, kursus ved Karina Moll
DESCRIPTION:Træd ind i en dag fyldt med spirituel indsigt og healing\, hvor du møder de åndelige læger og deres guider. \nAktivér din healingskraft gennem praksis og guidet træning.\nGå herfra med evnen til selv at arbejde med dem. \n  \nDu møder de åndelige læger og deres guider\, og du vil lære at åbne dig for deres energi\, mærke deres nærvær og forstå\, hvordan de arbejder gennem dig for at hjælpe både mennesker og dyr.\nGennem praktiske øvelser får du træning i at se\, hvilke energier de arbejder med\, hvilke instrumenter de bruger\, og hvilke kompetencer de aktiverer hos modtageren.\nPå denne dag vil du møde både åndelige læger\, healere og dyrlæger\, og du vil efter kurset kunne fortsætte med at arbejde med dem på egen hånd – et skridt ind i et dybere samarbejde med de åndelige verdener\, hvor healing og transformation kan udfolde sig gennem dig. \n  \nTilmelding og betaling:    \nPris: 1150 kr./ 1450 kr. for medlemmer/gæster.\nI prisen indgår kaffe\, the og lette traktementer. Frokosten sørger man selv for.\nVed framelding tilbageholdes 100 kr. til administration.\nBemærk: Din plads er først reserveret\, når beløbet er modtaget. \nBestil billet i god tid inden kurset! – Se nederst på siden. \n  \nOm Karina Moll: \n\n \n  \n  \nMit navn er Karina\, og jeg er indehaver af Soul Movement\, clairvoyant og healer\, der har dedikeret mit liv til at skabe dybere forbindelser mellem mennesker og dyr. Jeg kombinerer over 20 års erfaring med healing\, telepati\, clairvoyance og personlig udvikling. Jeg tilbyder en unik tilgang\, hvor jeg via telepati formidler dyrenes budskaber og guider jer på jeres rejse mod transformation og balance. \n  \n  \n  \n  \n#healing \nID: 260221KMOffnTFK \n 
URL:https://teosofiskforening.dk/begivenhed/healingsarbejde-med-de-aandelige-laeger-kursus-ved-karina-moll/
LOCATION:Teosofisk Forening København\, Sankt Knuds Vej 27A\, Frederiksberg C\, København\, 1903\, Danmark
CATEGORIES:Kursus
ATTACH;FMTTYPE=image/jpeg:https://teosofiskforening.dk/wp-content/uploads/2026/01/2026.02.21-Karina-Moll-illustration.jpg
GEO:55.677929;12.549129
X-APPLE-STRUCTURED-LOCATION;VALUE=URI;X-ADDRESS=Teosofisk Forening København Sankt Knuds Vej 27A Frederiksberg C København 1903 Danmark;X-APPLE-RADIUS=500;X-TITLE=Sankt Knuds Vej 27A:geo:12.549129,55.677929
END:VEVENT
BEGIN:VEVENT
DTSTART;TZID=Europe/Copenhagen:20260228T110000
DTEND;TZID=Europe/Copenhagen:20260228T160000
DTSTAMP:20260425T194255
CREATED:20260106T172657Z
LAST-MODIFIED:20260220T110644Z
UID:10002400-1772276400-1772294400@teosofiskforening.dk
SUMMARY:AFLYST PGA INFLUENZA ---- Indvielsesvejen og dens processer #1 - kursus v/ Jette Ferdinand Pedersen og Susanne Olesen
DESCRIPTION:KURSET FLYTTET TIL d. 9. maj! \nIndvielse er bevidsthedsudvidelse. \nVi er alle på vejen til noget større i os\, lyset i os\, Kristusbevidstheden i os.\nKendskab og forståelse til vejens faser og udfordringer gør os bedre til at gå med – end gå mod det Livet byder os. \nLivet kan gå i bølgetoppe\, ned og kig på bunden\, op i lyset\, ned på bunden\, og op i lyset. Via denne bølgegang vokser lyset i os. \nUd fra Asger Lorentsens indvielsesmateriale under Den Gyldne Grals Orden\, ser vi på faser\, strategier og delpersonligheder på de første trin på “vejen”. \nPsykologiske faser: Sjælens kalden – ensomhed – når livet ikke vil som jeg vil…\nStrategier for at undgå smerte: Eks. Jeg må sikre mig en tryg base\, en økonomi. Jeg må have kontrol over mit liv.\nDrivkræfter Strategier for glæde og tilfredsstillelse: Eks. Jeg har brug for trøst\, værdsættelse\, jeg har brug for at beskytte mig…\nDelpersonligheder: Eks. Det indre barn – den indre mor – den indre far. \nI dette materiale er der 5 varianter af “veje” man kan gå: Den Gyldne Gralsvej\, Præstindevejen\, Civilisationens vej\, Visdommens vej\, Ildsjælens vej.\nOg ligeledes er der info om aktiviteter der fremmer processen. \nDagen består af meditation – oplæg – øvelse – deling\, og afsluttes med en Ceremoni\, hvor man får hjælp til at slippe gamle problematikker\, og man kan bede om hjælp til vejen videre frem. \n  \nKurset bliver afholdt fysisk i TFK’s lokaler \nPris for hele kurset: 550/600 kr. for medlemmer/gæster.\nI prisen indgår kaffe\, the og lette traktementer. Frokosten sørger man selv for.\nVed framelding tilbageholdes 50-100 kr. til administration. \nBestil billet i god tid inden foredraget! – Se nederst.\n \n  \nUndervisere: \n Jette Ferdinand Pedersen\nHealingsterapeut\, kinesiolog og har baggrund i Asgers Lorentsens lære\nsamt andre åndelige lærere. \njetteferdinandp@gmail.com \n  \n  \n  \nSusanne Olesen\nhar fulgt undervisning og kurser af Asger Lorentsen siden 2010\nog er særligt tilknyttet ”The Order of the Golden Grail” og Den Gyldne Grund på Kreta.\nDesuden tilknyttet Peter og Sarah Dawkins i ”Zoence” som bl.a. arbejder med\nlandskabschakraer og landskabsengle samt danser Paneurythmy. \nUddannet sygeplejerske og Cand.cur. \nSusanne1963@live.dk \n  \n  \n  \n\n#indvielse \nID: 260228JFEkfyTFK
URL:https://teosofiskforening.dk/begivenhed/indvielsesvejen-og-dens-processer-1-kursus-v-jette-ferdinand-pedersen-og-susanne-olesen/
LOCATION:Teosofisk Forening København\, Sankt Knuds Vej 27A\, Frederiksberg C\, København\, 1903\, Danmark
CATEGORIES:Kursus
ATTACH;FMTTYPE=image/jpeg:https://teosofiskforening.dk/wp-content/uploads/2026/01/2026.05.09-Illustration-Jette-og-Susanne-320x214-1.jpg
GEO:55.677929;12.549129
X-APPLE-STRUCTURED-LOCATION;VALUE=URI;X-ADDRESS=Teosofisk Forening København Sankt Knuds Vej 27A Frederiksberg C København 1903 Danmark;X-APPLE-RADIUS=500;X-TITLE=Sankt Knuds Vej 27A:geo:12.549129,55.677929
END:VEVENT
END:VCALENDAR