BEGIN:VCALENDAR
VERSION:2.0
PRODID:-//Teosofisk Forening København - ECPv6.15.20//NONSGML v1.0//EN
CALSCALE:GREGORIAN
METHOD:PUBLISH
X-ORIGINAL-URL:https://teosofiskforening.dk
X-WR-CALDESC:Begivenheder for Teosofisk Forening København
REFRESH-INTERVAL;VALUE=DURATION:PT1H
X-Robots-Tag:noindex
X-PUBLISHED-TTL:PT1H
BEGIN:VTIMEZONE
TZID:Europe/Copenhagen
BEGIN:DAYLIGHT
TZOFFSETFROM:+0100
TZOFFSETTO:+0200
TZNAME:CEST
DTSTART:20250330T010000
END:DAYLIGHT
BEGIN:STANDARD
TZOFFSETFROM:+0200
TZOFFSETTO:+0100
TZNAME:CET
DTSTART:20251026T010000
END:STANDARD
BEGIN:DAYLIGHT
TZOFFSETFROM:+0100
TZOFFSETTO:+0200
TZNAME:CEST
DTSTART:20260329T010000
END:DAYLIGHT
BEGIN:STANDARD
TZOFFSETFROM:+0200
TZOFFSETTO:+0100
TZNAME:CET
DTSTART:20261025T010000
END:STANDARD
BEGIN:DAYLIGHT
TZOFFSETFROM:+0100
TZOFFSETTO:+0200
TZNAME:CEST
DTSTART:20270328T010000
END:DAYLIGHT
BEGIN:STANDARD
TZOFFSETFROM:+0200
TZOFFSETTO:+0100
TZNAME:CET
DTSTART:20271031T010000
END:STANDARD
END:VTIMEZONE
BEGIN:VEVENT
DTSTART;TZID=Europe/Copenhagen:20260505T190000
DTEND;TZID=Europe/Copenhagen:20260505T213000
DTSTAMP:20260425T001710
CREATED:20260111T222034Z
LAST-MODIFIED:20260113T142914Z
UID:10002416-1778007600-1778016600@teosofiskforening.dk
SUMMARY:DEN GYLDNE SOLSTRØM:  SIRIUS\, HORUS OG KRISTI  GENKOMST\, Online foredrag ved Marcus Myhr
DESCRIPTION:Bevidsthedslyset fra de store flammeherrer udsendt fra Sol-Logos til Jorden i samarbejde med den store Sirius-Loge er en af de store indvielsesstrømme\, der er kommet ind på Jorden fra Atlantis og overført til Egypten og gået videre i den jødiske og kristne esoteriske tradition.  \n  \nI dette foredrag sporer vi sol- og visdomsstrømmen fra ”SepTepe”\, det man i egyptisk mytologi kalder: ”Den første tid”\, hvor guder som Ra\, Isis\, Osiris og Zeus samt halvguder som Horus\, Cuetzalcoatl og Thoth gik på jorden og skabte de første indvielsesstempler. De store indviede\, der dengang gik på Jorden\, er bl.a. beskrevet i kongetavlerne og på tempelmurerne i Edfu. Vi vil undersøge\, hvordan denne store indvielsesstrøm fra Atlantis og Sirius er blevet overført til jordens DNA (mennesker på moder Jord)\, hvordan den efter oversvømmelsen af Atlantis\, blev overført til de egyptiske faraoer\, ikke mindst Akhnaton i Egypten og senere til andre traditioner gennem bl.a. Moses i Jødedommen og Kabbalah samt Jesus i Kristendommen og Alkymismen. Og mindst lige så vigtigt\, vil vi undersøge hvordan denne solstrøm fra Sirius og Sol-Logos\, er aktiv i nutiden og forbereder vejen for Kristi komme i menneskehedens hjerte. \n  \nPris: 100/140 kr. for medlemmer/gæster. \nBestil billet i god tid inden foredraget! – Se nederst.\nLinket findes på ordrebekræftelsen i mailen man modtager\, når bestillingen er gennemført. \n  \nOm foredragsholderen \n \n  \nMarcus er religionshistoriker\, ID-Psykoterapeut\, esoterisk astrolog og healer. Han underviser på Lysarbejderuddannelsen og Solprogrammet på Den Gyldne Cirkel og har studeret teosofi siden 2001.  \n  \n  \n  \n  \n#visdom \nID: 260505MMYfonTFK \n 
URL:https://teosofiskforening.dk/begivenhed/den-gyldne-solstroem-sirius-horus-og-kristi-genkomst-online-foredrag-ved-marcus-myhr/
LOCATION:Teosofisk Forening København\, Sankt Knuds Vej 27A\, Frederiksberg C\, København\, 1903\, Danmark
CATEGORIES:Tirsdagsforedrag
ATTACH;FMTTYPE=image/jpeg:https://teosofiskforening.dk/wp-content/uploads/2026/01/2026.05.05-Marcus-Myhr-Portraet-illustration-320x214-1.jpg
GEO:55.677929;12.549129
X-APPLE-STRUCTURED-LOCATION;VALUE=URI;X-ADDRESS=Teosofisk Forening København Sankt Knuds Vej 27A Frederiksberg C København 1903 Danmark;X-APPLE-RADIUS=500;X-TITLE=Sankt Knuds Vej 27A:geo:12.549129,55.677929
END:VEVENT
BEGIN:VEVENT
DTSTART;TZID=Europe/Copenhagen:20260512T190000
DTEND;TZID=Europe/Copenhagen:20260512T213000
DTSTAMP:20260425T001710
CREATED:20260113T142311Z
LAST-MODIFIED:20260115T162453Z
UID:10002420-1778612400-1778621400@teosofiskforening.dk
SUMMARY:Hvordan får jeg evnen til at tilgive? Foredrag v/ Kasper Westeraa
DESCRIPTION:Tilgivelse er en modenhedstilstand\, der vokser frem i takt med menneskets åndelige udvikling. Ifølge Martinus og teosofien er det netop erfaringerne med smerte\, skuffelser og konflikter\, der giver os den dybeste undervisning og langsomt lærer os at forstå andres motiver og begrænsninger – og dermed gør tilgivelsen mulig. Åndsvidenskaben bekræfter det fokus\, Kristus lagde på tilgivelse: det er ikke blot en idealistisk holdning\, men en konkret\, praktisk vej mod højere bevidsthed. Martinus kaldte tilgivelse “den højeste form for yoga” og fremhævede\, at den er en direkte og sikker vej mod kosmisk indsigt. \nNår vi øver tilgivelse\, høster vi samtidig den største frugt af vores ubehagelige karma. I stedet for at blive fanget i bitterhed eller modstand\, lærer vi at aflæse livets bagvedliggende lære. Tilgivelse bliver dermed ikke en passiv resignation\, men et aktivt skridt i retning af indvielsens port – hvor menneskets bevidsthed åbner sig for en dybere forståelse af universets kærlige struktur. Foredraget udfolder både principperne og de konkrete måder\, man kan øve tilgivelse på i hverdagen. \n \nPris: Kr. 100/140 for medlemmer/gæster. \nBetaling: Beløbet betales ved indgangen. \n  \nOm foredragsholderen:\nKasper Westeraa bor i en lille by uden for Aalborg sammen med min kone Trine og vores kat Bine. Han underviser til daglig i fysik og matematik på Aalborg Katedralskole. Kasper er født ind i en familie med Martinus-interesserede forældre\, og har selv aktivt studeret åndsvidenskab\, siden han var 20 år gammel. \n  \n  \n  \nID: 260512KWEffnTFK \n# teosofi
URL:https://teosofiskforening.dk/begivenhed/hvordan-faar-jeg-evnen-til-at-tilgive-foredrag-v-kasper-westeraa/
LOCATION:Teosofisk Forening København\, Sankt Knuds Vej 27A\, Frederiksberg C\, København\, 1903\, Danmark
CATEGORIES:Tirsdagsforedrag
ATTACH;FMTTYPE=image/jpeg:https://teosofiskforening.dk/wp-content/uploads/2026/01/2026.05.12-Kasper-Westeraa-Portraet-og-Illustration-320X214.jpg
GEO:55.677929;12.549129
X-APPLE-STRUCTURED-LOCATION;VALUE=URI;X-ADDRESS=Teosofisk Forening København Sankt Knuds Vej 27A Frederiksberg C København 1903 Danmark;X-APPLE-RADIUS=500;X-TITLE=Sankt Knuds Vej 27A:geo:12.549129,55.677929
END:VEVENT
BEGIN:VEVENT
DTSTART;TZID=Europe/Copenhagen:20260519T190000
DTEND;TZID=Europe/Copenhagen:20260519T203000
DTSTAMP:20260425T001710
CREATED:20260107T225520Z
LAST-MODIFIED:20260110T161715Z
UID:10002405-1779217200-1779222600@teosofiskforening.dk
SUMMARY:Inspirationsaften: TAROT- OG ORAKELKORT
DESCRIPTION:Teosofisk Forening inviterer i foråret 2026 alle interesserede til 4 uformelle inspirationsaftener – kl. 19.00 til 20.30.\nDenne aften er nr. 4.\n  \nTAROT- OG ORAKELKORT \nDenne aften vil vi sammen fordybe os i forskellige kortoplæg. Vi vælger en fordybende\, glædesfyldt og undersøgende måde at bruge kortene på\, så vi beriges af glæden over de budskaber\, vi modtager. \nDu er velkommen til at medbringe egne kort\, og fortælle om disse i løbet af aftenen. \nDer vil også være forskellige kort\, du kan inspireres af. \nFacilitator: Benthe Ploug \n  \nPris: Kr. 50/70 for medlemmer/gæster. \nBetaling: Beløbet betales ved indgangen. \nPrisen inkluderer en kort te/kaffepause. \n  \nID: 260519BPLinsTFK
URL:https://teosofiskforening.dk/begivenhed/inspirationsaften-tarot-og-orakelkort/
LOCATION:Teosofisk Forening København\, Sankt Knuds Vej 27A\, Frederiksberg C\, København\, 1903\, Danmark
CATEGORIES:Tirsdagsforedrag
ATTACH;FMTTYPE=image/jpeg:https://teosofiskforening.dk/wp-content/uploads/2026/01/inspirationsaften-320x214-1.jpg
GEO:55.677929;12.549129
X-APPLE-STRUCTURED-LOCATION;VALUE=URI;X-ADDRESS=Teosofisk Forening København Sankt Knuds Vej 27A Frederiksberg C København 1903 Danmark;X-APPLE-RADIUS=500;X-TITLE=Sankt Knuds Vej 27A:geo:12.549129,55.677929
END:VEVENT
BEGIN:VEVENT
DTSTART;TZID=Europe/Copenhagen:20260526T190000
DTEND;TZID=Europe/Copenhagen:20260526T213000
DTSTAMP:20260425T001710
CREATED:20260114T213153Z
LAST-MODIFIED:20260117T084015Z
UID:10002423-1779822000-1779831000@teosofiskforening.dk
SUMMARY:DØDEN SOM EN OVERGANG\, foredrag ved Jørgen Skov
DESCRIPTION:Er døden ved at miste sin brod? Et eksempel er de tusindvis af helt almindelige mennesker der på f.eks. YouTube beretter om deres nærdødsoplevelser.\nVi vil i foredraget se på\, hvad Teosofien\, Martinus og andre åndsretninger i over 100 år har fortalt om selve dødsprocessen\, livet i de åndelige verdener og vejen tilbage til den fysiske verden. \n”Guds største overraskelse til mennesket er\, at der er liv efter døden” siger Martinus og pointerer\, at simpel logik underbygger denne påstand. \n  \nEr døden ved at miste sin brod? Et eksempel er de tusindvis af helt almindelige mennesker\, der på YouTube beretter om deres nærdødsoplevelser. De fortæller alle om et ubeskriveligt nærvær\, fyldt med lys\, kærlighed og en overvældende følelse af at komme hjem. \nTeosofien har gennem de sidste 100 år givet en detaljeret beretning om både selve\ndødsprocessen\, rejsen gennem de åndelige verdener og vejen tilbage til den fysiske verden.\nJeg har gennem de sidste 50 år nærstuderet teosofi og på det sidste begyndt et dybdegående studie af Martinus.\nDer er absolut ingen forbindelse mellem de to parter – og alligevel er deres beretninger om efterlivet stort set ens. Teosofien med et væld af detaljer og Martinus med de mere overordnede principper. \nJeg vil i dette foredrag om døden og vejen tilbage til det fysiske plan\, forsøge at flette de to retninger sammen og vise at de i sjælden grad supplerer hinanden. \n  \nPris: 100/140 kr. for medlemmer/gæster.\nBetaling: Beløbet betales ved indgangen. \n  \n \n  \n  \n  \n  \nJørgen Skov er præst i Liberal Katolsk Kirke og udøvende billedkunstner. \n  \n  \n  \n  \n  \n  \n#døden \nID: 260526JSKffnTFK \n 
URL:https://teosofiskforening.dk/begivenhed/doeden-som-en-overgang-foredrag-ved-joergen-skov/
CATEGORIES:Tirsdagsforedrag
ATTACH;FMTTYPE=image/png:https://teosofiskforening.dk/wp-content/uploads/2026/01/2026.05.26-Joergen-Skov-Illustration-gustave-dore-320x214-1.png
END:VEVENT
END:VCALENDAR