BEGIN:VCALENDAR
VERSION:2.0
PRODID:-//Teosofisk Forening København - ECPv6.15.20//NONSGML v1.0//EN
CALSCALE:GREGORIAN
METHOD:PUBLISH
X-ORIGINAL-URL:https://teosofiskforening.dk
X-WR-CALDESC:Begivenheder for Teosofisk Forening København
REFRESH-INTERVAL;VALUE=DURATION:PT1H
X-Robots-Tag:noindex
X-PUBLISHED-TTL:PT1H
BEGIN:VTIMEZONE
TZID:Europe/Copenhagen
BEGIN:DAYLIGHT
TZOFFSETFROM:+0100
TZOFFSETTO:+0200
TZNAME:CEST
DTSTART:20250330T010000
END:DAYLIGHT
BEGIN:STANDARD
TZOFFSETFROM:+0200
TZOFFSETTO:+0100
TZNAME:CET
DTSTART:20251026T010000
END:STANDARD
BEGIN:DAYLIGHT
TZOFFSETFROM:+0100
TZOFFSETTO:+0200
TZNAME:CEST
DTSTART:20260329T010000
END:DAYLIGHT
BEGIN:STANDARD
TZOFFSETFROM:+0200
TZOFFSETTO:+0100
TZNAME:CET
DTSTART:20261025T010000
END:STANDARD
BEGIN:DAYLIGHT
TZOFFSETFROM:+0100
TZOFFSETTO:+0200
TZNAME:CEST
DTSTART:20270328T010000
END:DAYLIGHT
BEGIN:STANDARD
TZOFFSETFROM:+0200
TZOFFSETTO:+0100
TZNAME:CET
DTSTART:20271031T010000
END:STANDARD
END:VTIMEZONE
BEGIN:VEVENT
DTSTART;TZID=Europe/Copenhagen:20260303T190000
DTEND;TZID=Europe/Copenhagen:20260303T213000
DTSTAMP:20260423T142711
CREATED:20251228T093236Z
LAST-MODIFIED:20260106T162310Z
UID:10002357-1772564400-1772573400@teosofiskforening.dk
SUMMARY:Gennem indvielsens mørke - online foredrag v/Kasper Westeraa
DESCRIPTION:Foredraget belyser\, hvordan de mørke erfaringer er nødvendige trin i menneskets bevidsthedsudvikling. I både Martinus’ kosmologi og teosofien forstås smerte\, konflikter og tab ikke som tilfældige hændelser\, men som centrale erfaringer\, der gradvist udvikler forståelse\, empati og ansvar.\nI de seneste ca. hundrede år har menneskeheden oplevet en markant intensivering af mørket – krige\, kriser og globale omvæltninger – som ifølge den åndelige udviklingsforståelse netop tjener til at accelerere bevidsthedsmodningen og forberede os på en ny\, mere human tidsalder.\nMen denne modning sker ikke på én livstid. Ved hjælp af reinkarnations- og karmalovens mekanismer føres væsenet gennem de erfaringer\, det endnu mangler for at udvikle næstekærlighed og til sidst opnå Kristus-bevidsthed. Side om side med naturens biologiske evolution finder der en bevidsthedsevolution sted\, der gradvist gør mennesket i stand til at forstå mørkets rolle\, indrette sit liv derefter og nærme sig indvielsesporten. \nPris: 100/140 kr. for medlemmer/gæster. \nBestil billet i god tid inden foredraget! – Se nederst.\nLinket findes på ordrebekræftelsen i mailen man modtager\, når bestillingen er gennemført.\n \n  \nOm foredragsholderen:\nJeg bor i en lille by uden for Aalborg sammen med min kone Trine og vores kat Bine. Jeg underviser til daglig i fysik og matematik på Aalborg Katedralskole. Jeg er født ind i en familie med Martinus-interesserede forældre\, og jeg har selv aktivt studeret åndsvidenskab\, siden jeg var 20 år gammel. \n#indvielse \nID: 260303KWEfonTFK
URL:https://teosofiskforening.dk/begivenhed/gennem-indvielsens-moerke-online-foredrag-v-kasper-westeraa/
LOCATION:Teosofisk Forening København\, Sankt Knuds Vej 27A\, Frederiksberg C\, København\, 1903\, Danmark
CATEGORIES:Tirsdagsforedrag
ATTACH;FMTTYPE=image/png:https://teosofiskforening.dk/wp-content/uploads/2025/12/2026.03.03-Kasper-Westeraa-Illustration-320x214-1.png
GEO:55.677929;12.549129
X-APPLE-STRUCTURED-LOCATION;VALUE=URI;X-ADDRESS=Teosofisk Forening København Sankt Knuds Vej 27A Frederiksberg C København 1903 Danmark;X-APPLE-RADIUS=500;X-TITLE=Sankt Knuds Vej 27A:geo:12.549129,55.677929
END:VEVENT
BEGIN:VEVENT
DTSTART;TZID=Europe/Copenhagen:20260309T180000
DTEND;TZID=Europe/Copenhagen:20260309T203000
DTSTAMP:20260423T142711
CREATED:20250630T165801Z
LAST-MODIFIED:20250630T212405Z
UID:10002288-1773079200-1773088200@teosofiskforening.dk
SUMMARY:DEN FEMININE GRAL - I MODERGUDINDENS HJERTE ved Den Indre Sol
DESCRIPTION:Inden meditationen er der Holistisk Motion ved den Indre Sol: Qi gong og åndedræt og lyd på chakraerne kl. 17-17.45. Betaling: 25 kr. Se nærmere beskrivelse: link  \n  \nDen Feminine Hjertegral/Den Feminine kærlighedsstrøm \nForedrag\, dans\, sang\, meditation\, healing og hjertecirkel \n12 mandage kl. 18-20.30  \nFå en dybere forståelse af Det Feminine Hierarki\, og lær hvordan du kan samarbejde med Gralsgudinden fra Avalon og De Feminine Mestre. \n\nVær med til at lave lysarbejde i Den Feminine Kærlighedsstrøm og bliv en del af Den Feminine Hjertegralscirkel (rejse til Glastonbury i pinsen 2025).\nVær med til at styrke Den Feminine Kærlighedsstrøm på Jorden\, og bliv forenet med Den Feminine kærlighed herigennem.\nModtag healing og inspiration fra Gralsgudinden/Solenglen fra Avalon og De Feminine Mestre\, og bliv integreret med Den Feminine Kærlighedsstrøm.\n\nBevidst lysarbejde for Jorden og for dig selv – Kom og vær med til at styrke Den feminine kærlighedsstrøm på Jorden – og vær med til at lave en lysindstrømning i Teosofisk Forening. \n  \nEntré: 100 kr. – Ingen tilmelding – bare kom! \n  \nPROGRAM \nMandag den 28/4 2025 kl. 18 – 20.30:\n1. stråle – Gralsgudinden fa Avalon og Lady Miriam Åben dig for Gralsgudinden – Solenglen fra Avalon – og Den Keltiske Modergudinde og Den Feminine Mester Lady Miriam.\nBliv forenet med Den Feminine Kraft og vilje. \nMandag den 19/5 2025 kl. 18-20.30:\n2. stråle – Gralsgudinden fra Avalon og Lady Debra. Åben dig for Gralsgudinden – Solenglen fra Avalon – og Den Keltiske Modergudinde og Den Feminine Mester Lady Debra.\nBliv forenet med hendes medfølende og uselviske kærlighed. \nMandag den 16/6 2025 kl. 18-20.30:\n3. stråle – Gralsgudinden fra Avalon og Lady Rowena. Åben dig for Gralsgudinden – Solenglen fra Avalon – og Den Keltiske Modergudinde og Den Feminine Mester Lady Rowena.\nBliv forenet med hendes kreative og skabende kærlighed. \nMandag den 14/7 2025 kl. 18-20.30:\n4. stråle – Gralsgudinden Avalon og Lady Celeste. Åben dig for Gralsgudinde – Solenglen fra Avalon og Den Keltiske Modergudinde og Den Feminine Mester Lady Celeste/ White Buffalo Woman.\nBliv forenet med hendes dybe kærlighed til Jorden. \nMandag den 4/8 2025 kl. 18-20.30:\n5. stråle – Gralsgudinden fra Avalon og Lady Rochelle. Åben dig for Gralsgudinden – Solenglen fra Avalon og Den Keltiske Modergudinde og Den Feminine Mester Lady Rochelle/Bridget.\nBliv forenet med hendes sande\, rensende og healende kærlighed. \nMandag den 15/9 2025 kl. 18-20.30:\n6. stråle – Gralsgudinden fra Avalon og Maria Magdalene. Åben dig for Gralsgudinden – Solenglen fra Avalon og Den Keltiske Modergudinde og Den Feminine Mester Maria Magdalene.\nBliv forenet med hendes dybe og hengivende kærlighed. \nMandag den 13/10 2025 kl. 18-20.30:\n7. stråle – Gralsgudinden fra Avalon og Lady Portia. Åben dig for Gralsgudinden – Solenglen fra Avalon og Den Keltiske Modergudinde og Den Feminine Mester Lady Portia.\nBliv forenet med hendes rensende\, forvandlende og helliggørende kærlighed. \nMandag den 10/11 2025 kl. 18-20.30:\n8. stråle – Gralsgudinden fra Avalon og Lady Nada. Åben dig for Gralsgudinden – Solenglen fra Avalon og Den Keltiske Modergudinde og Den Feminine Mester Lady Nada.\nBliv forenet med hendes ubetingede kærlighed og Marias medfølende kærlighed. \nMandag den 8/12 2025 kl. 18-20.30:\n9. stråle -Gralsgudinden fra Avalon og Lady Athene. Åben dig for Gralsgudinden – Solenglen fra Avalon og Den Keltiske Modergudinde og Den Feminine Mester Lady Athene.\nBliv forenet med hendes frigørende kærlighed. \nMandag den 12/1 2026 kl. 18-20.30:\n10. stråle – Gralsgudinden fra Avalon og Kwan Yin. Åben dig for Gralsgudinden – Solenglen fra Avalon og Den Keltiske Modergudinde og Den Feminine Mester Kwan Yin.\nBliv forenet med hendes medfølende kærlighed og hendes dybe visdom. \nMandag den 9/2 2026 kl. 18-20.30:\n11. stråle – Gralsgudinden fra Avalon og Isis. Åben dig for Gralsgudinden – Solenglen fra Avalon og Den Keltiske Modergudinde og Den Feminine Mester Isis.\nLad hendes kærlighed gøre dit hjerte til en åben lotusblomst. \nMandag den 9/3 2026 kl. 18-20.30:\n12. stråle–Gralsgudinden fra Avalon/Den Store Modergudinde. Åben dig for Gralsgudinden – Solenglen fra Avalon – Den Keltiske Modergudinde.\nLad hendes kærlighed gøre dit hjerte til en modtagende kærlighedsgral. \n  \n \nDen Indre Sol: Ziadria og Michael \nEmail: denindresol@gmail.com\ntlf. 61330508\nwww.facebook.com/denindresol \n  \n  \n 
URL:https://teosofiskforening.dk/begivenhed/den-feminine-gral-i-modergudindens-hjerte-ved-den-indre-sol-2/2026-03-09/
LOCATION:Teosofisk Forening København\, Sankt Knuds Vej 27A\, Frederiksberg C\, København\, 1903\, Danmark
CATEGORIES:Lukket gruppe,Tirsdagsforedrag
ATTACH;FMTTYPE=image/jpeg:https://teosofiskforening.dk/wp-content/uploads/2024/06/2023.04.14-DEN-INDRE-SOL-320x214-1.jpg
GEO:55.677929;12.549129
X-APPLE-STRUCTURED-LOCATION;VALUE=URI;X-ADDRESS=Teosofisk Forening København Sankt Knuds Vej 27A Frederiksberg C København 1903 Danmark;X-APPLE-RADIUS=500;X-TITLE=Sankt Knuds Vej 27A:geo:12.549129,55.677929
END:VEVENT
BEGIN:VEVENT
DTSTART;TZID=Europe/Copenhagen:20260310T190000
DTEND;TZID=Europe/Copenhagen:20260310T213000
DTSTAMP:20260423T142711
CREATED:20260110T220740Z
LAST-MODIFIED:20260110T222035Z
UID:10002414-1773169200-1773178200@teosofiskforening.dk
SUMMARY:BEVIDSTHED\, INDRE RESONANS OG SELVHEALING\, foredrag ved Helle Brinch
DESCRIPTION:Vi mennesker er selvhealende\, når vi anvender vores ubalancer som nøgle til at vække vores bevidsthed og kærlighed. \nSom barn mister vi ofte kontakten til os selv\, når vores essentielle behov ikke bliver mødt eller når vi ikke bliver spejlet i\, hvem vi er. Når vi vender vores opmærksomhed indad og møder de smerter\, vi stadig gemmer i kroppen\, sker der noget magisk: Vi bliver set\, mødt og accepteret. Denne proces skaber en dyb transformation af de energier\, vi bærer med os. \n  \nNår vi forbinder os med hjertets energi – vores sjæl – opstår der en indre resonans\, der bringer os tilbage til vores autentiske væren. Helle Brinch vil tale om sin bog ”Bevidsthed er hvid” og vil guide os gennem en kraftfuld proces\, som hun kalder for Indre Resonansterapi. \nProcessen hjælper dig til at aktivere din bevidsthed og sjæl og dermed genskabe en indre harmoni og resonans. Det er også i denne tilstand\, at vi kan skabe en sand forbindelse med andre og leve i synkronicitet med vores omgivelser og dermed i harmoni med vores højeste formål. \n  \nPris: 100/140 kr. for medlemmer/gæster.\nBetaling: Beløbet betales ved indgangen. \n  \n \n  \nHelle Brinch er civiløkonom\, spirituel psykoterapeut\, forfatter og underviser og har siden 2003 hjulpet mennesker med personlig udvikling og transformation. Hun anvender psykoterapi\, hypnoterapi\, energiterapi samt clairvoyant rådgivning og afholder kurser og uddannelser i intuition\, healing samt hypnoterapi.     www.hellebrinch.dk \n  \n  \n  \n#bevidsthed \nID: 260310HBRffnTFK \n 
URL:https://teosofiskforening.dk/begivenhed/bevidsthed-indre-resonans-og-selvhealing/
LOCATION:Teosofisk Forening København\, Sankt Knuds Vej 27A\, Frederiksberg C\, København\, 1903\, Danmark
CATEGORIES:Tirsdagsforedrag
ATTACH;FMTTYPE=image/jpeg:https://teosofiskforening.dk/wp-content/uploads/2026/01/2026.03.10-Helle-Brinch-illustration-2.jpg
GEO:55.677929;12.549129
X-APPLE-STRUCTURED-LOCATION;VALUE=URI;X-ADDRESS=Teosofisk Forening København Sankt Knuds Vej 27A Frederiksberg C København 1903 Danmark;X-APPLE-RADIUS=500;X-TITLE=Sankt Knuds Vej 27A:geo:12.549129,55.677929
END:VEVENT
BEGIN:VEVENT
DTSTART;TZID=Europe/Copenhagen:20260317T190000
DTEND;TZID=Europe/Copenhagen:20260317T210000
DTSTAMP:20260423T142711
CREATED:20260107T213058Z
LAST-MODIFIED:20260110T161452Z
UID:10002403-1773774000-1773781200@teosofiskforening.dk
SUMMARY:Inspirationsaften: Fremvisning af filmen ONE FIRE
DESCRIPTION:  \nTeosofisk Forening inviterer i foråret 2026 alle interesserede til 4 uformelle inspirationsaftener – kl. 19.00 til 20.30\, bortset fra denne aften\, hvor vi slutter kl. 21.\n  \nFREMVISNING AF FILMEN ONE FIRE \nTeosofisk Samfunds hovedsæde ligger i Adyar i Indien. De har komponeret en film som beretter om Teosofiens grundlæggere\, og hvordan teosofien blev spredt ud over jorden indenfor ganske få årtier. \nFilmen vises med engelske undertekster. \n  \nFacilitator: Benthe Ploug. \n  \nPris: Kr. 50/70 for medlemmer/gæster. \nBetaling: Beløbet betales ved indgangen. \nPrisen inkluderer en kort te/kaffepause. \n  \nID: 260317BPLinsTFK \n 
URL:https://teosofiskforening.dk/begivenhed/inspirationsaften-fremvisning-af-filmen-one-fire/
LOCATION:Teosofisk Forening København\, Sankt Knuds Vej 27A\, Frederiksberg C\, København\, 1903\, Danmark
CATEGORIES:Tirsdagsforedrag
ATTACH;FMTTYPE=image/jpeg:https://teosofiskforening.dk/wp-content/uploads/2026/01/inspirationsaften-320x214-1.jpg
GEO:55.677929;12.549129
X-APPLE-STRUCTURED-LOCATION;VALUE=URI;X-ADDRESS=Teosofisk Forening København Sankt Knuds Vej 27A Frederiksberg C København 1903 Danmark;X-APPLE-RADIUS=500;X-TITLE=Sankt Knuds Vej 27A:geo:12.549129,55.677929
END:VEVENT
BEGIN:VEVENT
DTSTART;TZID=Europe/Copenhagen:20260320T190000
DTEND;TZID=Europe/Copenhagen:20260320T213000
DTSTAMP:20260423T142711
CREATED:20260113T225311Z
LAST-MODIFIED:20260113T225311Z
UID:10002421-1774033200-1774042200@teosofiskforening.dk
SUMMARY:Begyndelsen til det 13. univers. Forberedelse til vores liv på vores Gaia\, foredrag ved Marina Munk
DESCRIPTION:Marina Munk kommer igen og opdaterer os om de kollektive energier i universet. De energier der påvirker os lige nu. Det sker i samarbejde med ærkeengle og opstegne mestre\, som hjælper Gaia i denne tid\, hvor vi afslutter en 24.000-årig cyklus og begynder på en ny i det 13. univers. \n  \nDe kanaliserede visioner indeholder informationer om den nye tid på vejen til enhed og positive totale forandringer på vores Gaia. Universet kommer direkte ind til os gennem Marina. Kodeordet er kærlighed til alt skabt. Det er kærligheden\, som leder os gennem dimensionsportene til ekspanderende bevidsthed. De kanaliserede visioner er en forberedelse til vores liv på vores Gaia\, hvor jordskorpen skal ophøre og derved skabes der nye realiteter. \n  \nEmnet uddybes på den efterfølgende eftermiddags-workshop lørdag den 21. marts i TFK. \n  \nPris: 120/160 kr. for medlemmer/gæster.\nBetaling: Beløbet betales ved indgangen. \n  \n  \n \n  \nMarina Munk er clairvoyant og en internationalt kendt lysarbejder\, som har til opgave at vække menneskers højere bevidsthedskanaler. Hun har haft et årelangt engagement i WRO (World Rainforest Organization) for Amazonas indianere og er tillige kendt for sin mange intergalaktiske møder og rejser med åndeligt indhold. Danske Marina bor i Sverige\, vest for Uppsala.   https://wrodk.weebly.com/marina-munk.html \n  \n  \n#universe \nID: 260320MMUffnTFK \n 
URL:https://teosofiskforening.dk/begivenhed/begyndelsen-til-det-13-univers-forberedelse-til-vores-liv-paa-vores-gaia-foredrag-ved-marina-munk/
LOCATION:Teosofisk Forening København\, Sankt Knuds Vej 27A\, Frederiksberg C\, København\, 1903\, Danmark
CATEGORIES:Tirsdagsforedrag
ATTACH;FMTTYPE=image/jpeg:https://teosofiskforening.dk/wp-content/uploads/2025/01/2024.02.24-Marina-Munk-illustration_Sommerfugl-blaa-320x214-1.jpg
GEO:55.677929;12.549129
X-APPLE-STRUCTURED-LOCATION;VALUE=URI;X-ADDRESS=Teosofisk Forening København Sankt Knuds Vej 27A Frederiksberg C København 1903 Danmark;X-APPLE-RADIUS=500;X-TITLE=Sankt Knuds Vej 27A:geo:12.549129,55.677929
END:VEVENT
BEGIN:VEVENT
DTSTART;TZID=Europe/Copenhagen:20260323T180000
DTEND;TZID=Europe/Copenhagen:20260323T203000
DTSTAMP:20260423T142711
CREATED:20260107T211237Z
LAST-MODIFIED:20260107T211733Z
UID:10002402-1774288800-1774297800@teosofiskforening.dk
SUMMARY:SPIRITUEL FORÅRSJÆVNDØGN ved Den Indre Sol
DESCRIPTION:BEMÆRK\, DER ER 2 ARRANGEMENTER og TIDSPUNKTER:\nForårsjævndøgnsceremoni\nMeditativ Cirkeldans\, Fri dans\, Forårssang og Kanaliseringsmeditation \n Tidspunkt: kl. 18-18.45 – Entré: 25 kr. \nForårsjævndøgnsmeditation\nÅndedrætsmeditation\, Meditativ Cirkeldans\, Fri dans\, Forårssang og Jordhealingsmeditation \n Tidspunkt: kl. 19-20.30 – Entré: 25 kr. \n  \n  \n  \nDen Åndelige Begivenhed ved Forårsjævndøgn \nKom og vær med til at fejre forårets komme! \nKom og vær med til at lave lysarbejde i Forårets Kærlighedsstrøm \n Ved jævndøgn og solhverv er der nogle særligt stærke kosmiske indstrømninger på Jorden\, som gør det særligt gavnligt for Lysarbejdere at meditere på disse tidspunkter. \n  \nVed Forårsjævndøgn lader Moder Guds sin Feminine kærlighedsstrøm strømme særligt aktivt ind i Jorden\, for at give kærlighed og omsorg til Jorden så Jordens mange gaver får næring til at vokse og folde sig ud som træer\, buske\, blomster og planter. Dette indre energiarbejde foregår i tæt samarbejde med deva- og engleriget og alferiget med de mange alfer\, feer og naturånder. Dette giver Jorden og alt levende på Jorden en særlig mulighed for at gennemgå en ny og dybdegående udviklingsproces\, der skaber plads til en endnu dybere integration med Den Guddommelige Kærlighedsstrøm. \nUd over dette lader Forårets Solengel sin kærlighed strømme ind i Jorden\, hvilket virker hele foråret igennem indtil Sommersolhverv. \n  \n \nZiadria og Michael \nFor nærmere oplysning kontakt:\nHjertehealingshuset Den Indre Sol\nCentret for Ny Tids Lysarbejde v/Ziadria og Michael \nSkovvej 17 A\, 4291 Ruds Vedby – Tlf: 61 33 05 08 – Mail: denindresol@gmail.com\nwww.facebook.com/denindresol \n  \nSted: Teosofisk Forening\, Sankt Knuds Vej 27 A\, 1903 Frederiksberg \nVi glæder os til at fejre forårsjævndøgn sammen med dig/jer! \n Ingen tilmelding – bare kom – alle er velkomne! \nID: 260323DISffnTFK \n 
URL:https://teosofiskforening.dk/begivenhed/spirituel-foraarsjaevndoegn-ved-den-indre-sol/
LOCATION:Teosofisk Forening København\, Sankt Knuds Vej 27A\, Frederiksberg C\, København\, 1903\, Danmark
CATEGORIES:Lukket gruppe,Meditation,Tirsdagsforedrag
ATTACH;FMTTYPE=image/jpeg:https://teosofiskforening.dk/wp-content/uploads/2025/02/2025.03.21-Foraarsjaevndoegn-illustration-320x214-1.jpg
GEO:55.677929;12.549129
X-APPLE-STRUCTURED-LOCATION;VALUE=URI;X-ADDRESS=Teosofisk Forening København Sankt Knuds Vej 27A Frederiksberg C København 1903 Danmark;X-APPLE-RADIUS=500;X-TITLE=Sankt Knuds Vej 27A:geo:12.549129,55.677929
END:VEVENT
BEGIN:VEVENT
DTSTART;TZID=Europe/Copenhagen:20260324T190000
DTEND;TZID=Europe/Copenhagen:20260324T213000
DTSTAMP:20260423T142711
CREATED:20260110T150742Z
LAST-MODIFIED:20260312T181659Z
UID:10002409-1774378800-1774387800@teosofiskforening.dk
SUMMARY:det er IKKE aflyst trods valg - Goethe: Digter\, statsmand og skaber af et nyt natursyn - foredrag v/ Steen Hvass Ingwersen
DESCRIPTION:Den tyske digter Goethe er for mange indbegrebet af tysk åndsliv. Han havde en magisk virkning på sin samtid og blev kendt og feteret over hele Europa. Mindre kendt er hans bidrag til naturvidenskaben\, ifølge ham selv det ypperste i hans produktion. Denne aften ser vi på mennesket\, digteren\, statsmanden og videnskabsmanden\, som forandrede verden og lagde kimen til en spirituel forståelse af naturen. \nJohan Wolfgang von Goethe (1749-1832) står som et fyrtårn i tysk åndsliv: ingen over og ingen ved siden af Goethe. Han er mest kendt for sit litterære værk\, herunder Den unge Werthers lidelser\, romaner om Wilhelm Meister og teaterstykket Faust\, som stadig opføres. Hans omfattende produktion udgør endnu i dag et skatkammer i tysk litteratur. Men Goethe var selv mest stolt af sit videnskabelige arbejde\, især hans undersøgelser af planternes og farvernes verden\, som er mindre kendte i eftertiden. I modsætning til Newton og hans efterfølgere i moderne videnskab forsøgte Goethe at undgå spekulative forklaringer\, som ikke kunne bevises. Han holdt sig konsekvent på sikker grund – langt fra hypoteser og antagelser\, og det bragte ham frem til en række overraskende fund. \nPå denne Goethe-aften vil vi høre om hans liv som menneske\, digter\, statsmand og videnskabsmand\, og vi vil se på nogle af hans videnskabelige opdagelser og hans særlige metode til forståelse af naturen. Vi stiller spørgsmålet\, om vi kan se hans tilgang som impuls til en ny tids videnskab? \nPris: 100/140 kr. for medlemmer/gæster.\nBetaling: Beløbet betales ved indgangen. \n \nForedragsholder:\nSteen Hvass Ingwersen \n  \n  \n  \n  \n#goethe \nID: 260324SINffnTFK
URL:https://teosofiskforening.dk/begivenhed/goethe-digter-statsmand-og-skaber-af-et-nyt-natursyn-foredrag-v-steen-hvass-ingwersen/
LOCATION:Teosofisk Forening København\, Sankt Knuds Vej 27A\, Frederiksberg C\, København\, 1903\, Danmark
CATEGORIES:Tirsdagsforedrag
ATTACH;FMTTYPE=image/jpeg:https://teosofiskforening.dk/wp-content/uploads/2026/01/2026.03.24-Steen-Ingwersen-illustration-320x214-1.jpg
GEO:55.677929;12.549129
X-APPLE-STRUCTURED-LOCATION;VALUE=URI;X-ADDRESS=Teosofisk Forening København Sankt Knuds Vej 27A Frederiksberg C København 1903 Danmark;X-APPLE-RADIUS=500;X-TITLE=Sankt Knuds Vej 27A:geo:12.549129,55.677929
END:VEVENT
BEGIN:VEVENT
DTSTART;TZID=Europe/Copenhagen:20260331T190000
DTEND;TZID=Europe/Copenhagen:20260331T213000
DTSTAMP:20260423T142711
CREATED:20260110T151810Z
LAST-MODIFIED:20260224T231827Z
UID:10002410-1774983600-1774992600@teosofiskforening.dk
SUMMARY:Logos-inspired Movement – et oplæg til samtale og refleksion - foredrag v/ Morten Klinkvort
DESCRIPTION:Kroppen er vores primære sociale medie. Vi kommer åbne til verden med få reflekser og instinkter – modsat dyret. Alle færdigheder tilegner vi gennem vores egen aktivitet. Og muliggør dermed senere sjælelig og åndelig progression. En rejse gennem evolutionen går fra spædbarnets vandrette rygsøjle til menneskets oprejste kropsstilling. ’Jeg står unikt og oprejst i den 3-dimensionelle verden’. Begriber\, taler\, tænker. Logoskræfter virker i mig – Eurytmia Sophia \n  \nHvordan kan Logoskræfterne værnes\, stimuleres og optimeres igennem livet? \nDette undersøges og belyses gennem sanse- og neurofysiologisk forskning omfattende den evolutionære udvikling fra fisk-krybdyr-pattedyr til homo sapiens. Vi vil anvende embodyment\, et nyere koncept inden for psykologi og kropsterapi\, samt eurytmi\, der udvikledes omkring Rudolf Steiner. Eurytmien praktiseres som spirituel-praktisk kunst og som værktøj til samfunds-\, lærings- og kulturfornyende aktiviteter. \nMålene med inspireret bevægelse og eurytmi er at højne og skole sig selv kropsligt og æterisk i samspil med de højere væsensled – dels for den individuelle vej gennem livet dels som værktøj og forståelse til dynamisk udadvendt virke i verden. \nEnkelte øvelser af undersøgende\, meditativ art indgår naturligt i oplægget. \nPris: 100/140 kr. for medlemmer/gæster.\nBetaling: Beløbet betales ved indgangen. \nForedragsholderen: \nMorten Klinkvort er eurytmi-uddannet i Sverige og i Schweiz i 90érne. Desuden er han uddannet kraniosakral terapeut samt har en ledelsesuddannelse med Teori-U. Han har udviklet konceptet NorthLightVisions – Mindful Gardening&Societies. Han driver bevægelsesuddannelsen Flow&U ved IIM – Institute for Inspired Movement\, CPH. \nhttps://www.instagram.com/i.i.m_eurytmi_cph/ \n  \n  \n\n#eurytmi \nID: 260331MKLffnTFK
URL:https://teosofiskforening.dk/begivenhed/logos-inspired-movement-et-oplaeg-til-samtale-og-refleksion-foredrag-v-morten-klinkvort/
LOCATION:Teosofisk Forening København\, Sankt Knuds Vej 27A\, Frederiksberg C\, København\, 1903\, Danmark
CATEGORIES:Tirsdagsforedrag
ATTACH;FMTTYPE=image/png:https://teosofiskforening.dk/wp-content/uploads/2026/01/2026.03.31-Morten-Klinkvort-Illustration.png
GEO:55.677929;12.549129
X-APPLE-STRUCTURED-LOCATION;VALUE=URI;X-ADDRESS=Teosofisk Forening København Sankt Knuds Vej 27A Frederiksberg C København 1903 Danmark;X-APPLE-RADIUS=500;X-TITLE=Sankt Knuds Vej 27A:geo:12.549129,55.677929
END:VEVENT
END:VCALENDAR