BEGIN:VCALENDAR
VERSION:2.0
PRODID:-//Teosofisk Forening København - ECPv6.15.20//NONSGML v1.0//EN
CALSCALE:GREGORIAN
METHOD:PUBLISH
X-WR-CALNAME:Teosofisk Forening København
X-ORIGINAL-URL:https://teosofiskforening.dk
X-WR-CALDESC:Begivenheder for Teosofisk Forening København
REFRESH-INTERVAL;VALUE=DURATION:PT1H
X-Robots-Tag:noindex
X-PUBLISHED-TTL:PT1H
BEGIN:VTIMEZONE
TZID:Europe/Copenhagen
BEGIN:DAYLIGHT
TZOFFSETFROM:+0100
TZOFFSETTO:+0200
TZNAME:CEST
DTSTART:20250330T010000
END:DAYLIGHT
BEGIN:STANDARD
TZOFFSETFROM:+0200
TZOFFSETTO:+0100
TZNAME:CET
DTSTART:20251026T010000
END:STANDARD
BEGIN:DAYLIGHT
TZOFFSETFROM:+0100
TZOFFSETTO:+0200
TZNAME:CEST
DTSTART:20260329T010000
END:DAYLIGHT
BEGIN:STANDARD
TZOFFSETFROM:+0200
TZOFFSETTO:+0100
TZNAME:CET
DTSTART:20261025T010000
END:STANDARD
BEGIN:DAYLIGHT
TZOFFSETFROM:+0100
TZOFFSETTO:+0200
TZNAME:CEST
DTSTART:20270328T010000
END:DAYLIGHT
BEGIN:STANDARD
TZOFFSETFROM:+0200
TZOFFSETTO:+0100
TZNAME:CET
DTSTART:20271031T010000
END:STANDARD
END:VTIMEZONE
BEGIN:VEVENT
DTSTART;TZID=Europe/Copenhagen:20260203T190000
DTEND;TZID=Europe/Copenhagen:20260203T213000
DTSTAMP:20260424T034754
CREATED:20251222T224631Z
LAST-MODIFIED:20260130T100928Z
UID:10002353-1770145200-1770154200@teosofiskforening.dk
SUMMARY:Det modne maskuline i astrologien - når styrke bliver nærvær og ansvar\, ONLINE foredrag ved Johannes Lockwood
DESCRIPTION:Det maskuline i astrologien er ikke kun Mars og kamp. Det er også retning\, integritet\, ansvar og evnen til at handle uden at miste hjertet. Foredraget undersøger hvordan det modne maskuline kan genopstå som en levende arketype i astrologien og skabe mere plads til både mænd og kvinder\, der længes efter styrke med sjæl og kraft uden dominans. \n  \nDet maskuline har længe været reduceret til en stereotype\, både kulturelt og astrologisk. Mars bliver ofte tolket som kriger og konflikt\, men i sin modne form repræsenterer den en dyb tilstedeværelse\, indre struktur og en kraft\, der kan bruges til at beskytte\, skabe og bære ansvar uden hårdhed. \nI foredraget undersøger vi hvilken rolle det maskuline spiller i menneskers psyke\, i relationer og i den spirituelle udvikling\, og hvordan astrologien kan være med til at vække en ny og sund maskulin energi. Der er fokus på at balancere styrke med empati\, handlekraft med nærvær\, og på hvordan denne form for maskulinitet kan være en ressource for både mænd og kvinder i en tid hvor mange længes efter klarhed og retning. \nFormålet er ikke at prædike svar\, men at åbne et rum for refleksion\, erkendelse og modning. \n  \nPris: 100/140 kr. for medlemmer/gæster. \nBestil billet i god tid inden foredraget! – Se nederst.\nLinket findes på ordrebekræftelsen i mailen man modtager\, når bestillingen er gennemført. \n  \n \n  \n  \nJohannes Lockwood er astrolog og underviser med speciale i evolutionær astrologi\, psykologisk udvikling og moderne mandearketyper. Han arbejder i krydsfeltet mellem sjæl\, psykologi og samfund og er optaget af\, hvordan astrologien kan bruges til personlig modning og livspraksis. Johannes Lockwood´s undervisning er kendt for dybde\, mod og konkret anvendelighed. Stjernerne er det astrologiske fællesskab han driver\, hvor de arbejder på at gøre astrologi både dybt moderne og nærværende.\nFokus er på fællesskab læring og integritet et sted\, hvor astrologi får lov til at være både spirituel psykologisk og vedkommende. \n  \n  \n  \n  \n  \n#astrologi\nID: 260203JLOffnTFK \n  \n  \n\nBemærk at der kun kan betales med kort\, dvs. ikke med ApplePay\, GooglePay eller MobilePay. \n 
URL:https://teosofiskforening.dk/begivenhed/test-af-billetter-dec-2025-2/
LOCATION:Teosofisk Forening København\, Sankt Knuds Vej 27A\, Frederiksberg C\, København\, 1903\, Danmark
CATEGORIES:Tirsdagsforedrag
ATTACH;FMTTYPE=image/png:https://teosofiskforening.dk/wp-content/uploads/2025/12/2026.02.03-Johannes-Lockwood-Illustration-320x214-2.png
GEO:55.677929;12.549129
X-APPLE-STRUCTURED-LOCATION;VALUE=URI;X-ADDRESS=Teosofisk Forening København Sankt Knuds Vej 27A Frederiksberg C København 1903 Danmark;X-APPLE-RADIUS=500;X-TITLE=Sankt Knuds Vej 27A:geo:12.549129,55.677929
END:VEVENT
BEGIN:VEVENT
DTSTART;TZID=Europe/Copenhagen:20260209T180000
DTEND;TZID=Europe/Copenhagen:20260209T203000
DTSTAMP:20260424T034754
CREATED:20250630T165801Z
LAST-MODIFIED:20250630T212405Z
UID:10002287-1770660000-1770669000@teosofiskforening.dk
SUMMARY:DEN FEMININE GRAL - I MODERGUDINDENS HJERTE ved Den Indre Sol
DESCRIPTION:Inden meditationen er der Holistisk Motion ved den Indre Sol: Qi gong og åndedræt og lyd på chakraerne kl. 17-17.45. Betaling: 25 kr. Se nærmere beskrivelse: link  \n  \nDen Feminine Hjertegral/Den Feminine kærlighedsstrøm \nForedrag\, dans\, sang\, meditation\, healing og hjertecirkel \n12 mandage kl. 18-20.30  \nFå en dybere forståelse af Det Feminine Hierarki\, og lær hvordan du kan samarbejde med Gralsgudinden fra Avalon og De Feminine Mestre. \n\nVær med til at lave lysarbejde i Den Feminine Kærlighedsstrøm og bliv en del af Den Feminine Hjertegralscirkel (rejse til Glastonbury i pinsen 2025).\nVær med til at styrke Den Feminine Kærlighedsstrøm på Jorden\, og bliv forenet med Den Feminine kærlighed herigennem.\nModtag healing og inspiration fra Gralsgudinden/Solenglen fra Avalon og De Feminine Mestre\, og bliv integreret med Den Feminine Kærlighedsstrøm.\n\nBevidst lysarbejde for Jorden og for dig selv – Kom og vær med til at styrke Den feminine kærlighedsstrøm på Jorden – og vær med til at lave en lysindstrømning i Teosofisk Forening. \n  \nEntré: 100 kr. – Ingen tilmelding – bare kom! \n  \nPROGRAM \nMandag den 28/4 2025 kl. 18 – 20.30:\n1. stråle – Gralsgudinden fa Avalon og Lady Miriam Åben dig for Gralsgudinden – Solenglen fra Avalon – og Den Keltiske Modergudinde og Den Feminine Mester Lady Miriam.\nBliv forenet med Den Feminine Kraft og vilje. \nMandag den 19/5 2025 kl. 18-20.30:\n2. stråle – Gralsgudinden fra Avalon og Lady Debra. Åben dig for Gralsgudinden – Solenglen fra Avalon – og Den Keltiske Modergudinde og Den Feminine Mester Lady Debra.\nBliv forenet med hendes medfølende og uselviske kærlighed. \nMandag den 16/6 2025 kl. 18-20.30:\n3. stråle – Gralsgudinden fra Avalon og Lady Rowena. Åben dig for Gralsgudinden – Solenglen fra Avalon – og Den Keltiske Modergudinde og Den Feminine Mester Lady Rowena.\nBliv forenet med hendes kreative og skabende kærlighed. \nMandag den 14/7 2025 kl. 18-20.30:\n4. stråle – Gralsgudinden Avalon og Lady Celeste. Åben dig for Gralsgudinde – Solenglen fra Avalon og Den Keltiske Modergudinde og Den Feminine Mester Lady Celeste/ White Buffalo Woman.\nBliv forenet med hendes dybe kærlighed til Jorden. \nMandag den 4/8 2025 kl. 18-20.30:\n5. stråle – Gralsgudinden fra Avalon og Lady Rochelle. Åben dig for Gralsgudinden – Solenglen fra Avalon og Den Keltiske Modergudinde og Den Feminine Mester Lady Rochelle/Bridget.\nBliv forenet med hendes sande\, rensende og healende kærlighed. \nMandag den 15/9 2025 kl. 18-20.30:\n6. stråle – Gralsgudinden fra Avalon og Maria Magdalene. Åben dig for Gralsgudinden – Solenglen fra Avalon og Den Keltiske Modergudinde og Den Feminine Mester Maria Magdalene.\nBliv forenet med hendes dybe og hengivende kærlighed. \nMandag den 13/10 2025 kl. 18-20.30:\n7. stråle – Gralsgudinden fra Avalon og Lady Portia. Åben dig for Gralsgudinden – Solenglen fra Avalon og Den Keltiske Modergudinde og Den Feminine Mester Lady Portia.\nBliv forenet med hendes rensende\, forvandlende og helliggørende kærlighed. \nMandag den 10/11 2025 kl. 18-20.30:\n8. stråle – Gralsgudinden fra Avalon og Lady Nada. Åben dig for Gralsgudinden – Solenglen fra Avalon og Den Keltiske Modergudinde og Den Feminine Mester Lady Nada.\nBliv forenet med hendes ubetingede kærlighed og Marias medfølende kærlighed. \nMandag den 8/12 2025 kl. 18-20.30:\n9. stråle -Gralsgudinden fra Avalon og Lady Athene. Åben dig for Gralsgudinden – Solenglen fra Avalon og Den Keltiske Modergudinde og Den Feminine Mester Lady Athene.\nBliv forenet med hendes frigørende kærlighed. \nMandag den 12/1 2026 kl. 18-20.30:\n10. stråle – Gralsgudinden fra Avalon og Kwan Yin. Åben dig for Gralsgudinden – Solenglen fra Avalon og Den Keltiske Modergudinde og Den Feminine Mester Kwan Yin.\nBliv forenet med hendes medfølende kærlighed og hendes dybe visdom. \nMandag den 9/2 2026 kl. 18-20.30:\n11. stråle – Gralsgudinden fra Avalon og Isis. Åben dig for Gralsgudinden – Solenglen fra Avalon og Den Keltiske Modergudinde og Den Feminine Mester Isis.\nLad hendes kærlighed gøre dit hjerte til en åben lotusblomst. \nMandag den 9/3 2026 kl. 18-20.30:\n12. stråle–Gralsgudinden fra Avalon/Den Store Modergudinde. Åben dig for Gralsgudinden – Solenglen fra Avalon – Den Keltiske Modergudinde.\nLad hendes kærlighed gøre dit hjerte til en modtagende kærlighedsgral. \n  \n \nDen Indre Sol: Ziadria og Michael \nEmail: denindresol@gmail.com\ntlf. 61330508\nwww.facebook.com/denindresol \n  \n  \n 
URL:https://teosofiskforening.dk/begivenhed/den-feminine-gral-i-modergudindens-hjerte-ved-den-indre-sol-2/2026-02-09/
LOCATION:Teosofisk Forening København\, Sankt Knuds Vej 27A\, Frederiksberg C\, København\, 1903\, Danmark
CATEGORIES:Lukket gruppe,Tirsdagsforedrag
ATTACH;FMTTYPE=image/jpeg:https://teosofiskforening.dk/wp-content/uploads/2024/06/2023.04.14-DEN-INDRE-SOL-320x214-1.jpg
GEO:55.677929;12.549129
X-APPLE-STRUCTURED-LOCATION;VALUE=URI;X-ADDRESS=Teosofisk Forening København Sankt Knuds Vej 27A Frederiksberg C København 1903 Danmark;X-APPLE-RADIUS=500;X-TITLE=Sankt Knuds Vej 27A:geo:12.549129,55.677929
END:VEVENT
BEGIN:VEVENT
DTSTART;TZID=Europe/Copenhagen:20260210T190000
DTEND;TZID=Europe/Copenhagen:20260210T213000
DTSTAMP:20260424T034754
CREATED:20251211T142936Z
LAST-MODIFIED:20260110T160757Z
UID:10002352-1770750000-1770759000@teosofiskforening.dk
SUMMARY:Astrologi og Teosofi: En Rejse i Essensen - foredrag v/Kim Pedersen
DESCRIPTION:Hvordan Forener vi Åndsvidenskab og Kosmisk Viden i Esoterisk Astrologi? \nDeltag i en aften\, der udforsker det esoteriske grundlag for vores eksistens og viser dig\, hvordan de nyeste trends inden for astrologi og kosmisk viden kan berige din forståelse af dig selv. \nEsoterisk Astrologi. Dette begreb har sine dybe rødder i Teosofi og Åndsvidenskab – systemer\, der giver os nøglen til at forstå livet\, sjælen og kosmos’ opbygning. \nVi tager på en inspirerende rejse ind i Teosofiens grundprincipper\, og vi undersøger\, hvordan denne ældgamle visdom kan oplyse vores forståelse af himmellegemernes bevægelser. \nVi dykker ned i de fundamentale teosofiske begreber og skaber en bro til den astrologiske praksis: \n  \nTeosofiens Nøgler til Astrologien \n· Strålerne: Hvordan de syv kosmiske stråler manifesterer sig som energi og påvirker personligheden og sjælens formål. \n· De Syv Planer: Forståelse af de forskellige eksistensniveauer – fra det fysiske til det åndelige – og hvordan planeternes energier påvirker os på hver enkelt plan. \n· Chakraerne: Hvordan teosofien beskriver vores energicentre\, og hvilken rolle de spiller i at omsætte de astrologiske energier i vores daglige liv. \n· Human Design: Dette system introducerer et sekundært horoskop\, som beregnes 88 døgn før vores fødselshoroskop \nEfter foredraget vil det være muligt at tale med Kim Pedersen om det nye esoteriske astrologikursus-forløb.\n”Esoterisk astrologi for en ny tid”.  Start 7. og 8. marts 2026 max. 17 deltagere. \n  \nPris: 100/140 kr. for medlemmer/gæster.\nBetaling: Beløbet betales ved indgangen. \n  \nKim Pedersen er en blændende foredragsholder og har arbejdet som medie i 25 år. Han har beskæftiget sig med en bred vifte af åndsvidenskabelige områder\, oprettet astrologiskolen Attitude Astrologi og Kabbalah skolen Qibel samt Meditation for Esoterisk Norden.\nSe nærmere på hjemmesiden: www.bkimpedersen.dk \n  \n  \n  \n\n#astrologi \nID: 260210BKPffnTFK
URL:https://teosofiskforening.dk/begivenhed/astrologi-og-teosofi-en-rejse-i-essensen-foredrag-v-kim-pedersen/
LOCATION:Teosofisk Forening København\, Sankt Knuds Vej 27A\, Frederiksberg C\, København\, 1903\, Danmark
CATEGORIES:Tirsdagsforedrag
ATTACH;FMTTYPE=image/jpeg:https://teosofiskforening.dk/wp-content/uploads/2025/12/2026.02.10-Kim-Pedersen-Illustration-320x214-1.jpg
GEO:55.677929;12.549129
X-APPLE-STRUCTURED-LOCATION;VALUE=URI;X-ADDRESS=Teosofisk Forening København Sankt Knuds Vej 27A Frederiksberg C København 1903 Danmark;X-APPLE-RADIUS=500;X-TITLE=Sankt Knuds Vej 27A:geo:12.549129,55.677929
END:VEVENT
BEGIN:VEVENT
DTSTART;TZID=Europe/Copenhagen:20260217T190000
DTEND;TZID=Europe/Copenhagen:20260217T203000
DTSTAMP:20260424T034754
CREATED:20251228T225509Z
LAST-MODIFIED:20260110T162328Z
UID:10002359-1771354800-1771360200@teosofiskforening.dk
SUMMARY:Inspirationsaften: VÆRDIFYLDT ÅNDEDRÆT
DESCRIPTION:Teosofisk Forening inviterer i foråret 2026 alle interesserede til 4 uformelle inspirationsaftener – kl. 19.00 til 20.30\, bortset fra 17/3 hvor vi slutter kl. 21.\n  \nVÆRDIFYLDT ÅNDEDRÆT \nBevidst åndedræt har været kendt i flere tusinde år og været praktiseret indenfor mange forskellige kulturer og retninger. Ved at arbejde målrettet med vores vejrtrækning skaffer vi mere ilt til alle vores celler\, så det er generelt meget givende for vores helhed at arbejde med at forbedre vores åndedræt. \nVi vil i aften arbejde med forskellige velafprøvede øvelser –f.eks fra yoga\, HeartMath og Mazdaznan. \nFacilitator: Hanne Thorhauge. \n  \nPris: Kr. 50/70 for medlemmer/gæster. \nBetaling: Beløbet betales ved indgangen. \nPrisen inkluderer en kort te/kaffepause. \n  \nID: 260217HTHinsTFK \n 
URL:https://teosofiskforening.dk/begivenhed/inspirationsaften-vaerdifyldt-aandedraet/
LOCATION:Teosofisk Forening København\, Sankt Knuds Vej 27A\, Frederiksberg C\, København\, 1903\, Danmark
CATEGORIES:Tirsdagsforedrag
ATTACH;FMTTYPE=image/jpeg:https://teosofiskforening.dk/wp-content/uploads/2026/01/inspirationsaften-320x214-1.jpg
GEO:55.677929;12.549129
X-APPLE-STRUCTURED-LOCATION;VALUE=URI;X-ADDRESS=Teosofisk Forening København Sankt Knuds Vej 27A Frederiksberg C København 1903 Danmark;X-APPLE-RADIUS=500;X-TITLE=Sankt Knuds Vej 27A:geo:12.549129,55.677929
END:VEVENT
BEGIN:VEVENT
DTSTART;TZID=Europe/Copenhagen:20260224T190000
DTEND;TZID=Europe/Copenhagen:20260224T213000
DTSTAMP:20260424T034754
CREATED:20251211T141737Z
LAST-MODIFIED:20260106T161008Z
UID:10002351-1771959600-1771968600@teosofiskforening.dk
SUMMARY:MESSIAS I DE ÅNDELIGE TRADITIONER - foredrag v/Marcus Myhr
DESCRIPTION:Jorden gennemgår en tid med globale kriser\, religiøse konflikter og den 6. store masseudryddelse. Meget tyder på\, at dette er udtryk for Jordens mørke nat\, en kosmisk indvielsesprøve i Jordens hjerte og i menneskehedens sjæl. \nI dette foredrag vil vi undersøge\, hvad de store religioner siger om det helt store spørgsmål: Vil den kommende Verdenslærer udtrykke sig indenfor eller udenfor en af de gængse religiøse systemer? Hvordan kan dette væsen forene de splittede traditioner\, kulturer og nationer på jorden? Hvornår vil han eller hun vende tilbage? \nOg lige så centralt vil vi undersøge\, hvad de åndelige traditioner siger om karakteren af ”Den\, der skal komme”. Vil han eller hun vise sig som fysisk inkarnation eller som en impuls i vores kollektive bevidsthed og hjerte? \nVil der komme en række forløbere for den kommende Verdenslærer? Mestre og indviede der baner vejen for en ny bevidsthed på Jorden – det vi kalder Hierarkiets Fremtræden på Jorden? Hvilke kriser\, prøvelser og forberedelser skal vi som mennesker gå igennem for at forberede vejen for den nye verdenslære? Og hvad er vores individuelle ansvar og rolle i denne proces? \nPris: 100/140 kr. for medlemmer/gæster.\nBetaling: Beløbet betales ved indgangen. \n  \nOm foredragsholderen:\nMarcus Myhr er religionshistoriker\, ID-Psykoterapeut\, esoterisk astrolog og healer. Han underviser på Lysarbejderuddannelsen og Solprogrammet på Den Gyldne Cirkel og har studeret teosofi siden 2001. \n  \n#åndsvidenskab \nID: 260226MAMffnTFK
URL:https://teosofiskforening.dk/begivenhed/messias-i-de-aandelige-traditioner-foredrag-v-marcus-myhr/
LOCATION:Teosofisk Forening København\, Sankt Knuds Vej 27A\, Frederiksberg C\, København\, 1903\, Danmark
CATEGORIES:Tirsdagsforedrag
ATTACH;FMTTYPE=image/jpeg:https://teosofiskforening.dk/wp-content/uploads/2025/12/2026.02.24-Marcus-Myhr-Portraet-og-Illustration-320x214-1.jpg
GEO:55.677929;12.549129
X-APPLE-STRUCTURED-LOCATION;VALUE=URI;X-ADDRESS=Teosofisk Forening København Sankt Knuds Vej 27A Frederiksberg C København 1903 Danmark;X-APPLE-RADIUS=500;X-TITLE=Sankt Knuds Vej 27A:geo:12.549129,55.677929
END:VEVENT
END:VCALENDAR