BEGIN:VCALENDAR
VERSION:2.0
PRODID:-//Teosofisk Forening København - ECPv6.15.20//NONSGML v1.0//EN
CALSCALE:GREGORIAN
METHOD:PUBLISH
X-ORIGINAL-URL:https://teosofiskforening.dk
X-WR-CALDESC:Begivenheder for Teosofisk Forening København
REFRESH-INTERVAL;VALUE=DURATION:PT1H
X-Robots-Tag:noindex
X-PUBLISHED-TTL:PT1H
BEGIN:VTIMEZONE
TZID:Europe/Copenhagen
BEGIN:DAYLIGHT
TZOFFSETFROM:+0100
TZOFFSETTO:+0200
TZNAME:CEST
DTSTART:20240331T010000
END:DAYLIGHT
BEGIN:STANDARD
TZOFFSETFROM:+0200
TZOFFSETTO:+0100
TZNAME:CET
DTSTART:20241027T010000
END:STANDARD
BEGIN:DAYLIGHT
TZOFFSETFROM:+0100
TZOFFSETTO:+0200
TZNAME:CEST
DTSTART:20250330T010000
END:DAYLIGHT
BEGIN:STANDARD
TZOFFSETFROM:+0200
TZOFFSETTO:+0100
TZNAME:CET
DTSTART:20251026T010000
END:STANDARD
BEGIN:DAYLIGHT
TZOFFSETFROM:+0100
TZOFFSETTO:+0200
TZNAME:CEST
DTSTART:20260329T010000
END:DAYLIGHT
BEGIN:STANDARD
TZOFFSETFROM:+0200
TZOFFSETTO:+0100
TZNAME:CET
DTSTART:20261025T010000
END:STANDARD
END:VTIMEZONE
BEGIN:VEVENT
DTSTART;TZID=Europe/Copenhagen:20251202T190000
DTEND;TZID=Europe/Copenhagen:20251202T213000
DTSTAMP:20260425T153126
CREATED:20250706T222944Z
LAST-MODIFIED:20251119T121529Z
UID:10002318-1764702000-1764711000@teosofiskforening.dk
SUMMARY:BEVIDSTHED - BEVIDSTHEDSUDVIKLING\, Onlineforedrag ved Nicolaj Pilgaard Petersen
DESCRIPTION:Bevidsthedens væsen kan opfattes som grundlaget for eksistentiel udvikling – trinvis bevægelse mod stadige højere indsigter og værdier. I foredraget ses på den danske filosof Søren Kierkegaards stadieteori\, den psykologiske ’Spiral Dynamics’-model\, samt – og her lægges hovedvægten – på den danske mystiker Martinus’ udviklingsforståelse.   \n\n\nSpørgsmålet om bevidstheden og dens væsen står som et af de væsentligste uafklarede spørgsmål i dag. Én opfattelse af bevidstheden har fokus på udviklingspotentialet: Den enkeltes bevidsthed – og dermed det enkelte menneske – udvikles gennem en række trin til stadige højere indsigter og værdier. I den danske filosof Søren Kierkegaards såkaldte stadieteori ligger sigtet på spørgsmålet om meningen med livet\, på at træde i eksistens som menneske. Med den psykologiske ’Spiral Dynamics’-model – beliggende et stykke fra mere traditionelle psykologiske opfattelser – udvides perspektivet\, idet denne præsenterer en beskrivelse af såvel den enkeltes som hele kulturers ændring i verdenssyn og værdier gennem en opadgående bevægelse over en række trin. Og med den danske mystiker Martinus’ udviklingsforståelse anlægges et endnu større perspektiv\, idet der for det enkelte menneske her er tale om ikke blot udvikling gennem et enkelt liv\, men om reinkarnation og fortsat udvikling gennem en lang række af på hinanden følgende livsforløb. \nSpørgsmålet om personlig\, eksistentiel forandring eller udvikling synes særdeles relevant for ethvert menneske\, og i foredraget ses således på Søren Kierkegaards stadieteori\, den psykologiske ’Spiral Dynamics’-model\, og – og her lægges hovedvægten – på den danske mystiker Martinus’ udviklingsforståelse.  \nPris: 90/120 kr. for medlemmer/gæster. \nBestil billet i god tid inden foredraget!\nLinket findes på ordrebekræftelsen i mailen man modtager\, når bestillingen er gennemført. \nTilmelding og Betaling – klik på Find billetter: \n\n \nLink til Guide: Bestil billet på Billetto \n  \n \n  \n  \n  \nNikolaj Pilgaard Petersen er ph.d. i filosofi og har formidlet bredt om filosofiske emner\, bl.a. i form af bøger\, foredrag og YouTube-videoer Særligt spørgsmålet om virkelighedens egentlige væsen er i fokus\, og ofte anlægges her en lidt utraditionel og alternativ vinkel. \n  \n  \n  \n  \n  \n#bevidsthed \nID: 251202NPEfonTFK
URL:https://teosofiskforening.dk/begivenhed/bevidsthed-bevidsthedsudvikling-onlineforedrag-ved-nicolaj-pilgaard-petersen/
LOCATION:Teosofisk Forening København\, Sankt Knuds Vej 27A\, Frederiksberg C\, København\, 1903\, Danmark
CATEGORIES:Tirsdagsforedrag
ATTACH;FMTTYPE=image/png:https://teosofiskforening.dk/wp-content/uploads/2025/07/2025.12.02-Nikolaj-Pilgaard-Petersen-illustration-320x214-1.png
GEO:55.677929;12.549129
X-APPLE-STRUCTURED-LOCATION;VALUE=URI;X-ADDRESS=Teosofisk Forening København Sankt Knuds Vej 27A Frederiksberg C København 1903 Danmark;X-APPLE-RADIUS=500;X-TITLE=Sankt Knuds Vej 27A:geo:12.549129,55.677929
END:VEVENT
BEGIN:VEVENT
DTSTART;TZID=Europe/Copenhagen:20251208T180000
DTEND;TZID=Europe/Copenhagen:20251208T203000
DTSTAMP:20260425T153126
CREATED:20250630T165801Z
LAST-MODIFIED:20250630T212405Z
UID:10002285-1765216800-1765225800@teosofiskforening.dk
SUMMARY:DEN FEMININE GRAL - I MODERGUDINDENS HJERTE ved Den Indre Sol
DESCRIPTION:Inden meditationen er der Holistisk Motion ved den Indre Sol: Qi gong og åndedræt og lyd på chakraerne kl. 17-17.45. Betaling: 25 kr. Se nærmere beskrivelse: link  \n  \nDen Feminine Hjertegral/Den Feminine kærlighedsstrøm \nForedrag\, dans\, sang\, meditation\, healing og hjertecirkel \n12 mandage kl. 18-20.30  \nFå en dybere forståelse af Det Feminine Hierarki\, og lær hvordan du kan samarbejde med Gralsgudinden fra Avalon og De Feminine Mestre. \n\nVær med til at lave lysarbejde i Den Feminine Kærlighedsstrøm og bliv en del af Den Feminine Hjertegralscirkel (rejse til Glastonbury i pinsen 2025).\nVær med til at styrke Den Feminine Kærlighedsstrøm på Jorden\, og bliv forenet med Den Feminine kærlighed herigennem.\nModtag healing og inspiration fra Gralsgudinden/Solenglen fra Avalon og De Feminine Mestre\, og bliv integreret med Den Feminine Kærlighedsstrøm.\n\nBevidst lysarbejde for Jorden og for dig selv – Kom og vær med til at styrke Den feminine kærlighedsstrøm på Jorden – og vær med til at lave en lysindstrømning i Teosofisk Forening. \n  \nEntré: 100 kr. – Ingen tilmelding – bare kom! \n  \nPROGRAM \nMandag den 28/4 2025 kl. 18 – 20.30:\n1. stråle – Gralsgudinden fa Avalon og Lady Miriam Åben dig for Gralsgudinden – Solenglen fra Avalon – og Den Keltiske Modergudinde og Den Feminine Mester Lady Miriam.\nBliv forenet med Den Feminine Kraft og vilje. \nMandag den 19/5 2025 kl. 18-20.30:\n2. stråle – Gralsgudinden fra Avalon og Lady Debra. Åben dig for Gralsgudinden – Solenglen fra Avalon – og Den Keltiske Modergudinde og Den Feminine Mester Lady Debra.\nBliv forenet med hendes medfølende og uselviske kærlighed. \nMandag den 16/6 2025 kl. 18-20.30:\n3. stråle – Gralsgudinden fra Avalon og Lady Rowena. Åben dig for Gralsgudinden – Solenglen fra Avalon – og Den Keltiske Modergudinde og Den Feminine Mester Lady Rowena.\nBliv forenet med hendes kreative og skabende kærlighed. \nMandag den 14/7 2025 kl. 18-20.30:\n4. stråle – Gralsgudinden Avalon og Lady Celeste. Åben dig for Gralsgudinde – Solenglen fra Avalon og Den Keltiske Modergudinde og Den Feminine Mester Lady Celeste/ White Buffalo Woman.\nBliv forenet med hendes dybe kærlighed til Jorden. \nMandag den 4/8 2025 kl. 18-20.30:\n5. stråle – Gralsgudinden fra Avalon og Lady Rochelle. Åben dig for Gralsgudinden – Solenglen fra Avalon og Den Keltiske Modergudinde og Den Feminine Mester Lady Rochelle/Bridget.\nBliv forenet med hendes sande\, rensende og healende kærlighed. \nMandag den 15/9 2025 kl. 18-20.30:\n6. stråle – Gralsgudinden fra Avalon og Maria Magdalene. Åben dig for Gralsgudinden – Solenglen fra Avalon og Den Keltiske Modergudinde og Den Feminine Mester Maria Magdalene.\nBliv forenet med hendes dybe og hengivende kærlighed. \nMandag den 13/10 2025 kl. 18-20.30:\n7. stråle – Gralsgudinden fra Avalon og Lady Portia. Åben dig for Gralsgudinden – Solenglen fra Avalon og Den Keltiske Modergudinde og Den Feminine Mester Lady Portia.\nBliv forenet med hendes rensende\, forvandlende og helliggørende kærlighed. \nMandag den 10/11 2025 kl. 18-20.30:\n8. stråle – Gralsgudinden fra Avalon og Lady Nada. Åben dig for Gralsgudinden – Solenglen fra Avalon og Den Keltiske Modergudinde og Den Feminine Mester Lady Nada.\nBliv forenet med hendes ubetingede kærlighed og Marias medfølende kærlighed. \nMandag den 8/12 2025 kl. 18-20.30:\n9. stråle -Gralsgudinden fra Avalon og Lady Athene. Åben dig for Gralsgudinden – Solenglen fra Avalon og Den Keltiske Modergudinde og Den Feminine Mester Lady Athene.\nBliv forenet med hendes frigørende kærlighed. \nMandag den 12/1 2026 kl. 18-20.30:\n10. stråle – Gralsgudinden fra Avalon og Kwan Yin. Åben dig for Gralsgudinden – Solenglen fra Avalon og Den Keltiske Modergudinde og Den Feminine Mester Kwan Yin.\nBliv forenet med hendes medfølende kærlighed og hendes dybe visdom. \nMandag den 9/2 2026 kl. 18-20.30:\n11. stråle – Gralsgudinden fra Avalon og Isis. Åben dig for Gralsgudinden – Solenglen fra Avalon og Den Keltiske Modergudinde og Den Feminine Mester Isis.\nLad hendes kærlighed gøre dit hjerte til en åben lotusblomst. \nMandag den 9/3 2026 kl. 18-20.30:\n12. stråle–Gralsgudinden fra Avalon/Den Store Modergudinde. Åben dig for Gralsgudinden – Solenglen fra Avalon – Den Keltiske Modergudinde.\nLad hendes kærlighed gøre dit hjerte til en modtagende kærlighedsgral. \n  \n \nDen Indre Sol: Ziadria og Michael \nEmail: denindresol@gmail.com\ntlf. 61330508\nwww.facebook.com/denindresol \n  \n  \n 
URL:https://teosofiskforening.dk/begivenhed/den-feminine-gral-i-modergudindens-hjerte-ved-den-indre-sol-2/2025-12-08/
LOCATION:Teosofisk Forening København\, Sankt Knuds Vej 27A\, Frederiksberg C\, København\, 1903\, Danmark
CATEGORIES:Lukket gruppe,Tirsdagsforedrag
ATTACH;FMTTYPE=image/jpeg:https://teosofiskforening.dk/wp-content/uploads/2024/06/2023.04.14-DEN-INDRE-SOL-320x214-1.jpg
GEO:55.677929;12.549129
X-APPLE-STRUCTURED-LOCATION;VALUE=URI;X-ADDRESS=Teosofisk Forening København Sankt Knuds Vej 27A Frederiksberg C København 1903 Danmark;X-APPLE-RADIUS=500;X-TITLE=Sankt Knuds Vej 27A:geo:12.549129,55.677929
END:VEVENT
BEGIN:VEVENT
DTSTART;TZID=Europe/Copenhagen:20251209T190000
DTEND;TZID=Europe/Copenhagen:20251209T213000
DTSTAMP:20260425T153126
CREATED:20250718T211738Z
LAST-MODIFIED:20251129T081614Z
UID:10002324-1765306800-1765315800@teosofiskforening.dk
SUMMARY:ASTROLOGI SOM LIVSVEJLEDER\, foredrag ved Benthe Ploug
DESCRIPTION:Hver af vores livsperioder har deres egen betydning og deres egne opgaver.\nDenne aften ser vi på skæbneplaneten Saturns indvirkning på vores fortid og fremtid.\nVed at se på Saturns cyklus kan man undersøge\, hvilke indre udviklingsveje og hvilke ydre livsopgaver vi står overfor.\nDu skal være plus 28 år for at få det bedste udbytte.\nNB! Du behøver ikke kunne tolke et horoskop for at deltage. \n  \nDu behøver ikke at kunne tolke et horoskop for at deltage\, men du skal være plus 28 år for at få det bedste udbytte\, da vi efter den alder ofte oplever\, at ”ungdomstiden er forbi og livets alvor begynder”. Det er især derefter\, hvor spørgsmål som: hvad er livets mening\, hvad er meningen med mit liv\, hvordan kan jeg skabe det bedst tænkelige liv\, hvad er mit højere formål\, skal jeg ændre mit liv nu – presser sig på. \nVi vil sammen undersøge Saturns 7-års perioder og forhåbentlig blive klogere på\, hvordan vi kan fremme de livsomstændigheder der kan være til størst glæde\, vækst og udvikling.  \n  \nPris: 90/120 kr. for medlemmer/gæster.\nBetaling: Beløbet betales ved indgangen. \n\n  \n \n  \nBenthe Ploug\, uddannet som yoga- og meditationslærer og psykoanalytiker i London. Har praktiseret som sådan i over 40 år.\nJeg har rejst meget rundt i verden\, blandt andet deltaget i uddannelses- og undervisnings forløb i Auroville i Indien\, Damanhur i Italien\, Esalen instituttet i USA\, Findhorn i Skotland\, m.v.\nHar studeret såvel Vedisk astrologi som vesterlandsk astrologi. \n  \n  \n#astrologi \nID: 251209BPLffnTFK \n 
URL:https://teosofiskforening.dk/begivenhed/astrologi-som-livsvejleder-foredrag-ved-benthe-ploug/
LOCATION:Teosofisk Forening København\, Sankt Knuds Vej 27A\, Frederiksberg C\, København\, 1903\, Danmark
CATEGORIES:Tirsdagsforedrag
ATTACH;FMTTYPE=image/png:https://teosofiskforening.dk/wp-content/uploads/2025/07/2025.12.09-Benthe-Ploug-Illustration-og-Portraet-320x214-1.png
GEO:55.677929;12.549129
X-APPLE-STRUCTURED-LOCATION;VALUE=URI;X-ADDRESS=Teosofisk Forening København Sankt Knuds Vej 27A Frederiksberg C København 1903 Danmark;X-APPLE-RADIUS=500;X-TITLE=Sankt Knuds Vej 27A:geo:12.549129,55.677929
END:VEVENT
BEGIN:VEVENT
DTSTART;TZID=Europe/Copenhagen:20251216T190000
DTEND;TZID=Europe/Copenhagen:20251216T213000
DTSTAMP:20260425T153126
CREATED:20251026T205213Z
LAST-MODIFIED:20251101T222536Z
UID:10002340-1765911600-1765920600@teosofiskforening.dk
SUMMARY:JULEHYGGE MED FORTÆLLING OG JULESANGE ved Benthe Ploug
DESCRIPTION:Juletiden er symbol for ånd og fællesskab. \n  \nLad os mødes denne aften i et åndeligt fællesskab med sang\, musik\, oplæsning og meningsfulde samtaler om denne højtid. \nBenthe vil fortælle juleeventyr. \nOg vi vil synge julesange og meditere. \nIgen i år vil Cathrine Nordseth deltage. Hun kommer med sin guitar og inviterer os alle med ind i sangene og får os til at synge med på klangene.\nCathrine er musikterapeut og rejser rundt i landet med sit musikalske nummer: Rejse med de 5 Elementer. \nDet koster ikke noget\, men du er velkommen til at medbring juleknas eller frugt til fælles glæde. \nDu er også velkommen til at fortælle om en speciel juleoplevelse\,  du har haft\, \nOg  du er også hjertelig velkommen til blot at møde op og være med til at skabe en glædesfyldt aften. \n  \n\nBare mød op. Alle er velkomne. \n  \n  \nID: 251216BPLffnTFK \n 
URL:https://teosofiskforening.dk/begivenhed/julehygge-med-fortaelling-og-julesange-ved-benthe-ploug-3/
LOCATION:Teosofisk Forening København\, Sankt Knuds Vej 27A\, Frederiksberg C\, København\, 1903\, Danmark
CATEGORIES:Tirsdagsforedrag
ATTACH;FMTTYPE=image/png:https://teosofiskforening.dk/wp-content/uploads/2018/07/julehygge.png
GEO:55.677929;12.549129
X-APPLE-STRUCTURED-LOCATION;VALUE=URI;X-ADDRESS=Teosofisk Forening København Sankt Knuds Vej 27A Frederiksberg C København 1903 Danmark;X-APPLE-RADIUS=500;X-TITLE=Sankt Knuds Vej 27A:geo:12.549129,55.677929
END:VEVENT
END:VCALENDAR