BEGIN:VCALENDAR
VERSION:2.0
PRODID:-//Teosofisk Forening København - ECPv6.15.20//NONSGML v1.0//EN
CALSCALE:GREGORIAN
METHOD:PUBLISH
X-WR-CALNAME:Teosofisk Forening København
X-ORIGINAL-URL:https://teosofiskforening.dk
X-WR-CALDESC:Begivenheder for Teosofisk Forening København
REFRESH-INTERVAL;VALUE=DURATION:PT1H
X-Robots-Tag:noindex
X-PUBLISHED-TTL:PT1H
BEGIN:VTIMEZONE
TZID:Europe/Copenhagen
BEGIN:DAYLIGHT
TZOFFSETFROM:+0100
TZOFFSETTO:+0200
TZNAME:CEST
DTSTART:20250330T010000
END:DAYLIGHT
BEGIN:STANDARD
TZOFFSETFROM:+0200
TZOFFSETTO:+0100
TZNAME:CET
DTSTART:20251026T010000
END:STANDARD
BEGIN:DAYLIGHT
TZOFFSETFROM:+0100
TZOFFSETTO:+0200
TZNAME:CEST
DTSTART:20260329T010000
END:DAYLIGHT
BEGIN:STANDARD
TZOFFSETFROM:+0200
TZOFFSETTO:+0100
TZNAME:CET
DTSTART:20261025T010000
END:STANDARD
BEGIN:DAYLIGHT
TZOFFSETFROM:+0100
TZOFFSETTO:+0200
TZNAME:CEST
DTSTART:20270328T010000
END:DAYLIGHT
BEGIN:STANDARD
TZOFFSETFROM:+0200
TZOFFSETTO:+0100
TZNAME:CET
DTSTART:20271031T010000
END:STANDARD
END:VTIMEZONE
BEGIN:VEVENT
DTSTART;TZID=Europe/Copenhagen:20260228T110000
DTEND;TZID=Europe/Copenhagen:20260228T160000
DTSTAMP:20260422T060832
CREATED:20260106T172657Z
LAST-MODIFIED:20260220T110644Z
UID:10002400-1772276400-1772294400@teosofiskforening.dk
SUMMARY:AFLYST PGA INFLUENZA ---- Indvielsesvejen og dens processer #1 - kursus v/ Jette Ferdinand Pedersen og Susanne Olesen
DESCRIPTION:KURSET FLYTTET TIL d. 9. maj! \nIndvielse er bevidsthedsudvidelse. \nVi er alle på vejen til noget større i os\, lyset i os\, Kristusbevidstheden i os.\nKendskab og forståelse til vejens faser og udfordringer gør os bedre til at gå med – end gå mod det Livet byder os. \nLivet kan gå i bølgetoppe\, ned og kig på bunden\, op i lyset\, ned på bunden\, og op i lyset. Via denne bølgegang vokser lyset i os. \nUd fra Asger Lorentsens indvielsesmateriale under Den Gyldne Grals Orden\, ser vi på faser\, strategier og delpersonligheder på de første trin på “vejen”. \nPsykologiske faser: Sjælens kalden – ensomhed – når livet ikke vil som jeg vil…\nStrategier for at undgå smerte: Eks. Jeg må sikre mig en tryg base\, en økonomi. Jeg må have kontrol over mit liv.\nDrivkræfter Strategier for glæde og tilfredsstillelse: Eks. Jeg har brug for trøst\, værdsættelse\, jeg har brug for at beskytte mig…\nDelpersonligheder: Eks. Det indre barn – den indre mor – den indre far. \nI dette materiale er der 5 varianter af “veje” man kan gå: Den Gyldne Gralsvej\, Præstindevejen\, Civilisationens vej\, Visdommens vej\, Ildsjælens vej.\nOg ligeledes er der info om aktiviteter der fremmer processen. \nDagen består af meditation – oplæg – øvelse – deling\, og afsluttes med en Ceremoni\, hvor man får hjælp til at slippe gamle problematikker\, og man kan bede om hjælp til vejen videre frem. \n  \nKurset bliver afholdt fysisk i TFK’s lokaler \nPris for hele kurset: 550/600 kr. for medlemmer/gæster.\nI prisen indgår kaffe\, the og lette traktementer. Frokosten sørger man selv for.\nVed framelding tilbageholdes 50-100 kr. til administration. \nBestil billet i god tid inden foredraget! – Se nederst.\n \n  \nUndervisere: \n Jette Ferdinand Pedersen\nHealingsterapeut\, kinesiolog og har baggrund i Asgers Lorentsens lære\nsamt andre åndelige lærere. \njetteferdinandp@gmail.com \n  \n  \n  \nSusanne Olesen\nhar fulgt undervisning og kurser af Asger Lorentsen siden 2010\nog er særligt tilknyttet ”The Order of the Golden Grail” og Den Gyldne Grund på Kreta.\nDesuden tilknyttet Peter og Sarah Dawkins i ”Zoence” som bl.a. arbejder med\nlandskabschakraer og landskabsengle samt danser Paneurythmy. \nUddannet sygeplejerske og Cand.cur. \nSusanne1963@live.dk \n  \n  \n  \n\n#indvielse \nID: 260228JFEkfyTFK
URL:https://teosofiskforening.dk/begivenhed/indvielsesvejen-og-dens-processer-1-kursus-v-jette-ferdinand-pedersen-og-susanne-olesen/
LOCATION:Teosofisk Forening København\, Sankt Knuds Vej 27A\, Frederiksberg C\, København\, 1903\, Danmark
CATEGORIES:Kursus
ATTACH;FMTTYPE=image/jpeg:https://teosofiskforening.dk/wp-content/uploads/2026/01/2026.05.09-Illustration-Jette-og-Susanne-320x214-1.jpg
GEO:55.677929;12.549129
X-APPLE-STRUCTURED-LOCATION;VALUE=URI;X-ADDRESS=Teosofisk Forening København Sankt Knuds Vej 27A Frederiksberg C København 1903 Danmark;X-APPLE-RADIUS=500;X-TITLE=Sankt Knuds Vej 27A:geo:12.549129,55.677929
END:VEVENT
END:VCALENDAR