BEGIN:VCALENDAR
VERSION:2.0
PRODID:-//Teosofisk Forening København - ECPv6.15.20//NONSGML v1.0//EN
CALSCALE:GREGORIAN
METHOD:PUBLISH
X-ORIGINAL-URL:https://teosofiskforening.dk
X-WR-CALDESC:Begivenheder for Teosofisk Forening København
REFRESH-INTERVAL;VALUE=DURATION:PT1H
X-Robots-Tag:noindex
X-PUBLISHED-TTL:PT1H
BEGIN:VTIMEZONE
TZID:Europe/Copenhagen
BEGIN:DAYLIGHT
TZOFFSETFROM:+0100
TZOFFSETTO:+0200
TZNAME:CEST
DTSTART:20250330T010000
END:DAYLIGHT
BEGIN:STANDARD
TZOFFSETFROM:+0200
TZOFFSETTO:+0100
TZNAME:CET
DTSTART:20251026T010000
END:STANDARD
BEGIN:DAYLIGHT
TZOFFSETFROM:+0100
TZOFFSETTO:+0200
TZNAME:CEST
DTSTART:20260329T010000
END:DAYLIGHT
BEGIN:STANDARD
TZOFFSETFROM:+0200
TZOFFSETTO:+0100
TZNAME:CET
DTSTART:20261025T010000
END:STANDARD
BEGIN:DAYLIGHT
TZOFFSETFROM:+0100
TZOFFSETTO:+0200
TZNAME:CEST
DTSTART:20270328T010000
END:DAYLIGHT
BEGIN:STANDARD
TZOFFSETFROM:+0200
TZOFFSETTO:+0100
TZNAME:CET
DTSTART:20271031T010000
END:STANDARD
END:VTIMEZONE
BEGIN:VEVENT
DTSTART;TZID=Europe/Copenhagen:20260120T190000
DTEND;TZID=Europe/Copenhagen:20260120T213000
DTSTAMP:20260424T214811
CREATED:20251205T164450Z
LAST-MODIFIED:20260104T110048Z
UID:10002348-1768935600-1768944600@teosofiskforening.dk
SUMMARY:Den nye tid – en gave og et ansvar - foredrag v/ Anne Kirstine Lund Mathisen
DESCRIPTION:I dette foredrag inviteres du med på en fælles opdagelse ind i den nye tid. Med afsæt i mine egne erfaringer vil jeg dele\, hvordan mit møde med den indre verden for snart 25 år siden blev begyndelsen på en livsvej\, hvor jeg gradvist har lært at bygge bro mellem det indre og det ydre. \nAstrologien har de seneste 8 år været et værdifuldt redskab til at forstå både mine egne processer og den større sammenhæng\, vi alle er en del af. Særligt dværgplaneterne har haft betydning – både i deres indflydelse på vores fælles bevidsthed og i deres konkrete aftryk i mit eget liv. \nHer åbner sig også en større indsigt: hvordan horoskopet kan hjælpe os til at genkende vores livsvej – den opgave\, vi hver især kommer med\, og de indre ressourcer\, der først bliver tilgængelige\, når vi selv er klar til at tage imod både gaven og ansvaret ved at være her. \nForedraget bygges op omkring otte sansedigte\, skrevet på en vandring ad Heksestien i Harzen i sommeren 2025\, hvor naturen blev en spejlende kraft for min egen indre vej. Digtene tilføjer en sanselig dimension\, der minder os om at være nærværende og åbne i mødet med verden. \nTilhørerne inddrages undervejs gennem spørgsmål og refleksioner\, så foredraget bliver en fælles søgen efter veje ind i den nye tidsalder. Her bliver intention\, vilje og indre balance nøgler til at træde frem som dem\, vi dybest set er – og til at sætte vores spor som medskabere af den nye tid. \nPris: 100/140 kr. for medlemmer/gæster.\nBetaling: Beløbet betales ved indgangen. \n  \nOm Anne Kristine Lund Mathisen:\n\nCand.mag. i dansk og sprogpsykologi\, Københavns Universitet 2003. Den Esoteriske Skole\, sjælsterapi og korrekturlæsning for Niels Brønsted\, Esoterisk Center 2003-08.  \nAstrologisk uddannelse hos Holger Stavnsbjerg og Claus Houlberg 2018-24.  \nSelvstændig astrolog 2025:\nwww.newdawn.academy. \n  \n  \n  \n  \n#astrologi \nID: 260120AKLffnTFK \n 
URL:https://teosofiskforening.dk/begivenhed/den-nye-tid-en-gave-og-et-ansvar-foredrag-v-anne-kirstine-lund-mathisen/
LOCATION:Teosofisk Forening København\, Sankt Knuds Vej 27A\, Frederiksberg C\, København\, 1903\, Danmark
CATEGORIES:Tirsdagsforedrag
ATTACH;FMTTYPE=image/jpeg:https://teosofiskforening.dk/wp-content/uploads/2025/12/den-nye-tid-320x214-1.jpg
GEO:55.677929;12.549129
X-APPLE-STRUCTURED-LOCATION;VALUE=URI;X-ADDRESS=Teosofisk Forening København Sankt Knuds Vej 27A Frederiksberg C København 1903 Danmark;X-APPLE-RADIUS=500;X-TITLE=Sankt Knuds Vej 27A:geo:12.549129,55.677929
END:VEVENT
END:VCALENDAR