BEGIN:VCALENDAR
VERSION:2.0
PRODID:-//Teosofisk Forening København - ECPv6.15.20//NONSGML v1.0//EN
CALSCALE:GREGORIAN
METHOD:PUBLISH
X-WR-CALNAME:Teosofisk Forening København
X-ORIGINAL-URL:https://teosofiskforening.dk
X-WR-CALDESC:Begivenheder for Teosofisk Forening København
REFRESH-INTERVAL;VALUE=DURATION:PT1H
X-Robots-Tag:noindex
X-PUBLISHED-TTL:PT1H
BEGIN:VTIMEZONE
TZID:Europe/Copenhagen
BEGIN:DAYLIGHT
TZOFFSETFROM:+0100
TZOFFSETTO:+0200
TZNAME:CEST
DTSTART:20240331T010000
END:DAYLIGHT
BEGIN:STANDARD
TZOFFSETFROM:+0200
TZOFFSETTO:+0100
TZNAME:CET
DTSTART:20241027T010000
END:STANDARD
BEGIN:DAYLIGHT
TZOFFSETFROM:+0100
TZOFFSETTO:+0200
TZNAME:CEST
DTSTART:20250330T010000
END:DAYLIGHT
BEGIN:STANDARD
TZOFFSETFROM:+0200
TZOFFSETTO:+0100
TZNAME:CET
DTSTART:20251026T010000
END:STANDARD
BEGIN:DAYLIGHT
TZOFFSETFROM:+0100
TZOFFSETTO:+0200
TZNAME:CEST
DTSTART:20260329T010000
END:DAYLIGHT
BEGIN:STANDARD
TZOFFSETFROM:+0200
TZOFFSETTO:+0100
TZNAME:CET
DTSTART:20261025T010000
END:STANDARD
END:VTIMEZONE
BEGIN:VEVENT
DTSTART;TZID=Europe/Copenhagen:20251111T190000
DTEND;TZID=Europe/Copenhagen:20251111T213000
DTSTAMP:20260425T211710
CREATED:20250702T192618Z
LAST-MODIFIED:20251107T143257Z
UID:10002314-1762887600-1762896600@teosofiskforening.dk
SUMMARY:Din Indre Ørn - foredrag v/ Kim Pedersen
DESCRIPTION:Livet i Vore Indre Legemer \nI denne aftens stille stund i Teosofisk Forening København\, hvor efterårets mørke blidt omfavner os\, og Skorpionens dybe\, forvandlende energi vibrerer i hver en fiber af tilværelsen\, lad os sammen løfte blikket indad. Lad os væve de ældgamle tråde af teosofisk visdom\, Enoks himmelstiger fyldt med hemmeligheder\, Kabbalahs lysende stier mod enhed\, og astrologiens kosmiske dans ind i det kraftfulde billede af vores egen indre ørn. \nSpørgsmålet\, stille og eftertænksomt\, svæver i rummet som et ekko fra en fjern\, spirituel himmel: Flyver din indre ørn frit? Mærker du pulsen af liv i dine indre legemer\, de subtile energier der strømmer hinsides den fysiske form\, og som længes efter at blive udfoldet? \nSkorpionens tid udfordrer os til at se dybt ind i os selv\, til at konfrontere det\, der ligger skjult. Men det giver os også muligheden for en dyb transformation. Ved at forbinde os med vores indre lyslegeme\, ved at stræbe efter et højere perspektiv som den indre ørn\, kan vi navigere i denne intense tid med større visdom og styrke. \nLad os i denne november måned\, mens solen vandrer gennem skorpionens tegn\, huske på det potentiale for indre fornyelse\, der bor i os. Lad os nære vores indre lys og give vores indre ørn mulighed for at folde sine vinger ud og stige op mod en klarere horisont. \n  \nPris: 90/120 kr. for medlemmer/gæster.\nBetaling: Beløbet betales ved indgangen. \n  \nKim Pedersen er en blændende foredragsholder og har arbejdet som medie i 30 år. Han har beskæftiget sig med en bred vifte af åndsvidenskabelige områder\, oprettet astrologiskolen Attitude Astrologi og Kabbalah skolen Qibel samt Meditation for Esoterisk Norden. \nSe nærmere på hjemmesiden: www.bkimpedersen.dk \n  \n#skorpionen \n\nID: 251111KPEffnTFK \n\n 
URL:https://teosofiskforening.dk/begivenhed/din-indre-oern-foredrag-v-kim-pedersen/
LOCATION:Teosofisk Forening København\, Sankt Knuds Vej 27A\, Frederiksberg C\, København\, 1903\, Danmark
CATEGORIES:Tirsdagsforedrag
ATTACH;FMTTYPE=image/jpeg:https://teosofiskforening.dk/wp-content/uploads/2025/07/2025.11.11-Kim-Pedersen-Oern-Illustration-320x214-1.jpg
GEO:55.677929;12.549129
X-APPLE-STRUCTURED-LOCATION;VALUE=URI;X-ADDRESS=Teosofisk Forening København Sankt Knuds Vej 27A Frederiksberg C København 1903 Danmark;X-APPLE-RADIUS=500;X-TITLE=Sankt Knuds Vej 27A:geo:12.549129,55.677929
END:VEVENT
END:VCALENDAR