BEGIN:VCALENDAR
VERSION:2.0
PRODID:-//Teosofisk Forening København - ECPv6.15.20//NONSGML v1.0//EN
CALSCALE:GREGORIAN
METHOD:PUBLISH
X-WR-CALNAME:Teosofisk Forening København
X-ORIGINAL-URL:https://teosofiskforening.dk
X-WR-CALDESC:Begivenheder for Teosofisk Forening København
REFRESH-INTERVAL;VALUE=DURATION:PT1H
X-Robots-Tag:noindex
X-PUBLISHED-TTL:PT1H
BEGIN:VTIMEZONE
TZID:Europe/Copenhagen
BEGIN:DAYLIGHT
TZOFFSETFROM:+0100
TZOFFSETTO:+0200
TZNAME:CEST
DTSTART:20240331T010000
END:DAYLIGHT
BEGIN:STANDARD
TZOFFSETFROM:+0200
TZOFFSETTO:+0100
TZNAME:CET
DTSTART:20241027T010000
END:STANDARD
BEGIN:DAYLIGHT
TZOFFSETFROM:+0100
TZOFFSETTO:+0200
TZNAME:CEST
DTSTART:20250330T010000
END:DAYLIGHT
BEGIN:STANDARD
TZOFFSETFROM:+0200
TZOFFSETTO:+0100
TZNAME:CET
DTSTART:20251026T010000
END:STANDARD
BEGIN:DAYLIGHT
TZOFFSETFROM:+0100
TZOFFSETTO:+0200
TZNAME:CEST
DTSTART:20260329T010000
END:DAYLIGHT
BEGIN:STANDARD
TZOFFSETFROM:+0200
TZOFFSETTO:+0100
TZNAME:CET
DTSTART:20261025T010000
END:STANDARD
END:VTIMEZONE
BEGIN:VEVENT
DTSTART;TZID=Europe/Copenhagen:20251021T190000
DTEND;TZID=Europe/Copenhagen:20251021T213000
DTSTAMP:20260422T052327
CREATED:20250702T191957Z
LAST-MODIFIED:20251017T202241Z
UID:10002313-1761073200-1761082200@teosofiskforening.dk
SUMMARY:AFLYST --- Kristensamfundet - bevægelse for religiøs fornyelse - foredrag v/ Marianne Wagler
DESCRIPTION:I begyndelsen af det 20. århundrede begyndte unge mennesker at stille erkendelses- og livsspørgsmål til Rudolf Steiner\, og der opstod et intensivt samarbejde mellem de to parter. I september 1922 kunne Kristensamfundets grundlæggelse fejres i Dornach i Schwiez. Man betragtede dengang Kristensamfundet som den tredje kirke mellem den katolske og den protestantiske kirke. \nHvorfor blev disse nye erkendelses- og livsspørgsmål stillet\, og hvem var mere specifikt de mennesker\, der stillede spørgsmålene?  \n  \nPris: 90/120 kr. for medlemmer/gæster.\nBetaling: Beløbet betales ved indgangen. \n  \nOm foredragsholderen\nMarianne E. Wagler er født i 1988 i Karl-Marx-Stadt (DDR) og har siden 2020 haft sin præstegerning i Kristensamfundet. Før da arbejdede hun som helsepædagog på Marjatta Skolehjemmet på Sydsjælland.  \n  \n  \n  \n\n\n#religion \n\nID: 251021MWAffnTFK
URL:https://teosofiskforening.dk/begivenhed/kristensamfundet-bevaegelse-for-religioes-fornyelse-foredrag-v-marianne-wagler/
LOCATION:Teosofisk Forening København\, Sankt Knuds Vej 27A\, Frederiksberg C\, København\, 1903\, Danmark
CATEGORIES:Tirsdagsforedrag
ATTACH;FMTTYPE=image/jpeg:https://teosofiskforening.dk/wp-content/uploads/2025/07/2025.10.21-Marianne-Wagler-illustration-320x214-1.jpg
GEO:55.677929;12.549129
X-APPLE-STRUCTURED-LOCATION;VALUE=URI;X-ADDRESS=Teosofisk Forening København Sankt Knuds Vej 27A Frederiksberg C København 1903 Danmark;X-APPLE-RADIUS=500;X-TITLE=Sankt Knuds Vej 27A:geo:12.549129,55.677929
END:VEVENT
END:VCALENDAR