BEGIN:VCALENDAR
VERSION:2.0
PRODID:-//Teosofisk Forening København - ECPv6.15.20//NONSGML v1.0//EN
CALSCALE:GREGORIAN
METHOD:PUBLISH
X-ORIGINAL-URL:https://teosofiskforening.dk
X-WR-CALDESC:Begivenheder for Teosofisk Forening København
REFRESH-INTERVAL;VALUE=DURATION:PT1H
X-Robots-Tag:noindex
X-PUBLISHED-TTL:PT1H
BEGIN:VTIMEZONE
TZID:Europe/Copenhagen
BEGIN:DAYLIGHT
TZOFFSETFROM:+0100
TZOFFSETTO:+0200
TZNAME:CEST
DTSTART:20240331T010000
END:DAYLIGHT
BEGIN:STANDARD
TZOFFSETFROM:+0200
TZOFFSETTO:+0100
TZNAME:CET
DTSTART:20241027T010000
END:STANDARD
BEGIN:DAYLIGHT
TZOFFSETFROM:+0100
TZOFFSETTO:+0200
TZNAME:CEST
DTSTART:20250330T010000
END:DAYLIGHT
BEGIN:STANDARD
TZOFFSETFROM:+0200
TZOFFSETTO:+0100
TZNAME:CET
DTSTART:20251026T010000
END:STANDARD
BEGIN:DAYLIGHT
TZOFFSETFROM:+0100
TZOFFSETTO:+0200
TZNAME:CEST
DTSTART:20260329T010000
END:DAYLIGHT
BEGIN:STANDARD
TZOFFSETFROM:+0200
TZOFFSETTO:+0100
TZNAME:CET
DTSTART:20261025T010000
END:STANDARD
END:VTIMEZONE
BEGIN:VEVENT
DTSTART;TZID=Europe/Copenhagen:20251014T190000
DTEND;TZID=Europe/Copenhagen:20251014T213000
DTSTAMP:20260422T113419
CREATED:20250702T191316Z
LAST-MODIFIED:20250702T191316Z
UID:10002312-1760468400-1760477400@teosofiskforening.dk
SUMMARY:Jordens åndelige historie - foredrag v/ Marcus Myhr
DESCRIPTION:Hvor kommer mennesket fra\, og hvordan blev vi skabt her på Jorden? Hvad siger teosofien om dette\, og hvad siger andre teorier? Er vi jord-\, abe- eller engle/stjernemennesker eller lidt af det hele? \nMadame Blavatsky stod fast på\, at menneskets DNA ikke har nogen sammenhæng med pattedyrenes DNA\, mens andre esoterikere søger at sammenkoble menneskets åndelige sjælshistorie med Jordens biologiske evolution. \nDerudover er der flere og flere tegn på\, at mange sjæle nu inkarnerer ind fra andre stjernesystemer for at hjælpe menneskeheden ind i den nye tidsalder. \nHvordan kan vi forstå alt dette i en åndsvidenskabelig og teosofisk kontekst? \nPris: 90/120 kr. for medlemmer/gæster.\nBetaling: Beløbet betales ved indgangen. \n  \nOm foredragsholderen\nMarcus Myhr er religionshistoriker og arbejder som terapeut\, astrolog og underviser på Den Gyldne Cirkel. Han har interesseret sig for teosofi siden 2001 med studieophold i Teosofisk Samfund i Adyar. \n  \n  \n  \n\n#teosofi \n\nID: 251014MMYffnTFK
URL:https://teosofiskforening.dk/begivenhed/jordens-aandelige-historie-foredrag-v-marcus-myhr/
LOCATION:Teosofisk Forening København\, Sankt Knuds Vej 27A\, Frederiksberg C\, København\, 1903\, Danmark
CATEGORIES:Tirsdagsforedrag
ATTACH;FMTTYPE=image/jpeg:https://teosofiskforening.dk/wp-content/uploads/2025/07/2025.10.14-Marcus-Myhr-illustration-320x214-1.jpg
GEO:55.677929;12.549129
X-APPLE-STRUCTURED-LOCATION;VALUE=URI;X-ADDRESS=Teosofisk Forening København Sankt Knuds Vej 27A Frederiksberg C København 1903 Danmark;X-APPLE-RADIUS=500;X-TITLE=Sankt Knuds Vej 27A:geo:12.549129,55.677929
END:VEVENT
END:VCALENDAR