BEGIN:VCALENDAR
VERSION:2.0
PRODID:-//Teosofisk Forening København - ECPv6.15.20//NONSGML v1.0//EN
CALSCALE:GREGORIAN
METHOD:PUBLISH
X-ORIGINAL-URL:https://teosofiskforening.dk
X-WR-CALDESC:Begivenheder for Teosofisk Forening København
REFRESH-INTERVAL;VALUE=DURATION:PT1H
X-Robots-Tag:noindex
X-PUBLISHED-TTL:PT1H
BEGIN:VTIMEZONE
TZID:Europe/Copenhagen
BEGIN:DAYLIGHT
TZOFFSETFROM:+0100
TZOFFSETTO:+0200
TZNAME:CEST
DTSTART:20240331T010000
END:DAYLIGHT
BEGIN:STANDARD
TZOFFSETFROM:+0200
TZOFFSETTO:+0100
TZNAME:CET
DTSTART:20241027T010000
END:STANDARD
BEGIN:DAYLIGHT
TZOFFSETFROM:+0100
TZOFFSETTO:+0200
TZNAME:CEST
DTSTART:20250330T010000
END:DAYLIGHT
BEGIN:STANDARD
TZOFFSETFROM:+0200
TZOFFSETTO:+0100
TZNAME:CET
DTSTART:20251026T010000
END:STANDARD
BEGIN:DAYLIGHT
TZOFFSETFROM:+0100
TZOFFSETTO:+0200
TZNAME:CEST
DTSTART:20260329T010000
END:DAYLIGHT
BEGIN:STANDARD
TZOFFSETFROM:+0200
TZOFFSETTO:+0100
TZNAME:CET
DTSTART:20261025T010000
END:STANDARD
END:VTIMEZONE
BEGIN:VEVENT
DTSTART;TZID=Europe/Copenhagen:20250930T190000
DTEND;TZID=Europe/Copenhagen:20250930T213000
DTSTAMP:20260423T010913
CREATED:20250712T211625Z
LAST-MODIFIED:20250921T165319Z
UID:10002321-1759258800-1759267800@teosofiskforening.dk
SUMMARY:Den Feminine Gral/Det Feminine Hierarki. Lær at samarbejde med De Feminine Mestre\, foredrag ved Den Indre Sol
DESCRIPTION:Jorden har brug for at smelte mere sammen med den feminine kærlighedsstrøm\, for at der kan skabes en balance mellem det maskuline og det feminine. Kom og hør om\, hvordan du kan være med til at manifestere Den Feminine Kærlighedsstrøm på Jorden. \n  \nHvad er det feminine? Og hvorfor er det vigtigt for os\, at vi åbner os for og fokuserer på det feminine lige nu. Hvordan kan vi hver især blive forenet mere med den feminine kærlighedsstrøm og de feminine egenskaber og værdier. Og hvordan kan vi være med til at manifestere de feminine kvaliteter mere aktivt på Jorden via vores væremåde\, samvær\, valg og måde at skabe kulturer og samfund. \nHvorfor er den feminine kærlighed vigtig for Jorden? Og det gælder både for Jorden som en levende planet og for os mennesker\, som befinder os på Jorden og dermed er en del af Jordens aura. Det maskuline har været dominerende på Jorden siden dengang\, der var matriarkalske samfund på Jorden\, hvor det var den store Modergudinde\, der blev dyrket som det vigtigste. Og lige nu kæmper det maskuline for at kunne blive ved med at være den dominerende kraft på Jorden og for at undgå at lade sig blive forvandlet ind i en sammensmeltning med det feminine. \nHvordan kan du blive integreret med din feminine side? Kom og hør om\, hvordan du kan være med til at manifestere den feminine kærlighedsstrøm på Jorden. Og om hvordan du herigennem kan blive mere integreret med din feminine side og egenskaber\, kvaliteter og værdier og herigennem være med til at manifestere en balance mellem de maskuline og det feminine i dig selv og på Jorden. \n  \nPris: 90/120 kr. for medlemmer/gæster.\nBetaling: Beløbet betales ved indgangen. \n  \n  \n \n  \nZiadria og Michael blev i 1996 guidet til ”Sandhedens Tempel” på Kreta\, hvor de bedt om at skabe et spirituelt center med en grunduddannelse til at blive Ny Tids lysarbejder. De er siden blevet guidet til at lave mange forskellige spirituelle uddannelser\, workshops\, rejser og individuelle behandlingsformer.  \n  \n  \n  \n  \n  \n#åndsvidenskab \nID: 250930DISffnTFK \n 
URL:https://teosofiskforening.dk/begivenhed/den-feminine-gral-det-feminine-hierarki-laer-at-samarbejde-med-de-feminine-mestre-foredrag-ved-den-indre-sol/
LOCATION:Teosofisk Forening København\, Sankt Knuds Vej 27A\, Frederiksberg C\, København\, 1903\, Danmark
CATEGORIES:Tirsdagsforedrag
ATTACH;FMTTYPE=image/jpeg:https://teosofiskforening.dk/wp-content/uploads/2024/06/2023.04.14-DEN-INDRE-SOL-320x214-1.jpg
GEO:55.677929;12.549129
X-APPLE-STRUCTURED-LOCATION;VALUE=URI;X-ADDRESS=Teosofisk Forening København Sankt Knuds Vej 27A Frederiksberg C København 1903 Danmark;X-APPLE-RADIUS=500;X-TITLE=Sankt Knuds Vej 27A:geo:12.549129,55.677929
END:VEVENT
END:VCALENDAR