BEGIN:VCALENDAR
VERSION:2.0
PRODID:-//Teosofisk Forening København - ECPv6.15.20//NONSGML v1.0//EN
CALSCALE:GREGORIAN
METHOD:PUBLISH
X-WR-CALNAME:Teosofisk Forening København
X-ORIGINAL-URL:https://teosofiskforening.dk
X-WR-CALDESC:Begivenheder for Teosofisk Forening København
REFRESH-INTERVAL;VALUE=DURATION:PT1H
X-Robots-Tag:noindex
X-PUBLISHED-TTL:PT1H
BEGIN:VTIMEZONE
TZID:Europe/Copenhagen
BEGIN:DAYLIGHT
TZOFFSETFROM:+0100
TZOFFSETTO:+0200
TZNAME:CEST
DTSTART:20240331T010000
END:DAYLIGHT
BEGIN:STANDARD
TZOFFSETFROM:+0200
TZOFFSETTO:+0100
TZNAME:CET
DTSTART:20241027T010000
END:STANDARD
BEGIN:DAYLIGHT
TZOFFSETFROM:+0100
TZOFFSETTO:+0200
TZNAME:CEST
DTSTART:20250330T010000
END:DAYLIGHT
BEGIN:STANDARD
TZOFFSETFROM:+0200
TZOFFSETTO:+0100
TZNAME:CET
DTSTART:20251026T010000
END:STANDARD
BEGIN:DAYLIGHT
TZOFFSETFROM:+0100
TZOFFSETTO:+0200
TZNAME:CEST
DTSTART:20260329T010000
END:DAYLIGHT
BEGIN:STANDARD
TZOFFSETFROM:+0200
TZOFFSETTO:+0100
TZNAME:CET
DTSTART:20261025T010000
END:STANDARD
END:VTIMEZONE
BEGIN:VEVENT
DTSTART;TZID=Europe/Copenhagen:20250913T100000
DTEND;TZID=Europe/Copenhagen:20250914T163000
DTSTAMP:20260423T025404
CREATED:20250613T151715Z
LAST-MODIFIED:20250912T130308Z
UID:10002267-1757757600-1757867400@teosofiskforening.dk
SUMMARY:TAROT AKADEMI #2\, v/Kim Pedersen
DESCRIPTION:Fordyb dig i Tarot og Kabbalaens Visdom – 3 weekender ved Kim Pedersen\n1. weekend: Lørdag den 17. maj kl. 10.00 – kl. 17.00 og og søndag den 18. maj kl. 10.00 – kl. 16.30\n2. weekend: Lørdag den 13. sept. kl. 10.00 – kl. 17.00 og søndag den 14 sept. kl. 10.00 – kl. 16.30\n3. weekend: Lørdag  den 22. nov. kl. 10.00 – kl. 17.00 og søndag den 23. nov. kl. 10.00 – kl. 16.30 \n  \nPris pr. weekend: Kr. 1250/ 1450 for medlemmer/gæster.\nI prisen indgår kaffe\, the og lette traktementer. Frokosten sørger man selv for. \nVed framelding tilbageholdes 100 kr. til administration.\nBemærk: Din plads er først reserveret\, når beløbet er modtaget. \nTilmelding og betaling til første weekend – klik på Find billetter:\n\n\n  \n\n\n\n\n\n\n\n\n\n\n\n\n\n\n\nLink til GUIDE – Bestil billet på Billetto\n  \nGennem tiderne har Tarotkortene inspireret og vejledt mennesker på deres livs rejse. De 78 kort fungerer som en esoterisk værktøjskasse\, der tilbyder indsigt og perspektiv\, når vi står over for livets store spørgsmål. Kabbalaens Livets Træ\, med sine 33 stier\, giver en ramme for at forstå universets struktur og menneskets plads i det. \nPå dette kursus tager vi dig med på en fascinerende rejse ind i Tarot og Kabbalaens verden. Vi udforsker kortenes symbolik\, numerologi og forbindelse til astrologi. Du lærer at fortolke kortenes budskaber og bruge dem til at få klarhed over dine livsvalg. Vi dykker ned i Kabbalaens Livets Træ og ser\, hvordan det kan give dig en dybere forståelse af dig selv og din spirituelle udvikling. \nKursusrækken tilbyder:\nTarotkortenes symbolik: Vi fordyber os i de arketyper\, symboler og farver\, der er repræsenteret i Tarotkortene. Introduktion til Tarot og Kabbalah: Vi udforsker kortenes historie\, struktur og betydning. Du lærer om Kabbalaens Livets Træ og dets symbolik. \nNumerologi: Du lærer om tallenes betydning i Tarot og Kabbalah og hvordan de kan give dig indsigt i din fødselsdag og året du er født og dine navne. \nAstrologiens indflydelse: Vi ser på\, hvordan astrologien kan berige din forståelse af\, det element vi er født til at virke i\, og dens relation til Tarot og Kabbalah. \nMeditation og visualisering: Vi bruger meditations- og visualiseringsøvelser til at fordybe os oplevelse af Tarot og Kabbalah. \nPraktisk anvendelse: Du får mulighed for at se Tarot og Kabbalahs relation til engle\, ærkeenglen og mestrene\, som du kan tage med ind i tydningens arbejde. \nKort i undervisningen: Waits\, Crowleys\, Kabbalah kort \nDette kursus er for dig\, der:\n– Ønsker at bruge Tarotkortene som et værktøj til selvindsigt og personlig udvikling.\n– Vil lære at fortolke kortenes budskaber og anvende dem i dit liv.\n– Er nysgerrig på Tarot og Kabbalah.\n– Er interesseret i at udforske Kabbalaens Livets Træ og dets visdom. \n\nFørste weekend \nLørdag og søndag den 17. maj kl. 10.00 – kl. 17.00 og 18. maj 2025 kl. 10.00 – kl. 16.30\nNumerologi og Tarot: Afdæk dit personlige symbolunivers\nOplev en dybdegående forståelse af dig selv gennem tallenes og bogstavernes plads i træet. \nI denne første weekend dykker vi ned i den fascinerende verden af numerologi og tarot\, og ser hvordan disse to systemer kan komplementere hinanden og give dig en helt ny indsigt i din personlighed og livsvej. \nHvad kan du forvente?\nNavnets kraft: Vi vil undersøge\, hvordan dit navn og efternavn afspejler din personlighed\, dine styrker og udfordringer. Gennem tarotkortene vil vi synliggøre de energier\, der er forbundet med dit navn. \nFødselsdagens betydning: Din fødselsdag bærer på unikke vibrationer\, der kan afsløre din livsopgave og potentiale. Vi vil udforske din fødselsdag numerologisk og se\, hvordan den relaterer sig til forskellige tarotkort og din plads i Kabbalah. \nAstrologiens element: Dit stjernetegn giver os et hint om dit grundlæggende element (ild\, jord\, luft eller vand). Vi vil se\, hvordan dette element kommer til udtryk i tarotkortene og påvirker din personlighed. \nÅrets indflydelse: Det år\, du blev født\, bærer også på numerologiske vibrationer\, der kan give dig en dybere forståelse af din generation og de overordnede temaer i dit liv. \nTarottens symbolsprog: Vi vil introducere dig til tarotkortenes grundlæggende betydninger og symboler. \nHvorfor denne weekend?\nSelvindsigt: Få en dybere forståelse af dig selv og dine motiver.\nPersonlig udvikling: Opdag dine styrker og udfordringer\, og få værktøjer til at arbejde med dem.\nLivsvej: Få indsigt i din livsopgave og potentiale.\nIntuition: Udvikle din intuition og evne til at forbinde med din indre visdom. \nHvad du skal medbringe:\nDit fulde navn og fødselsdato\, fødselssted og evt. fødselstidspunkt.\nEt åbent sind og nysgerrighed. \n\nAnden weekend:\nLørdag og søndag den 13. sept. kl. 10.00 – kl. 17.00 og 14. sept. kl. 10.00 – kl. 16.30 \nHofkortene\, den Store og den Lille Arkana\nDyk ned i mønternes og bægernes verden \nUdforsk forbindelsen mellem tarotkort\, Kabbalah og vores fysiske og følelsesmæssige verden. \nI denne weekend vil vi dykke dybere ned i den store og lille Arkana og hofkortene\, med særligt fokus på mønter og bægre. Vi vil undersøge\, hvordan disse kort relaterer sig til Kabbalah-træet\, og hvordan de afspejler vores fysiske og følelsesmæssige verden. \nHvad kan du forvente?\nMønternes verden: Vi vil udforske mønternes forbindelse til den fysiske verden\, arbejde\, økonomi og materielle værdier. Gennem tarotkortene vil vi se\, hvordan vi kan skabe balance og overflod i vores liv.\nBægernes univers: Engle og parallelle dimensioner Vi vil udforske de spirituelle dimensioner af bægernes verden og se\, hvordan englene kan støtte os i vores følelsesmæssige heling.\nKabbalah og de ti sephiroth: Vi vil udvide vores forståelse af Kabbalah-træet og se\, hvordan de ti sephiroth påvirker de ti kort i hver farve og serie.\nPraktiske øvelser: Gennem en række øvelser vil du lære at lægge tarotkort\, tolke deres budskaber og integrere dem i din hverdag. \nHvorfor denne weekend?\nHelhedsbillede: Få en dybere forståelse af\, hvordan tarotkortene relaterer sig til vores fysiske og følelsesmæssige verden.\nBalance: Lær at skabe balance mellem det materielle og det spirituelle i dit liv.\nIntuition: Styrk din intuition og evne til at forbinde dig med din indre visdom. \n\nTredje weekend \n Lørdag og søndag den 22 nov. kl. 10.00 – kl. 17.00 og 23. nov. kl. 10.00 – kl. 16.30 \nEn Rejse mod Mestrenes og ærkeenglenes Dimension\nStavenes Ild og Sværdenes Luft\nDyk ned i Store og Lille Arkana\, Hofkortene i ildens og luftens Verden \nVelkommen til den tredje weekend af vores transformative Tarot-rejse! Vi fortsætter vores udforskning af Tarotkortenes dybder og deres forbindelse til Kabbalaens visdom. Denne weekend fokuserer vi på Stavenes Ild og Sværdenes Luft\, og vi dykker ned i både Store og Lille Arkana samt Hofkortene. \nVi vil udforske ildens energi\, der repræsenterer entusiasme\, vilje og handling\, og luftens energi\, der symboliserer intellekt\, kommunikation og klarhed. \nPå denne weekend vil du:\nFordybe dig i Stavenes og Sværdenes symbolik: Vi udforsker de arketyper\, elementer og energier\, der er forbundet med disse to grupper af kort.\nLær at fortolke hofkortene: Vi ser på\, hvordan hofkortene repræsenterer forskellige personlighedstyper og arketyper i vores liv.\nForstå forbindelsen til Kabbalah: Vi udforsker\, hvordan stavene og sværdene relaterer sig til specifikke stier og sfærer på Livets Træ.\nRejse ind i ærkeenglenes og mestrenes dimension: Vi åbner op for en dybere forståelse af ærkeenglenes og mestrenes virke i vores liv og spirituelle udvikling.\nIntegrere Tarot i din personlige praksis: Du får værktøjer til at bruge Tarotkortene til selvrefleksion\, spirituel vækst og øget bevidsthed. \nHvorfor denne weekend?\nHelhedsbillede: Få en dybere forståelse af\, hvordan tarotkortene relaterer sig til vores indre ild og luftens intuitive verden.\nBalance: Lær at skabe balance mellem det materielle og det spirituelle i dit liv.\nIntuition: Styrk din intuition og evne til at forbinde dig med din indre visdom. \n\nOm foredragsholderen:\nKim Pedersen er en blændende foredragsholder og har arbejdet som medie i 25 år. Han har beskæftiget sig med en bred vifte af åndsvidenskabelige områder\, oprettet astrologiskolen Attitude Astrologi og Kabbalah skolen Qibel samt Meditation for Esoterisk Norden.\nSe nærmere på hjemmesiden: www.bkimpedersen.dk \n  \n  \n  \nID: 250913BKPkfyTFK \n#tarot \n 
URL:https://teosofiskforening.dk/begivenhed/tarot-akademi-2-v-kim-pedersen/
LOCATION:Teosofisk Forening København\, Sankt Knuds Vej 27A\, Frederiksberg C\, København\, 1903\, Danmark
CATEGORIES:Kursus
ATTACH;FMTTYPE=image/jpeg:https://teosofiskforening.dk/wp-content/uploads/2025/01/2025.05.1718-Illustration-tarot-320x214-1.jpg
GEO:55.677929;12.549129
X-APPLE-STRUCTURED-LOCATION;VALUE=URI;X-ADDRESS=Teosofisk Forening København Sankt Knuds Vej 27A Frederiksberg C København 1903 Danmark;X-APPLE-RADIUS=500;X-TITLE=Sankt Knuds Vej 27A:geo:12.549129,55.677929
END:VEVENT
END:VCALENDAR