BEGIN:VCALENDAR
VERSION:2.0
PRODID:-//Teosofisk Forening København - ECPv6.15.20//NONSGML v1.0//EN
CALSCALE:GREGORIAN
METHOD:PUBLISH
X-WR-CALNAME:Teosofisk Forening København
X-ORIGINAL-URL:https://teosofiskforening.dk
X-WR-CALDESC:Begivenheder for Teosofisk Forening København
REFRESH-INTERVAL;VALUE=DURATION:PT1H
X-Robots-Tag:noindex
X-PUBLISHED-TTL:PT1H
BEGIN:VTIMEZONE
TZID:Europe/Copenhagen
BEGIN:DAYLIGHT
TZOFFSETFROM:+0100
TZOFFSETTO:+0200
TZNAME:CEST
DTSTART:20240331T010000
END:DAYLIGHT
BEGIN:STANDARD
TZOFFSETFROM:+0200
TZOFFSETTO:+0100
TZNAME:CET
DTSTART:20241027T010000
END:STANDARD
BEGIN:DAYLIGHT
TZOFFSETFROM:+0100
TZOFFSETTO:+0200
TZNAME:CEST
DTSTART:20250330T010000
END:DAYLIGHT
BEGIN:STANDARD
TZOFFSETFROM:+0200
TZOFFSETTO:+0100
TZNAME:CET
DTSTART:20251026T010000
END:STANDARD
BEGIN:DAYLIGHT
TZOFFSETFROM:+0100
TZOFFSETTO:+0200
TZNAME:CEST
DTSTART:20260329T010000
END:DAYLIGHT
BEGIN:STANDARD
TZOFFSETFROM:+0200
TZOFFSETTO:+0100
TZNAME:CET
DTSTART:20261025T010000
END:STANDARD
END:VTIMEZONE
BEGIN:VEVENT
DTSTART;TZID=Europe/Copenhagen:20250826T190000
DTEND;TZID=Europe/Copenhagen:20250826T213000
DTSTAMP:20260423T105309
CREATED:20250609T122844Z
LAST-MODIFIED:20250823T104631Z
UID:10002260-1756234800-1756243800@teosofiskforening.dk
SUMMARY:Okkulte spor i et gammelt dobbeltmord - foredrag v/Suzanne Wowern Rasmussen
DESCRIPTION:Træd ind i en verden af mysterier\, rituelle symboler og et uopklaret dobbeltmord. \nI dette spændende to-timers foredrag dykker vi ned i et gammelt historisk dobbeltmord\, hvor sandsigersker og clairvoyante hjalp efterforskningen. \nVi gennemgår sagen trin for trin: fra det brutale fund\, over okkulte teorier og symbolik\, til de myter\, som medier og samfund vævede omkring forbrydelsen. \nPris: 90/120 kr. for medlemmer/gæster.\nBetaling: Beløbet betales ved indgangen. \n  \nSuzanne Wowern Rasmussen (f. 1957) er opvokset på Peter Bangs Vej 77 og har fra barnsben været fortrolig med myterne omkring Dobbeltmordet. Har skrevet bøger om Dobbeltmordet – Århundredets mordgåde i okkult belysning – og den helt nye Dobbeltmordet – en dramadokumentarisk billedreportage. \n  \n  \n  \n  \n  \n#okkultisme \n\nID: 250826SWRffnTFK
URL:https://teosofiskforening.dk/begivenhed/okkulte-spor-i-et-gammelt-dobbeltmord-foredrag-v-suzanne-wowern-rasmussen/
LOCATION:Teosofisk Forening København\, Sankt Knuds Vej 27A\, Frederiksberg C\, København\, 1903\, Danmark
CATEGORIES:Tirsdagsforedrag
ATTACH;FMTTYPE=image/jpeg:https://teosofiskforening.dk/wp-content/uploads/2025/06/2025.08.26-Suzanne-Wowen-Rasmussen-illustration-320x214-1.jpg
GEO:55.677929;12.549129
X-APPLE-STRUCTURED-LOCATION;VALUE=URI;X-ADDRESS=Teosofisk Forening København Sankt Knuds Vej 27A Frederiksberg C København 1903 Danmark;X-APPLE-RADIUS=500;X-TITLE=Sankt Knuds Vej 27A:geo:12.549129,55.677929
END:VEVENT
END:VCALENDAR