BEGIN:VCALENDAR
VERSION:2.0
PRODID:-//Teosofisk Forening København - ECPv6.15.20//NONSGML v1.0//EN
CALSCALE:GREGORIAN
METHOD:PUBLISH
X-WR-CALNAME:Teosofisk Forening København
X-ORIGINAL-URL:https://teosofiskforening.dk
X-WR-CALDESC:Begivenheder for Teosofisk Forening København
REFRESH-INTERVAL;VALUE=DURATION:PT1H
X-Robots-Tag:noindex
X-PUBLISHED-TTL:PT1H
BEGIN:VTIMEZONE
TZID:Europe/Copenhagen
BEGIN:DAYLIGHT
TZOFFSETFROM:+0100
TZOFFSETTO:+0200
TZNAME:CEST
DTSTART:20240331T010000
END:DAYLIGHT
BEGIN:STANDARD
TZOFFSETFROM:+0200
TZOFFSETTO:+0100
TZNAME:CET
DTSTART:20241027T010000
END:STANDARD
BEGIN:DAYLIGHT
TZOFFSETFROM:+0100
TZOFFSETTO:+0200
TZNAME:CEST
DTSTART:20250330T010000
END:DAYLIGHT
BEGIN:STANDARD
TZOFFSETFROM:+0200
TZOFFSETTO:+0100
TZNAME:CET
DTSTART:20251026T010000
END:STANDARD
BEGIN:DAYLIGHT
TZOFFSETFROM:+0100
TZOFFSETTO:+0200
TZNAME:CEST
DTSTART:20260329T010000
END:DAYLIGHT
BEGIN:STANDARD
TZOFFSETFROM:+0200
TZOFFSETTO:+0100
TZNAME:CET
DTSTART:20261025T010000
END:STANDARD
END:VTIMEZONE
BEGIN:VEVENT
DTSTART;TZID=Europe/Copenhagen:20250819T190000
DTEND;TZID=Europe/Copenhagen:20250819T213000
DTSTAMP:20260423T105151
CREATED:20250715T213213Z
LAST-MODIFIED:20250728T073501Z
UID:10002323-1755630000-1755639000@teosofiskforening.dk
SUMMARY:Derfor skaber du dit eget liv – med baggrund i kvantefysikken\, foredrag ved Henning R. Jensen
DESCRIPTION:Oplev et tankevækkende og livsændrende foredrag\, der giver en ny forståelse for det intelligente univers\, vi er en del af. \nCivilingeniør Henning R. Jensen forklarer i et enkelt sprog og med eksempler fra eget liv\, hvordan vi er skabere af vores eget liv via vores tanker\, følelser og overbevisninger\, fordi de skaber og udsender energi\, som påvirker os selv og vores omgivelser. \nKvantefysikken har vist os\, at enhver tanke udsender energi i form af elektromagnetiske bølger fra hjernen\, og tilsvarende udsender hjertet elektromagnetiske bølger for enhver følelse. Frekvensen af disse bølger afhænger af\, hvad vi tænker og føler. \n  \nNår du tænker positivt\, er taknemmelig\, føler kærlighed etc. så er frekvensen af bølgerne målbart højere\, end når du er desperat\, stresset eller i sorg. Dette har en afgørende betydning for dit helbred\, dit energiniveau og din evne til at lykkes. \nDisse bølger med information om hvad vi tænker og føler og hvordan vi har det\, afsættes som en unik vibration i det energifelt alting er opbygget af. Det er vores unikke DNA\, der giver os denne unikke bærebølge\, som afsættes som en unik vibration i kvantefeltet – et energifelt du kan sammenligne med et spindelvæv\, hvor enhver vibration forplanter sig øjeblikkeligt. \nDet forklarer\, hvorfor mor og spædbarn kan mærke hinanden uden at opholde sig i samme rum\, og hvordan enæggede tvillinger kan mærke hinanden\, selvom de befinder sig på hver sin side af jordkloden. Det forklarer også\, hvorfor du ”svinger” bedre med nogle mennesker end andre.      1/2 Samtidig er dit helbred styret af dine tanker og følelser\, fordi hjernen frigiver stoffer til kroppen ud fra din opfattelse af verden. \nI foredraget forklarer Henning også\, hvordan vi udnytter den viden\, kvantefysikken har givet os til at skabe et bedre liv. Et liv\, hvor vi hver især: – accepterer at alt er energi – er opmærksomme på\, at vi alle er forbundne – opnår balance mellem hjerne og hjerte (bevidsthed og underbevidsthed) – opnår balance mellem højre og venstre hjernehalvdele (feminine og maskuline energier). \nNår vi opnår balance indeni os selv\, kan vi skabe det liv\, vi ønsker\, fordi den energi\, vi udsender\, så svinger i takt – er kohærent – ligesom laserlys\, der er én stråle af lys\, der svinger ved én bestemt frekvens\, og hvor bølgerne har samme retning. Dette er grunden til\, at laserlys kan skære igennem centimeter tykke metalplader. På samme måde skal vi opnå maksimal styrke i den energi\, vi hver især udsender. Vi har derfor langt større kontrol over vores liv\, end vi normalt er opmærksomme på – vi er ikke ofre for livet\, men skabere af livet. \n  \nPris: 100/140 kr. for medlemmer/gæster. \nBemærk Max 75 deltagere \nBestil billet i god tid inden foredraget!\nLinket findes på ordrebekræftelsen i mailen man modtager\, når bestillingen er gennemført. \nTilmelding og Betaling – klik på Find billetter: \n\n \nLink til GUIDE – Bestil billet på Billetto\n  \n  \n \n  \n  \nHenning R. Jensen er foredragsholder og er uddannet civilingeniør fra DTU og Enterprise arkitekt med 22 års erfaring indenfor IT og forretningsudvikling. Som ingeniør er han trænet i at se tingene fra forskellige synsvinkler\, og han har altid haft lyst til at undersøge ting og forstå sammenhænge.\nkvantelivet.dk \n  \n  \n  \n  \n  \n  \n#kvantefysik \nID: 250819HJEffnTFK \n 
URL:https://teosofiskforening.dk/begivenhed/derfor-skaber-du-dit-eget-liv-med-baggrund-i-kvantefysikken-foredrag-ved-henning-r-jensen/
LOCATION:Teosofisk Forening København\, Sankt Knuds Vej 27A\, Frederiksberg C\, København\, 1903\, Danmark
CATEGORIES:Tirsdagsforedrag
ATTACH;FMTTYPE=image/jpeg:https://teosofiskforening.dk/wp-content/uploads/2025/07/2025.08.19-Henning-R.-Jensen-illustration-2-kopier-320x214-2-scaled.jpg
GEO:55.677929;12.549129
X-APPLE-STRUCTURED-LOCATION;VALUE=URI;X-ADDRESS=Teosofisk Forening København Sankt Knuds Vej 27A Frederiksberg C København 1903 Danmark;X-APPLE-RADIUS=500;X-TITLE=Sankt Knuds Vej 27A:geo:12.549129,55.677929
END:VEVENT
END:VCALENDAR