BEGIN:VCALENDAR
VERSION:2.0
PRODID:-//Teosofisk Forening København - ECPv6.15.20//NONSGML v1.0//EN
CALSCALE:GREGORIAN
METHOD:PUBLISH
X-ORIGINAL-URL:https://teosofiskforening.dk
X-WR-CALDESC:Begivenheder for Teosofisk Forening København
REFRESH-INTERVAL;VALUE=DURATION:PT1H
X-Robots-Tag:noindex
X-PUBLISHED-TTL:PT1H
BEGIN:VTIMEZONE
TZID:Europe/Copenhagen
BEGIN:DAYLIGHT
TZOFFSETFROM:+0100
TZOFFSETTO:+0200
TZNAME:CEST
DTSTART:20240331T010000
END:DAYLIGHT
BEGIN:STANDARD
TZOFFSETFROM:+0200
TZOFFSETTO:+0100
TZNAME:CET
DTSTART:20241027T010000
END:STANDARD
BEGIN:DAYLIGHT
TZOFFSETFROM:+0100
TZOFFSETTO:+0200
TZNAME:CEST
DTSTART:20250330T010000
END:DAYLIGHT
BEGIN:STANDARD
TZOFFSETFROM:+0200
TZOFFSETTO:+0100
TZNAME:CET
DTSTART:20251026T010000
END:STANDARD
BEGIN:DAYLIGHT
TZOFFSETFROM:+0100
TZOFFSETTO:+0200
TZNAME:CEST
DTSTART:20260329T010000
END:DAYLIGHT
BEGIN:STANDARD
TZOFFSETFROM:+0200
TZOFFSETTO:+0100
TZNAME:CET
DTSTART:20261025T010000
END:STANDARD
END:VTIMEZONE
BEGIN:VEVENT
DTSTART;TZID=Europe/Copenhagen:20250603T190000
DTEND;TZID=Europe/Copenhagen:20250603T213000
DTSTAMP:20260424T093357
CREATED:20250304T142205Z
LAST-MODIFIED:20250304T143448Z
UID:10002255-1748977200-1748986200@teosofiskforening.dk
SUMMARY:Arkitektens skjulte budskab på Københavns Rådhus - foredrag v/ Kristoffer Ruth Sahlholt
DESCRIPTION:Københavns Rådhus gemmer på skjulte symboler og skjulte vidensformer udført af arkitekt Nyrup\, der har brugt de gamle arkitekters metode til gennem bygningens udformning og udsmykning at vise en masse skjult og overraskende viden. \n\n\nGennem foredraget føres vi gennem rum og trapper mens foredragsholderen Kristoffer Ruth Sahlholt levende fortæller om bygningens symboler og udsmykning. Foredraget giver os indblik i\, hvordan kunstnere\, frimurere og arkitekter har formidlet den gamle visdom gennem deres symbolske sprog. Den gamle viden og visdom\, som nutidens mennesker kan have svært ved at få øje på\, blev dengang billedgjort i udsmykninger\, tegn og symboler placeret rundt om i Rådhuset; på trapper\, gelændere\, måder at placere vinduer og døre på – alle steder træder de frem med budskaber til dem der har indsigt og øjne. Glæd dig til et meget informativt foredrag. \n\n\n  \nPris: 90/120 kr. for medlemmer/gæster.\nBetaling: Beløbet betales ved indgangen. \nDet er muligt at deltage online. Betal ved at klikke på Find billetter: \n \n\n\n  \nLink til Guide: Bestil billet på Billetto \n  \n  \n \nKristoffer Ruth Sahlholt. har været rundviser og rådhus betjent gennem mange år på Københavnsrådhus.\nHan har tidligere en baggrund i kunsten. \n  \n#symboler \nID: 250603KRSffnTFK \n 
URL:https://teosofiskforening.dk/begivenhed/arkitektens-skjulte-budskab-paa-koebenhnavns-raadhus-foredrag-v-kristoffer-ruth-sahlholt/
LOCATION:Teosofisk Forening København\, Sankt Knuds Vej 27A\, Frederiksberg C\, København\, 1903\, Danmark
CATEGORIES:Tirsdagsforedrag
ATTACH;FMTTYPE=image/jpeg:https://teosofiskforening.dk/wp-content/uploads/2025/03/2025.06.03-Kristoffer-Ruth-Sahlholt-320x214-1.jpg
GEO:55.677929;12.549129
X-APPLE-STRUCTURED-LOCATION;VALUE=URI;X-ADDRESS=Teosofisk Forening København Sankt Knuds Vej 27A Frederiksberg C København 1903 Danmark;X-APPLE-RADIUS=500;X-TITLE=Sankt Knuds Vej 27A:geo:12.549129,55.677929
END:VEVENT
END:VCALENDAR