BEGIN:VCALENDAR
VERSION:2.0
PRODID:-//Teosofisk Forening København - ECPv6.15.20//NONSGML v1.0//EN
CALSCALE:GREGORIAN
METHOD:PUBLISH
X-ORIGINAL-URL:https://teosofiskforening.dk
X-WR-CALDESC:Begivenheder for Teosofisk Forening København
REFRESH-INTERVAL;VALUE=DURATION:PT1H
X-Robots-Tag:noindex
X-PUBLISHED-TTL:PT1H
BEGIN:VTIMEZONE
TZID:Europe/Copenhagen
BEGIN:DAYLIGHT
TZOFFSETFROM:+0100
TZOFFSETTO:+0200
TZNAME:CEST
DTSTART:20240331T010000
END:DAYLIGHT
BEGIN:STANDARD
TZOFFSETFROM:+0200
TZOFFSETTO:+0100
TZNAME:CET
DTSTART:20241027T010000
END:STANDARD
BEGIN:DAYLIGHT
TZOFFSETFROM:+0100
TZOFFSETTO:+0200
TZNAME:CEST
DTSTART:20250330T010000
END:DAYLIGHT
BEGIN:STANDARD
TZOFFSETFROM:+0200
TZOFFSETTO:+0100
TZNAME:CET
DTSTART:20251026T010000
END:STANDARD
BEGIN:DAYLIGHT
TZOFFSETFROM:+0100
TZOFFSETTO:+0200
TZNAME:CEST
DTSTART:20260329T010000
END:DAYLIGHT
BEGIN:STANDARD
TZOFFSETFROM:+0200
TZOFFSETTO:+0100
TZNAME:CET
DTSTART:20261025T010000
END:STANDARD
END:VTIMEZONE
BEGIN:VEVENT
DTSTART;TZID=Europe/Copenhagen:20250412T100000
DTEND;TZID=Europe/Copenhagen:20250412T160000
DTSTAMP:20260424T050039
CREATED:20250122T190608Z
LAST-MODIFIED:20250407T105636Z
UID:10002195-1744452000-1744473600@teosofiskforening.dk
SUMMARY:SJÆLSREJSE I STARGATENS 12-DIMENSIONELLE ENERGI\, workshop ved Grete Elfrida Tranberg
DESCRIPTION:Oplev en dyb transformation og energetisk opvågning i en kraftfuld workshop med kanaliserede meditationer og indre rejser. Træd ind i en verden af højere bevidsthed\, hvor du gennem Stargatens 12-dimensionelle energi guides til at udforske og transformere din sjæl på dybt plan.  \n  \nPris: Kr. 600/ 750 for medlemmer/gæster.\nI prisen indgår kaffe\, the og lette traktementer. Frokosten sørger man selv for. \nTilmelding og Betaling til kurset – klik på Find billetter:\n\n\n\nGennem Stargatens 12-dimensionelle energi åbner du dig for universel visdom og indsigt\, som støtter dig i at frigøre energetiske blokeringer og leve i overensstemmelse med dit højeste selv.\nStargaten er en kanaliseret geometrisk figur der hjælper med at åbne din bevidsthed for højere dimensioner\, hvor du oplever en dybere forbindelse til dit autentiske væsen. \nUnder denne workshop inviteres du til at dykke ned i tidligere liv og karmiske relationer\, hvor du kan forløse gamle mønstre og bånd\, slippe tunge energier og finde dyb tilgivelse. Gennem kanaliserede meditationer får du støtte fra engle og mestre\, der hjælper dig med at hente indsigt og healing til dit nuværende liv. \nKom og lad dig forvandle – giv dig selv muligheden for at opdage en dybere spirituel dimension af dig selv! \n \nGrete Elfrida Tranberg har 15 års erfaring som spirituelt medie og arbejder med kanalisering og healing som et samarbejde med energien. Hun åbner sig og lader energien strømme frit gennem sig for at formidle budskaber til dem\, der søger spirituel indsigt og udvikling. \n  \n#meditation \nID: 250412GTRkfyTFK \n 
URL:https://teosofiskforening.dk/begivenhed/sjaelsrejse-i-stargatens-12-dimensionelle-energi-workshop-ved-grete-elfrida-tranberg/
LOCATION:Teosofisk Forening København\, Sankt Knuds Vej 27A\, Frederiksberg C\, København\, 1903\, Danmark
CATEGORIES:Kursus,Workshop
ATTACH;FMTTYPE=image/jpeg:https://teosofiskforening.dk/wp-content/uploads/2024/05/2024.08.27-Grete-Elfrida-Tranberg_Stargate-320x214-1.jpg
GEO:55.677929;12.549129
X-APPLE-STRUCTURED-LOCATION;VALUE=URI;X-ADDRESS=Teosofisk Forening København Sankt Knuds Vej 27A Frederiksberg C København 1903 Danmark;X-APPLE-RADIUS=500;X-TITLE=Sankt Knuds Vej 27A:geo:12.549129,55.677929
END:VEVENT
END:VCALENDAR