BEGIN:VCALENDAR
VERSION:2.0
PRODID:-//Teosofisk Forening København - ECPv6.15.20//NONSGML v1.0//EN
CALSCALE:GREGORIAN
METHOD:PUBLISH
X-ORIGINAL-URL:https://teosofiskforening.dk
X-WR-CALDESC:Begivenheder for Teosofisk Forening København
REFRESH-INTERVAL;VALUE=DURATION:PT1H
X-Robots-Tag:noindex
X-PUBLISHED-TTL:PT1H
BEGIN:VTIMEZONE
TZID:Europe/Copenhagen
BEGIN:DAYLIGHT
TZOFFSETFROM:+0100
TZOFFSETTO:+0200
TZNAME:CEST
DTSTART:20240331T010000
END:DAYLIGHT
BEGIN:STANDARD
TZOFFSETFROM:+0200
TZOFFSETTO:+0100
TZNAME:CET
DTSTART:20241027T010000
END:STANDARD
BEGIN:DAYLIGHT
TZOFFSETFROM:+0100
TZOFFSETTO:+0200
TZNAME:CEST
DTSTART:20250330T010000
END:DAYLIGHT
BEGIN:STANDARD
TZOFFSETFROM:+0200
TZOFFSETTO:+0100
TZNAME:CET
DTSTART:20251026T010000
END:STANDARD
BEGIN:DAYLIGHT
TZOFFSETFROM:+0100
TZOFFSETTO:+0200
TZNAME:CEST
DTSTART:20260329T010000
END:DAYLIGHT
BEGIN:STANDARD
TZOFFSETFROM:+0200
TZOFFSETTO:+0100
TZNAME:CET
DTSTART:20261025T010000
END:STANDARD
END:VTIMEZONE
BEGIN:VEVENT
DTSTART;TZID=Europe/Copenhagen:20250329T100000
DTEND;TZID=Europe/Copenhagen:20250330T163000
DTSTAMP:20260425T174822
CREATED:20250117T211518Z
LAST-MODIFIED:20250329T142554Z
UID:10002184-1743242400-1743352200@teosofiskforening.dk
SUMMARY:”Forstå den spirituelle verden” TEOSOFI – DEN TIDLØSE VISDOM #3\, kursusforløb ved Lene Pape
DESCRIPTION:Kursusrække med 4 weekender ved Lene Pape\n1. weekend: Lørdag den 18. Januar  og søndag den 19. Januar 2025 kl. 10.00 – 16.30\n2. weekend: Lørdag den 15. Februar og søndag den 16. Februar 2025 kl. 10.00 – 16.30\n3. weekend: Lørdag den 29. Marts og søndag den 30. Marts 2025 kl. 10.00 – 16.30\n4. weekend:  Lørdag den 26. April og søndag den 27. April 2025 kl. 10.00 – 16.30 \n  \nPris: Kr. 750/ 950 pr. weekend for medlemmer/gæster.\nI prisen indgår kaffe\, the og lette traktementer. Frokosten sørger man selv for. \nTilmelding og Betaling til tredie weekend – klik på Find billetter: \n\n \nLink til GUIDE – Bestil billet på Billetto \n  \nVed framelding tilbageholdes 100 kr. til administration.\nBemærk: Din plads er først reserveret\, når beløbet er modtaget. \nDette er den tredie weekend\, hvor vi håber\, at disse weekender kan bringe os i en dybere kontakt med den tidløse visdom. Ved at dykke ned i disse 18 temaer i teosofien\, vil vi bygge et grundlag\, som du kan gøre brug af og tage med ind i andre åndsvidenskabelige temaer. \nUnder kurset benytter vi mystikken fra kristendommen\, jødedommen\, buddhismen og hinduismen som informationskilder. Vi høster viden fra Østens\, Ægyptens og Vestens kulturhistorie og filosofier og tager udgangspunkt i åndsvidenskaben\, som den er formuleret af de teosofiske pionerer og nutidige lærer. Vi kommer til at bruge litteratur af Martinus\, Rudolf Steiner\, Alice A. Bailey\, Lucille Cedercrans\, Asger Lorentsen\, J.J. Hurtak med flere. \nKurset er bygget på natur- og religionsvidenskab samt symbollære.\nVær med til at skabe en god oplevelse\, at få åndelig dybde\, mening og skønhed ind i din bevidsthed\, og at se din verden fra en ny vinkel.\nDer vil være meditationer indlagt i forløbet. \nDer kræves ingen forudsætninger for at deltage i kurset. \n\n  \n\n\nPROGRAM\n\n\n\n\nLørdag d. 29. marts – 10:00 – 16:30 \nSøndag d. 30. marts – 10:00 – 16:30\n\n\nDen kristne religions opgave: Dåben\, konfirmationen og vielsen. Religionens indre betydning\, vi kommer til at bruge nogle af deres symboler til at forklare dem i relation til Teosofien.\nHealing: Hvordan kan healing hjælpe os? Her kommer vi til at bruge noget fra den teosofiske astrologi og de indre healingstempler.\nHvor kommer vore drømme fra? Hvordan kan vi lære at fortolke vores natlige oplevelser? Her kommer vi tilbage til forståelsen af vores virke i vores øvrige legemer.\nKosmologi: Skabelsen af solsystemet.\nJordklodens forskellige inkarnationer og videre udvikling. Modstandskræfter: Er det onde en realitet eller en myte? Og hvis det findes\, hvor kommer det fra?\nDen indre verdens styrelse: Shamballa\, Hierarkiet og Mestrene. Vi ser på den teosofiske kabbalah og livets træ.\nLysbilledforedrag: Engle og deres hierarki – hvad ved vi om dem?\n\n\n\n\n\nHele programmet kan hentes her.\n\n\n\n\nOm Lene Pape:\nForedragsholderen har gennem mange år arbejdet og interesseret sig for den indre side af livet. Studeret mange forskellige traditioner\, der beskriver den sjælelige og åndelige side af Verden. Oplevet mange spændende energifyldte åndelige steder i Europa på lys/energi rejser. Er fortrolig med ritual arbejde gennem mange år i forskellige grupper og loger samt en barndom med glæde for kirke ritualer. Underviser og foredragsholder\, blandt andet i Esoterisk astrologi\, Herkules myte forståelse\, englehierakier\, menneskets indvielses rejse\, menneskets kultur historie\, den skjulte visdom\, m.v. samtgrundforståelse af Teosofi. \n\n#teosofi \nID: 250329LPPkfyTFK \n 
URL:https://teosofiskforening.dk/begivenhed/forstaa-den-spirituelle-verden-teosofi-den-tidloese-visdom-3-kursusforloeb-ved-lene-pape/
LOCATION:Teosofisk Forening København\, Sankt Knuds Vej 27A\, Frederiksberg C\, København\, 1903\, Danmark
CATEGORIES:Kursus,Studieforløb
ATTACH;FMTTYPE=image/jpeg:https://teosofiskforening.dk/wp-content/uploads/2024/10/2025.01.18-19-Illustration-Lene-Pape-320x210-1.jpg
GEO:55.677929;12.549129
X-APPLE-STRUCTURED-LOCATION;VALUE=URI;X-ADDRESS=Teosofisk Forening København Sankt Knuds Vej 27A Frederiksberg C København 1903 Danmark;X-APPLE-RADIUS=500;X-TITLE=Sankt Knuds Vej 27A:geo:12.549129,55.677929
END:VEVENT
END:VCALENDAR