BEGIN:VCALENDAR
VERSION:2.0
PRODID:-//Teosofisk Forening København - ECPv6.15.20//NONSGML v1.0//EN
CALSCALE:GREGORIAN
METHOD:PUBLISH
X-ORIGINAL-URL:https://teosofiskforening.dk
X-WR-CALDESC:Begivenheder for Teosofisk Forening København
REFRESH-INTERVAL;VALUE=DURATION:PT1H
X-Robots-Tag:noindex
X-PUBLISHED-TTL:PT1H
BEGIN:VTIMEZONE
TZID:Europe/Copenhagen
BEGIN:DAYLIGHT
TZOFFSETFROM:+0100
TZOFFSETTO:+0200
TZNAME:CEST
DTSTART:20240331T010000
END:DAYLIGHT
BEGIN:STANDARD
TZOFFSETFROM:+0200
TZOFFSETTO:+0100
TZNAME:CET
DTSTART:20241027T010000
END:STANDARD
BEGIN:DAYLIGHT
TZOFFSETFROM:+0100
TZOFFSETTO:+0200
TZNAME:CEST
DTSTART:20250330T010000
END:DAYLIGHT
BEGIN:STANDARD
TZOFFSETFROM:+0200
TZOFFSETTO:+0100
TZNAME:CET
DTSTART:20251026T010000
END:STANDARD
BEGIN:DAYLIGHT
TZOFFSETFROM:+0100
TZOFFSETTO:+0200
TZNAME:CEST
DTSTART:20260329T010000
END:DAYLIGHT
BEGIN:STANDARD
TZOFFSETFROM:+0200
TZOFFSETTO:+0100
TZNAME:CET
DTSTART:20261025T010000
END:STANDARD
END:VTIMEZONE
BEGIN:VEVENT
DTSTART;TZID=Europe/Copenhagen:20250322T100000
DTEND;TZID=Europe/Copenhagen:20250322T170000
DTSTAMP:20260425T185923
CREATED:20250116T184916Z
LAST-MODIFIED:20250316T224207Z
UID:10002182-1742637600-1742662800@teosofiskforening.dk
SUMMARY:REJSEN IND TIL SJÆLENS KERNE\, Workshop ved Merete Gundersen
DESCRIPTION:Workshop med Merete Gundersen\, hvor du kommer tæt på din sjæls kerne og møder dig selv igennem dit sjælslys\, så du efterfølgende kan træde fornyet ud i livet.\nDette vil gøres i løbet af dagen gennem teori\, meditationer og visualiseringer. \n  \nPris: Kr. 1000/1200 for medlemmer/gæster.\nI prisen indgår kaffe\, the og lette traktementer. Frokosten sørger man selv for. \nTilmelding og Betaling til kurset – klik på Find billetter: \n\n \n  \nNår sjælen overstråler det egoistiske ego\, er du på vej mod dit sande jeg. Du vil komme i besiddelse af dine ”super kræfter” fra hjertet\, som vil overstråle dine tanker\, dine følelser og dine visioner og handlinger.\nHele dit jeg bliver forfinet; din etik vil nå nye højder\, og du agerer i verdenen med Den Spirituelle Intelligens. Din evne til at filosofere og trække viden fra højere væsner vil vokse til nye højder. \nFor at du kan komme tæt ind til sjælens kerne i dit liv\, skal du være villig til at arbejde med dine dyder\, med din evne til selvreflektion\, dine spirituelle evner og dine filosofiske rammer.\nUndervejs på kurset inddrages teoretiske/spirituelle oplæg for at anskueliggøre hvordan Den Spirituelle Intelligens viser vejen til din sjælskontakt. \nDesuden vil vi i løbet af dagen\, gennem meditationer og visualiseringer i større og mindre grupper\, bevidstgøre og forvandle hvad der står i vejen for din udfoldelse af sjælens vibrerende lys.\nAfslutningsvis vil den sidste meditation stile mod du kan se eller mærke den sjælsgnist\, du er født ind på jorden med\, som du efterfølgende kan forbinde dig med. \nSåledes kan du blive i stand til at løfte dig selv og din bevidsthed mod det højeste gode.\nPå glædeligt gensyn i kærlig samklang. Merete Gundersen \n  \n \nMerete Gundersen har 30 års erfaring bag sig som en anerkendt psykospirituel terapeut\, mentor\,supervisor og underviser. Hun er landskendt for foredrag og workshops samt sine bøger\, f.eks. “Det spirituelle Menneske”\, og sine meditations CD’er.\nSe yderligere: www.meretegundersen.dk \n#sjæl \n  \nID: 250322MGUkfyTFK \n 
URL:https://teosofiskforening.dk/begivenhed/rejsen-ind-til-sjaelens-kerne-workshop-ved-merete-gundersen/
LOCATION:Teosofisk Forening København\, Sankt Knuds Vej 27A\, Frederiksberg C\, København\, 1903\, Danmark
CATEGORIES:Kursus,Workshop
ATTACH;FMTTYPE=image/jpeg:https://teosofiskforening.dk/wp-content/uploads/2025/02/2025.03.22-Merete-Gundersen-illustration-320x214-1.jpg
GEO:55.677929;12.549129
X-APPLE-STRUCTURED-LOCATION;VALUE=URI;X-ADDRESS=Teosofisk Forening København Sankt Knuds Vej 27A Frederiksberg C København 1903 Danmark;X-APPLE-RADIUS=500;X-TITLE=Sankt Knuds Vej 27A:geo:12.549129,55.677929
END:VEVENT
END:VCALENDAR