BEGIN:VCALENDAR
VERSION:2.0
PRODID:-//Teosofisk Forening København - ECPv6.15.20//NONSGML v1.0//EN
CALSCALE:GREGORIAN
METHOD:PUBLISH
X-ORIGINAL-URL:https://teosofiskforening.dk
X-WR-CALDESC:Begivenheder for Teosofisk Forening København
REFRESH-INTERVAL;VALUE=DURATION:PT1H
X-Robots-Tag:noindex
X-PUBLISHED-TTL:PT1H
BEGIN:VTIMEZONE
TZID:Europe/Copenhagen
BEGIN:DAYLIGHT
TZOFFSETFROM:+0100
TZOFFSETTO:+0200
TZNAME:CEST
DTSTART:20240331T010000
END:DAYLIGHT
BEGIN:STANDARD
TZOFFSETFROM:+0200
TZOFFSETTO:+0100
TZNAME:CET
DTSTART:20241027T010000
END:STANDARD
BEGIN:DAYLIGHT
TZOFFSETFROM:+0100
TZOFFSETTO:+0200
TZNAME:CEST
DTSTART:20250330T010000
END:DAYLIGHT
BEGIN:STANDARD
TZOFFSETFROM:+0200
TZOFFSETTO:+0100
TZNAME:CET
DTSTART:20251026T010000
END:STANDARD
BEGIN:DAYLIGHT
TZOFFSETFROM:+0100
TZOFFSETTO:+0200
TZNAME:CEST
DTSTART:20260329T010000
END:DAYLIGHT
BEGIN:STANDARD
TZOFFSETFROM:+0200
TZOFFSETTO:+0100
TZNAME:CET
DTSTART:20261025T010000
END:STANDARD
END:VTIMEZONE
BEGIN:VEVENT
DTSTART;TZID=Europe/Copenhagen:20250317T170000
DTEND;TZID=Europe/Copenhagen:20250317T174500
DTSTAMP:20260425T135250
CREATED:20240911T210511Z
LAST-MODIFIED:20250216T195911Z
UID:10001802-1742230800-1742233500@teosofiskforening.dk
SUMMARY:Den Indre Sol – Holistisk motion (før foredrag)
DESCRIPTION:Gør noget godt for dig selv!\nGør noget godt for din krop\, psyke og ånd! \nQi gong\, åndedræt og lyd\nTidspunkt: Kl. 17:00 – 17:45 (inden Foredrag\, kanalisering og meditation) \nSted: TFK’s lokaler på Frederiksberg\nPris pr. gang: 25 kr.\nDer er ingen tilmelding – bare kom og vær med! \n  \nQi gong – En kinesisk bevægelseskunst\nKinesisk bevægelse til stille rytmisk musik\nLangsom bevægelse med bevidst åndedræt\, hvor krop\, psyke og ånd forenes\, og som herigennem bliver til en aktiv form for meditation i samklang med musikken. Qi gong er en kinesisk bevægelsesform\, som består af stille bevægelse samtidig med et bevidst åndedræt\, og dette skaber en aktiv form for meditation\, der giver både motion\, jordforbindelse og mulighed for at komme i en meditativ tilstand. Qi gong\, er forløberen for Tai Chi og den bliver brugt som forebyggende behandling og behandling på kinesiske hospitaler. Så det er både sundt og åndeligt udviklende at praktisere Qi gong. \nÅndedræt\, mantrasang og lyd på chakraerne\nHjerteåndedræt\, bijamantraer og tonesang på de 7 hovedchakraer\nNår vi laver hjerteåndedræt på chakraerne\, bliver chakraerne åbnet. Når vi synger Bija mantraer på chakraerne får vi en god kontakt med chakraerne gennem kroppen. Og når vi synger tonesang på chakraerne\, bliver chakraerne aktiveret\, renset\, balanceret og healet. \n  \n \nDen Indre Sol: Ziadria og Michael\nEmail: denindresol@gmail.com\ntlf. 61330508 \n  \n 
URL:https://teosofiskforening.dk/begivenhed/den-indre-sol-holistisk-motion-foer-foredrag/2025-03-17/
LOCATION:Teosofisk Forening København\, Sankt Knuds Vej 27A\, Frederiksberg C\, København\, 1903\, Danmark
CATEGORIES:Lukket gruppe
ATTACH;FMTTYPE=image/png:https://teosofiskforening.dk/wp-content/uploads/2024/06/Den-Indre-Sol-Holistisk-motion.png
GEO:55.677929;12.549129
X-APPLE-STRUCTURED-LOCATION;VALUE=URI;X-ADDRESS=Teosofisk Forening København Sankt Knuds Vej 27A Frederiksberg C København 1903 Danmark;X-APPLE-RADIUS=500;X-TITLE=Sankt Knuds Vej 27A:geo:12.549129,55.677929
END:VEVENT
BEGIN:VEVENT
DTSTART;TZID=Europe/Copenhagen:20250317T180000
DTEND;TZID=Europe/Copenhagen:20250317T200000
DTSTAMP:20260425T135250
CREATED:20241201T182419Z
LAST-MODIFIED:20241201T182419Z
UID:10001820-1742234400-1742241600@teosofiskforening.dk
SUMMARY:12.-13. stråle\, HELLIGÅNDEN\, GRALSGUDINDEN OG DEN FEMININE KÆRLIGHED\, foredrag\, kanalisering og meditation ved Den Indre Sol 
DESCRIPTION:Inden foredraget er der Holistisk Motion ved den Indre Sol:\nQi gong og åndedræt og lyd på chakraerne kl. 17-17.45.\nBetaling: 25 kr.\nSe nærmere beskrivelse: link \n  \n\nFader-Moder Gud\, Det Åndelige Hierarki og Den Guddommelige Dimension – Helligånden og Den Feminine og Den Maskuline kærlighedsstrøm\nHvad er Helligånden og hvordan kan du blive forenet med Helligånden og udstrømmer af Helligåndens kærlighedsstrøm?\nHvem er Gralsgudinden fra Avalon?\nHvorfor er Den Feminine Kærlighedsstrøm så vigtig i denne tid?\n\n  \nKom og vær med til at styrke lyset på Jorden og vær med til at lave en lysindstrømning i Teosofisk Forening. \n  \nOVERORDNET TEMA – 12 MANDAGE (se nedenfor)  \nHjertets vej – Åndelig udvikling i Den Nye Tid\nCentrale temaer på Den Nye Tids Åndelige Udviklingsvej  \n Entré: 50 kr. for medlemmer og 100 kr\, for gæster\nTilmelding: Ingen tilmelding – bare kom – alle er velkomne \n  \n  \n \n\nDen Indre Sol: Ziadria og Michael\nEmail: denindresol@gmail.com\ntlf. 61330508 \n  \nMandag 15/4 2024 – 1. stråle\, Den Guddommelige Vilje og Påskens Kærlighedsstrøm  \nMandag 13/5 2024 – 2. stråle\, Den Guddommelige Kærlighed og Pinsens kærlighedsstrøm  \nMandag 10/6 2024 – 3. stråle\, Hjertets Kommunikation\, kanalisering og clairvoyance  \nMandag 15/7 2024 – 4. stråle\, Den Nødvendige smerte – Harmoni gennem konflikt  \nMandag 26/8 2024 – 5. stråle\, Kend dig selv – og bliv integreret med din Sjæl og Solengel  \nMandag 23/9 2024 – 6. stråle\, Den Religiøse Dimension og Ny Tids Spirituel religiøsitet  \nMandag 21/10 2024 – 7. stråle\, Det Spirituelle menneske og Den Nye Tids Verdensborger  \nMandag 18/11 2024 – 8. stråle\, Jordens lysarbejdere og deres livsopgaver  \nMandag 9/12 2024 – 9.stråle\, Den Spirituelle Jul og De Kosmiske Indvielser i Den Nye Tid  \nMandag 20/1 2025 -10. stråle\, Kosmisk Bevidsthed og Den Store Stilhed  \nMandag 17/2 2025 – 11. stråle\, Det Karmiske Råd og Den Karmiske Lov i Den Nye Tid  \nMandag 17/3 2025 – 12.-13 stråle\, Helligånden\, Gralsgudinden og Den Feminine Kærlighed  \n  \n  \n  \nID: 250317DISffn \n\n\n\n\n 
URL:https://teosofiskforening.dk/begivenhed/12-13-straale-helligaanden-gralsgudinden-og-den-feminine-kaerlighed-foredrag-kanalisering-og-meditation-ved-den-indre-sol/
LOCATION:Teosofisk Forening København\, Sankt Knuds Vej 27A\, Frederiksberg C\, København\, 1903\, Danmark
CATEGORIES:Lukket gruppe,Tirsdagsforedrag
ATTACH;FMTTYPE=image/jpeg:https://teosofiskforening.dk/wp-content/uploads/2024/06/2023.04.14-DEN-INDRE-SOL-320x214-1.jpg
GEO:55.677929;12.549129
X-APPLE-STRUCTURED-LOCATION;VALUE=URI;X-ADDRESS=Teosofisk Forening København Sankt Knuds Vej 27A Frederiksberg C København 1903 Danmark;X-APPLE-RADIUS=500;X-TITLE=Sankt Knuds Vej 27A:geo:12.549129,55.677929
END:VEVENT
END:VCALENDAR